{"text_format":"3","workbook":"xlsx","n_sheets":3,"sheets":["גיליון1","גיליון2","גיליון3"],"not_rendered":{"charts":1},"read":"whole","date_system":"1900"}

{"sheet":"גיליון1","index":0,"n_rows":84,"n_cols":9,"rows_kept":84}
["רשימה","קולות","הסכמי עודפים","חלוקת מנדטים","ללא הסכמי עודפים","לפני באדר-עופר","אחוז החסימה","מנדטים","מודד למנדט"]
["הבית היהודי",254663,1,{"$f":"גיליון2!BC2","v":8},{"$f":"גיליון2!AT102","v":8},{"$f":"גיליון2!AT52","v":8},0.0325,120,{"$f":"גיליון2!E2","v":31895.958333333332}]
["הליכוד",924766,2,{"$f":"גיליון2!BC3","v":29},{"$f":"גיליון2!AT103","v":29},{"$f":"גיליון2!AT53","v":29},{"$f":"גיליון1!B40*G2","v":129572.7875}]
["יש עתיד",348802,0,{"$f":"גיליון2!BC4","v":11},{"$f":"גיליון2!AT104","v":11},{"$f":"גיליון2!AT54","v":11}]
["המחנה הציוני",744673,1,{"$f":"גיליון2!BC5","v":24},{"$f":"גיליון2!AT105","v":24},{"$f":"גיליון2!AT55","v":23}]
["מרץ",154648,2,{"$f":"גיליון2!BC6","v":4},{"$f":"גיליון2!AT106","v":5},{"$f":"גיליון2!AT56","v":5}]
["רעם",463532,0,{"$f":"גיליון2!BC7","v":14},{"$f":"גיליון2!AT107","v":15},{"$f":"גיליון2!AT57","v":15}]
["יחד",118368,0,{"$f":"גיליון2!BC8","v":0},{"$f":"גיליון2!AT108","v":0},{"$f":"גיליון2!AT58","v":0}]
["יהדות התורה",205551,1,{"$f":"גיליון2!BC9","v":7},{"$f":"גיליון2!AT109","v":6},{"$f":"גיליון2!AT59","v":6}]
["שס",230735,2,{"$f":"גיליון2!BC10","v":7},{"$f":"גיליון2!AT110","v":7},{"$f":"גיליון2!AT60","v":7}]
["כחלון",294526,1,{"$f":"גיליון2!BC11","v":10},{"$f":"גיליון2!AT111","v":9},{"$f":"גיליון2!AT61","v":9}]
["ישראל ביתנו",205619,2,{"$f":"גיליון2!BC12","v":6},{"$f":"גיליון2!AT112","v":6},{"$f":"גיליון2!AT62","v":7}]
["עלה ירוק - הרשימה הליברלית",38624,0,{"$f":"גיליון2!BC13","v":0},{"$f":"גיליון2!AT113","v":0},{"$f":"גיליון2!AT63","v":0}]
["כולנו חברים נ נח",2348,null,{"$f":"גיליון2!BC14","v":0},{"$f":"גיליון2!AT114","v":0},{"$f":"גיליון2!AT64","v":0}]
[0,null,1,{"$f":"גיליון2!BC15","v":0},{"$f":"גיליון2!AT115","v":0},{"$f":"גיליון2!AT65","v":0}]
[0,null,2,{"$f":"גיליון2!BC16","v":0},{"$f":"גיליון2!AT116","v":0},{"$f":"גיליון2!AT66","v":0}]
[0,null,1,{"$f":"גיליון2!BC17","v":0},{"$f":"גיליון2!AT117","v":0},{"$f":"גיליון2!AT67","v":0}]
[0,null,2,{"$f":"גיליון2!BC18","v":0},{"$f":"גיליון2!AT118","v":0},{"$f":"גיליון2!AT68","v":0}]
[0,null,null,{"$f":"גיליון2!BC19","v":0},{"$f":"גיליון2!AT119","v":0},{"$f":"גיליון2!AT69","v":0}]
[0,null,1,{"$f":"גיליון2!BC20","v":0},{"$f":"גיליון2!AT120","v":0},{"$f":"גיליון2!AT70","v":0}]
[0,null,2,{"$f":"גיליון2!BC21","v":0},{"$f":"גיליון2!AT121","v":0},{"$f":"גיליון2!AT71","v":0}]
[0,null,null,{"$f":"גיליון2!BC22","v":0},{"$f":"גיליון2!AT122","v":0},{"$f":"גיליון2!AT72","v":0}]
[0,null,null,{"$f":"גיליון2!BC23","v":0},{"$f":"גיליון2!AT123","v":0},{"$f":"גיליון2!AT73","v":0}]
[0,null,null,{"$f":"גיליון2!BC24","v":0},{"$f":"גיליון2!AT124","v":0},{"$f":"גיליון2!AT74","v":0}]
[0,null,null,{"$f":"גיליון2!BC25","v":0},{"$f":"גיליון2!AT125","v":0},{"$f":"גיליון2!AT75","v":0}]
[0,null,null,{"$f":"גיליון2!BC26","v":0},{"$f":"גיליון2!AT126","v":0},{"$f":"גיליון2!AT76","v":0}]
[0,null,null,{"$f":"גיליון2!BC27","v":0},{"$f":"גיליון2!AT127","v":0},{"$f":"גיליון2!AT77","v":0}]
[0,null,null,{"$f":"גיליון2!BC28","v":0},{"$f":"גיליון2!AT128","v":0},{"$f":"גיליון2!AT78","v":0}]
[0,null,null,{"$f":"גיליון2!BC29","v":0},{"$f":"גיליון2!AT129","v":0},{"$f":"גיליון2!AT79","v":0}]
[0,null,null,{"$f":"גיליון2!BC30","v":0},{"$f":"גיליון2!AT130","v":0},{"$f":"גיליון2!AT80","v":0}]
[0,null,null,{"$f":"גיליון2!BC31","v":0},{"$f":"גיליון2!AT131","v":0},{"$f":"גיליון2!AT81","v":0}]
[0,null,null,{"$f":"גיליון2!BC32","v":0},{"$f":"גיליון2!AT132","v":0},{"$f":"גיליון2!AT82","v":0}]
[0,null,null,{"$f":"גיליון2!BC33","v":0},{"$f":"גיליון2!AT133","v":0},{"$f":"גיליון2!AT83","v":0}]
[0,null,null,{"$f":"גיליון2!BC34","v":0},{"$f":"גיליון2!AT134","v":0},{"$f":"גיליון2!AT84","v":0}]
[0,null,null,{"$f":"גיליון2!BC35","v":0},{"$f":"גיליון2!AT135","v":0},{"$f":"גיליון2!AT85","v":0}]
[0,null,null,{"$f":"גיליון2!BC36","v":0},{"$f":"גיליון2!AT136","v":0},{"$f":"גיליון2!AT86","v":0}]
[0,null,null,{"$f":"גיליון2!BC37","v":0},{"$f":"גיליון2!AT137","v":0},{"$f":"גיליון2!AT87","v":0}]
[0,null,null,{"$f":"גיליון2!BC38","v":0},{"$f":"גיליון2!AT138","v":0},{"$f":"גיליון2!AT88","v":0}]
[0,null,null,{"$f":"גיליון2!BC39","v":0},{"$f":"גיליון2!AT139","v":0},{"$f":"גיליון2!AT89","v":0}]
["סה\"כ",{"$f":"SUM(B2:B39)","v":3986855},null,{"$f":"SUM(D2:D39)","v":120},120,120]
["בזב",{"$f":"5881696*0.718","v":{"v":4223057.728,"d":"4,223,058"}}]
["%",{"$f":"B40/B41","v":0.9440683165579498}]
{"$rows_empty":41}
[{"$nulls":3},{"$f":"AND(גיליון2!AW40=120,גיליון2!BC40=120)*120","v":120}]

{"sheet":"גיליון2","index":1,"n_rows":140,"n_cols":55,"rows_kept":140}
["רשימה","קולות","אחוז החסימה","רשימות שעברו את אחוז החסימה","מודד","מנדטים שלמים","הסכמי עודפים","קולות הסכמי עודפים","מנדטים הסכמי עודפים","מנדטים נותרים","חלוקה 1","גדול ביותר","תוצאה","מנדטים נותרים","חלוקה 2","גדול ביותר","תוצאה","מנדטים נותרים","חלוקה 3","גדול ביותר","תוצאה","מנדטים נותרים","חלוקה 4","גדול ביותר","תוצאה","מנדטים נותרים","חלוקה 5","גדול ביותר","תוצאה","מנדטים נותרים","חלוקה 6","גדול ביותר","תוצאה","מנדטים נותרים","חלוקה 7","גדול ביותר","תוצאה","מנדטים נותרים","חלוקה 8","גדול ביותר","תוצאה","מנדטים נותרים","חלוקה 9","גדול ביותר","תוצאה","מנדטים נותרים","חלוקה 10","גדול ביותר","תוצאה","הסכמי עודפים","מודד להסכמי עודפים","חלוקה ראשונית הסכמי עודפים","גדול יותר","תוצאה","חלוקה סופית"]
[{"$f":"גיליון1!A2","v":"הבית היהודי"},{"$f":"גיליון1!B2","v":254663},{"$f":"גיליון1!G2","v":0.0325},{"$f":"(גיליון3!D2<B2)*B2","v":254663},{"$f":"D40/E3","v":31895.958333333332},{"$f":"INT(D2/גיליון3!H2)","v":7},{"$f":"גיליון1!C2","v":1},{"$f":"(G2=0)*D2+(G2=1)*(D2+D3)*(D2>0)+(G2=2)*(D1=0)*D2","v":1179429},{"$f":"IF(H2=D2,F2,IF(G2=1,F2+F3,0))","v":35},{"$f":"גיליון1!H2-I40","v":6},{"$f":"(גיליון3!J2>0)*H2/(I2+1)","v":32761.916666666668},{"$f":"AND(גיליון3!L2>0,גיליון3!L2=K2)*גיליון3!L2","v":32761.916666666668},{"$f":"IF(L2>0,I2+1,I2)","v":36},{"$f":"גיליון1!H2-M40","v":5},{"$f":"(גיליון3!N2>0)*H2/(M2+1)","v":31876.45945945946},{"$f":"AND(גיליון3!P2>0,גיליון3!P2=O2)*גיליון3!P2","v":0},{"$f":"IF(P2>0,M2+1,M2)","v":36},{"$f":"גיליון1!H2-Q40","v":4},{"$f":"(גיליון3!R2>0)*H2/(Q2+1)","v":31876.45945945946},{"$f":"AND(גיליון3!T2>0,גיליון3!T2=S2)*גיליון3!T2","v":31876.45945945946},{"$f":"IF(T2>0,Q2+1,Q2)","v":37},{"$f":"גיליון1!H2-U40","v":3},{"$f":"(גיליון3!V2>0)*H2/(U2+1)","v":31037.605263157893},{"$f":"AND(גיליון3!X2>0,גיליון3!X2=W2)*גיליון3!X2","v":0},{"$f":"IF(X2>0,U2+1,U2)","v":37},{"$f":"גיליון1!H2-Y40","v":2},{"$f":"(גיליון3!Z2>0)*H2/(Y2+1)","v":31037.605263157893},{"$f":"AND(גיליון3!AB2>0,גיליון3!AB2=AA2)*גיליון3!AB2","v":0},{"$f":"IF(AB2>0,Y2+1,Y2)","v":37},{"$f":"גיליון1!H2-AC40","v":1},{"$f":"(גיליון3!AD2>0)*H2/(AC2+1)","v":31037.605263157893},{"$f":"AND(גיליון3!AF2>0,גיליון3!AF2=AE2)*גיליון3!AF2","v":0},{"$f":"IF(AF2>0,AC2+1,AC2)","v":37},{"$f":"גיליון1!H2-AG40","v":0},{"$f":"(גיליון3!AH2>0)*H2/(AG2+1)","v":0},{"$f":"AND(גיליון3!AJ2>0,גיליון3!AJ2=AI2)*גיליון3!AJ2","v":0},{"$f":"IF(AJ2>0,AG2+1,AG2)","v":37},{"$f":"גיליון1!H2-AK40","v":0},{"$f":"(גיליון3!AL2>0)*H2/(AK2+1)","v":0},{"$f":"AND(גיליון3!AN2>0,גיליון3!AN2=AM2)*גיליון3!AN2","v":0},{"$f":"IF(AN2>0,AK2+1,AK2)","v":37},{"$f":"גיליון1!H2-AO40","v":0},{"$f":"(גיליון3!AP2>0)*H2/(AO2+1)","v":0},{"$f":"AND(גיליון3!AR2>0,גיליון3!AR2=AQ2)*גיליון3!AR2","v":0},{"$f":"IF(AR2>0,AO2+1,AO2)","v":37},{"$f":"גיליון1!H2-AS40","v":0},{"$f":"(גיליון3!AT2>0)*H2/(AS2+1)","v":0},{"$f":"AND(גיליון3!AV2>0,גיליון3!AV2=AU2)*גיליון3!AV2","v":0},{"$f":"IF(AV2>0,AS2+1,AS2)","v":37},{"$f":"גיליון1!C2","v":1},{"$f":"((AX2=1)*IF(AW2>0,H2/AW2)+IF(AX2=2,(AY1>0)*AY1,0))*(D2>0)","v":31876.45945945946},{"$f":"IF(AY2>0,INT(D2/AY2),AW2)","v":7},{"$f":"IF(AY2>0,B2/(AZ2+1)*(AZ2<>B2/AY2),0)","v":31832.875},{"$f":"OR(AND(AX2=1,BA2>BA3),AND(AX2=2,BA2>BA1))*BA2","v":31832.875},{"$f":"(BB2>0)+AZ2","v":8}]
[{"$f":"גיליון1!A3","v":"הליכוד"},{"$f":"גיליון1!B3","v":924766},{"$f":"B40*C2","v":129572.7875},{"$f":"(גיליון3!D3<B3)*B3","v":924766},{"$f":"גיליון1!H2","v":120},{"$f":"INT(D3/גיליון3!H3)","v":28},{"$f":"גיליון1!C3","v":2},0,0,null,{"$f":"(גיליון3!J3>0)*H3/(I3+1)","v":0},{"$f":"AND(גיליון3!L3>0,גיליון3!L3=K3)*גיליון3!L3","v":0},0,null,{"$f":"(גיליון3!N3>0)*H3/(M3+1)","v":0},{"$f":"AND(גיליון3!P3>0,גיליון3!P3=O3)*גיליון3!P3","v":0},0,null,{"$f":"(גיליון3!R3>0)*H3/(Q3+1)","v":0},{"$f":"AND(גיליון3!T3>0,גיליון3!T3=S3)*גיליון3!T3","v":0},0,null,{"$f":"(גיליון3!V3>0)*H3/(U3+1)","v":0},{"$f":"AND(גיליון3!X3>0,גיליון3!X3=W3)*גיליון3!X3","v":0},0,null,{"$f":"(גיליון3!Z3>0)*H3/(Y3+1)","v":0},{"$f":"AND(גיליון3!AB3>0,גיליון3!AB3=AA3)*גיליון3!AB3","v":0},0,null,{"$f":"(גיליון3!AD3>0)*H3/(AC3+1)","v":0},{"$f":"AND(גיליון3!AF3>0,גיליון3!AF3=AE3)*גיליון3!AF3","v":0},0,null,{"$f":"(גיליון3!AH3>0)*H3/(AG3+1)","v":0},{"$f":"AND(גיליון3!AJ3>0,גיליון3!AJ3=AI3)*גיליון3!AJ3","v":0},0,null,{"$f":"(גיליון3!AL3>0)*H3/(AK3+1)","v":0},{"$f":"AND(גיליון3!AN3>0,גיליון3!AN3=AM3)*גיליון3!AN3","v":0},0,null,{"$f":"(גיליון3!AP3>0)*H3/(AO3+1)","v":0},{"$f":"AND(גיליון3!AR3>0,גיליון3!AR3=AQ3)*גיליון3!AR3","v":0},0,null,{"$f":"(גיליון3!AT3>0)*H3/(AS3+1)","v":0},{"$f":"AND(גיליון3!AV3>0,גיליון3!AV3=AU3)*גיליון3!AV3","v":0},0,{"$f":"גיליון1!C3","v":2},31876.45945945946,29,30825.533333333333,0,29]
[{"$f":"גיליון1!A4","v":"יש עתיד"},{"$f":"גיליון1!B4","v":348802},null,{"$f":"(גיליון3!D4<B4)*B4","v":348802},null,{"$f":"INT(D4/גיליון3!H4)","v":10},{"$f":"גיליון1!C4","v":0},348802,10,null,{"$f":"(גיליון3!J4>0)*H4/(I4+1)","v":31709.272727272728},{"$f":"AND(גיליון3!L4>0,גיליון3!L4=K4)*גיליון3!L4","v":0},10,null,{"$f":"(גיליון3!N4>0)*H4/(M4+1)","v":31709.272727272728},{"$f":"AND(גיליון3!P4>0,גיליון3!P4=O4)*גיליון3!P4","v":0},10,null,{"$f":"(גיליון3!R4>0)*H4/(Q4+1)","v":31709.272727272728},{"$f":"AND(גיליון3!T4>0,גיליון3!T4=S4)*גיליון3!T4","v":0},10,null,{"$f":"(גיליון3!V4>0)*H4/(U4+1)","v":31709.272727272728},{"$f":"AND(גיליון3!X4>0,גיליון3!X4=W4)*גיליון3!X4","v":31709.272727272728},11,null,{"$f":"(גיליון3!Z4>0)*H4/(Y4+1)","v":29066.833333333332},{"$f":"AND(גיליון3!AB4>0,גיליון3!AB4=AA4)*גיליון3!AB4","v":0},11,null,{"$f":"(גיליון3!AD4>0)*H4/(AC4+1)","v":29066.833333333332},{"$f":"AND(גיליון3!AF4>0,גיליון3!AF4=AE4)*גיליון3!AF4","v":0},11,null,{"$f":"(גיליון3!AH4>0)*H4/(AG4+1)","v":0},{"$f":"AND(גיליון3!AJ4>0,גיליון3!AJ4=AI4)*גיליון3!AJ4","v":0},11,null,{"$f":"(גיליון3!AL4>0)*H4/(AK4+1)","v":0},{"$f":"AND(גיליון3!AN4>0,גיליון3!AN4=AM4)*גיליון3!AN4","v":0},11,null,{"$f":"(גיליון3!AP4>0)*H4/(AO4+1)","v":0},{"$f":"AND(גיליון3!AR4>0,גיליון3!AR4=AQ4)*גיליון3!AR4","v":0},11,null,{"$f":"(גיליון3!AT4>0)*H4/(AS4+1)","v":0},{"$f":"AND(גיליון3!AV4>0,גיליון3!AV4=AU4)*גיליון3!AV4","v":0},11,{"$f":"גיליון1!C4","v":0},0,11,0,0,11]
[{"$f":"גיליון1!A5","v":"המחנה הציוני"},{"$f":"גיליון1!B5","v":744673},null,{"$f":"(גיליון3!D5<B5)*B5","v":744673},null,{"$f":"INT(D5/גיליון3!H5)","v":23},{"$f":"גיליון1!C5","v":1},899321,27,null,{"$f":"(גיליון3!J5>0)*H5/(I5+1)","v":32118.60714285714},{"$f":"AND(גיליון3!L5>0,גיליון3!L5=K5)*גיליון3!L5","v":0},27,null,{"$f":"(גיליון3!N5>0)*H5/(M5+1)","v":32118.60714285714},{"$f":"AND(גיליון3!P5>0,גיליון3!P5=O5)*גיליון3!P5","v":32118.60714285714},28,null,{"$f":"(גיליון3!R5>0)*H5/(Q5+1)","v":31011.068965517243},{"$f":"AND(גיליון3!T5>0,גיליון3!T5=S5)*גיליון3!T5","v":0},28,null,{"$f":"(גיליון3!V5>0)*H5/(U5+1)","v":31011.068965517243},{"$f":"AND(גיליון3!X5>0,גיליון3!X5=W5)*גיליון3!X5","v":0},28,null,{"$f":"(גיליון3!Z5>0)*H5/(Y5+1)","v":31011.068965517243},{"$f":"AND(גיליון3!AB5>0,גיליון3!AB5=AA5)*גיליון3!AB5","v":0},28,null,{"$f":"(גיליון3!AD5>0)*H5/(AC5+1)","v":31011.068965517243},{"$f":"AND(גיליון3!AF5>0,גיליון3!AF5=AE5)*גיליון3!AF5","v":0},28,null,{"$f":"(גיליון3!AH5>0)*H5/(AG5+1)","v":0},{"$f":"AND(גיליון3!AJ5>0,גיליון3!AJ5=AI5)*גיליון3!AJ5","v":0},28,null,{"$f":"(גיליון3!AL5>0)*H5/(AK5+1)","v":0},{"$f":"AND(גיליון3!AN5>0,גיליון3!AN5=AM5)*גיליון3!AN5","v":0},28,null,{"$f":"(גיליון3!AP5>0)*H5/(AO5+1)","v":0},{"$f":"AND(גיליון3!AR5>0,גיליון3!AR5=AQ5)*גיליון3!AR5","v":0},28,null,{"$f":"(גיליון3!AT5>0)*H5/(AS5+1)","v":0},{"$f":"AND(גיליון3!AV5>0,גיליון3!AV5=AU5)*גיליון3!AV5","v":0},28,{"$f":"גיליון1!C5","v":1},32118.60714285714,23,31028.041666666668,31028.041666666668,24]
[{"$f":"גיליון1!A6","v":"מרץ"},{"$f":"גיליון1!B6","v":154648},null,{"$f":"(גיליון3!D6<B6)*B6","v":154648},null,{"$f":"INT(D6/גיליון3!H6)","v":4},{"$f":"גיליון1!C6","v":2},0,0,null,{"$f":"(גיליון3!J6>0)*H6/(I6+1)","v":0},{"$f":"AND(גיליון3!L6>0,גיליון3!L6=K6)*גיליון3!L6","v":0},0,null,{"$f":"(גיליון3!N6>0)*H6/(M6+1)","v":0},{"$f":"AND(גיליון3!P6>0,גיליון3!P6=O6)*גיליון3!P6","v":0},0,null,{"$f":"(גיליון3!R6>0)*H6/(Q6+1)","v":0},{"$f":"AND(גיליון3!T6>0,גיליון3!T6=S6)*גיליון3!T6","v":0},0,null,{"$f":"(גיליון3!V6>0)*H6/(U6+1)","v":0},{"$f":"AND(גיליון3!X6>0,גיליון3!X6=W6)*גיליון3!X6","v":0},0,null,{"$f":"(גיליון3!Z6>0)*H6/(Y6+1)","v":0},{"$f":"AND(גיליון3!AB6>0,גיליון3!AB6=AA6)*גיליון3!AB6","v":0},0,null,{"$f":"(גיליון3!AD6>0)*H6/(AC6+1)","v":0},{"$f":"AND(גיליון3!AF6>0,גיליון3!AF6=AE6)*גיליון3!AF6","v":0},0,null,{"$f":"(גיליון3!AH6>0)*H6/(AG6+1)","v":0},{"$f":"AND(גיליון3!AJ6>0,גיליון3!AJ6=AI6)*גיליון3!AJ6","v":0},0,null,{"$f":"(גיליון3!AL6>0)*H6/(AK6+1)","v":0},{"$f":"AND(גיליון3!AN6>0,גיליון3!AN6=AM6)*גיליון3!AN6","v":0},0,null,{"$f":"(גיליון3!AP6>0)*H6/(AO6+1)","v":0},{"$f":"AND(גיליון3!AR6>0,גיליון3!AR6=AQ6)*גיליון3!AR6","v":0},0,null,{"$f":"(גיליון3!AT6>0)*H6/(AS6+1)","v":0},{"$f":"AND(גיליון3!AV6>0,גיליון3!AV6=AU6)*גיליון3!AV6","v":0},0,{"$f":"גיליון1!C6","v":2},32118.60714285714,4,30929.6,0,4]
[{"$f":"גיליון1!A7","v":"רעם"},{"$f":"גיליון1!B7","v":463532},null,{"$f":"(גיליון3!D7<B7)*B7","v":463532},null,{"$f":"INT(D7/גיליון3!H7)","v":14},{"$f":"גיליון1!C7","v":0},463532,14,null,{"$f":"(גיליון3!J7>0)*H7/(I7+1)","v":30902.133333333335},{"$f":"AND(גיליון3!L7>0,גיליון3!L7=K7)*גיליון3!L7","v":0},14,null,{"$f":"(גיליון3!N7>0)*H7/(M7+1)","v":30902.133333333335},{"$f":"AND(גיליון3!P7>0,גיליון3!P7=O7)*גיליון3!P7","v":0},14,null,{"$f":"(גיליון3!R7>0)*H7/(Q7+1)","v":30902.133333333335},{"$f":"AND(גיליון3!T7>0,גיליון3!T7=S7)*גיליון3!T7","v":0},14,null,{"$f":"(גיליון3!V7>0)*H7/(U7+1)","v":30902.133333333335},{"$f":"AND(גיליון3!X7>0,גיליון3!X7=W7)*גיליון3!X7","v":0},14,null,{"$f":"(גיליון3!Z7>0)*H7/(Y7+1)","v":30902.133333333335},{"$f":"AND(גיליון3!AB7>0,גיליון3!AB7=AA7)*גיליון3!AB7","v":0},14,null,{"$f":"(גיליון3!AD7>0)*H7/(AC7+1)","v":30902.133333333335},{"$f":"AND(גיליון3!AF7>0,גיליון3!AF7=AE7)*גיליון3!AF7","v":0},14,null,{"$f":"(גיליון3!AH7>0)*H7/(AG7+1)","v":0},{"$f":"AND(גיליון3!AJ7>0,גיליון3!AJ7=AI7)*גיליון3!AJ7","v":0},14,null,{"$f":"(גיליון3!AL7>0)*H7/(AK7+1)","v":0},{"$f":"AND(גיליון3!AN7>0,גיליון3!AN7=AM7)*גיליון3!AN7","v":0},14,null,{"$f":"(גיליון3!AP7>0)*H7/(AO7+1)","v":0},{"$f":"AND(גיליון3!AR7>0,גיליון3!AR7=AQ7)*גיליון3!AR7","v":0},14,null,{"$f":"(גיליון3!AT7>0)*H7/(AS7+1)","v":0},{"$f":"AND(גיליון3!AV7>0,גיליון3!AV7=AU7)*גיליון3!AV7","v":0},14,{"$f":"גיליון1!C7","v":0},0,14,0,0,14]
[{"$f":"גיליון1!A8","v":"יחד"},{"$f":"גיליון1!B8","v":118368},null,{"$f":"(גיליון3!D8<B8)*B8","v":0},null,{"$f":"INT(D8/גיליון3!H8)","v":0},{"$f":"גיליון1!C8","v":0},0,0,null,{"$f":"(גיליון3!J8>0)*H8/(I8+1)","v":0},{"$f":"AND(גיליון3!L8>0,גיליון3!L8=K8)*גיליון3!L8","v":0},0,null,{"$f":"(גיליון3!N8>0)*H8/(M8+1)","v":0},{"$f":"AND(גיליון3!P8>0,גיליון3!P8=O8)*גיליון3!P8","v":0},0,null,{"$f":"(גיליון3!R8>0)*H8/(Q8+1)","v":0},{"$f":"AND(גיליון3!T8>0,גיליון3!T8=S8)*גיליון3!T8","v":0},0,null,{"$f":"(גיליון3!V8>0)*H8/(U8+1)","v":0},{"$f":"AND(גיליון3!X8>0,גיליון3!X8=W8)*גיליון3!X8","v":0},0,null,{"$f":"(גיליון3!Z8>0)*H8/(Y8+1)","v":0},{"$f":"AND(גיליון3!AB8>0,גיליון3!AB8=AA8)*גיליון3!AB8","v":0},0,null,{"$f":"(גיליון3!AD8>0)*H8/(AC8+1)","v":0},{"$f":"AND(גיליון3!AF8>0,גיליון3!AF8=AE8)*גיליון3!AF8","v":0},0,null,{"$f":"(גיליון3!AH8>0)*H8/(AG8+1)","v":0},{"$f":"AND(גיליון3!AJ8>0,גיליון3!AJ8=AI8)*גיליון3!AJ8","v":0},0,null,{"$f":"(גיליון3!AL8>0)*H8/(AK8+1)","v":0},{"$f":"AND(גיליון3!AN8>0,גיליון3!AN8=AM8)*גיליון3!AN8","v":0},0,null,{"$f":"(גיליון3!AP8>0)*H8/(AO8+1)","v":0},{"$f":"AND(גיליון3!AR8>0,גיליון3!AR8=AQ8)*גיליון3!AR8","v":0},0,null,{"$f":"(גיליון3!AT8>0)*H8/(AS8+1)","v":0},{"$f":"AND(גיליון3!AV8>0,גיליון3!AV8=AU8)*גיליון3!AV8","v":0},0,{"$f":"גיליון1!C8","v":0},0,0,0,0,0]
[{"$f":"גיליון1!A9","v":"יהדות התורה"},{"$f":"גיליון1!B9","v":205551},null,{"$f":"(גיליון3!D9<B9)*B9","v":205551},null,{"$f":"INT(D9/גיליון3!H9)","v":6},{"$f":"גיליון1!C9","v":1},436286,13,null,{"$f":"(גיליון3!J9>0)*H9/(I9+1)","v":31163.285714285714},{"$f":"AND(גיליון3!L9>0,גיליון3!L9=K9)*גיליון3!L9","v":0},13,null,{"$f":"(גיליון3!N9>0)*H9/(M9+1)","v":31163.285714285714},{"$f":"AND(גיליון3!P9>0,גיליון3!P9=O9)*גיליון3!P9","v":0},13,null,{"$f":"(גיליון3!R9>0)*H9/(Q9+1)","v":31163.285714285714},{"$f":"AND(גיליון3!T9>0,גיליון3!T9=S9)*גיליון3!T9","v":0},13,null,{"$f":"(גיליון3!V9>0)*H9/(U9+1)","v":31163.285714285714},{"$f":"AND(גיליון3!X9>0,גיליון3!X9=W9)*גיליון3!X9","v":0},13,null,{"$f":"(גיליון3!Z9>0)*H9/(Y9+1)","v":31163.285714285714},{"$f":"AND(גיליון3!AB9>0,גיליון3!AB9=AA9)*גיליון3!AB9","v":0},13,null,{"$f":"(גיליון3!AD9>0)*H9/(AC9+1)","v":31163.285714285714},{"$f":"AND(גיליון3!AF9>0,גיליון3!AF9=AE9)*גיליון3!AF9","v":31163.285714285714},14,null,{"$f":"(גיליון3!AH9>0)*H9/(AG9+1)","v":0},{"$f":"AND(גיליון3!AJ9>0,גיליון3!AJ9=AI9)*גיליון3!AJ9","v":0},14,null,{"$f":"(גיליון3!AL9>0)*H9/(AK9+1)","v":0},{"$f":"AND(גיליון3!AN9>0,גיליון3!AN9=AM9)*גיליון3!AN9","v":0},14,null,{"$f":"(גיליון3!AP9>0)*H9/(AO9+1)","v":0},{"$f":"AND(גיליון3!AR9>0,גיליון3!AR9=AQ9)*גיליון3!AR9","v":0},14,null,{"$f":"(גיליון3!AT9>0)*H9/(AS9+1)","v":0},{"$f":"AND(גיליון3!AV9>0,גיליון3!AV9=AU9)*גיליון3!AV9","v":0},14,{"$f":"גיליון1!C9","v":1},31163.285714285714,6,29364.428571428572,29364.428571428572,7]
[{"$f":"גיליון1!A10","v":"שס"},{"$f":"גיליון1!B10","v":230735},null,{"$f":"(גיליון3!D10<B10)*B10","v":230735},null,{"$f":"INT(D10/גיליון3!H10)","v":7},{"$f":"גיליון1!C10","v":2},0,0,null,{"$f":"(גיליון3!J10>0)*H10/(I10+1)","v":0},{"$f":"AND(גיליון3!L10>0,גיליון3!L10=K10)*גיליון3!L10","v":0},0,null,{"$f":"(גיליון3!N10>0)*H10/(M10+1)","v":0},{"$f":"AND(גיליון3!P10>0,גיליון3!P10=O10)*גיליון3!P10","v":0},0,null,{"$f":"(גיליון3!R10>0)*H10/(Q10+1)","v":0},{"$f":"AND(גיליון3!T10>0,גיליון3!T10=S10)*גיליון3!T10","v":0},0,null,{"$f":"(גיליון3!V10>0)*H10/(U10+1)","v":0},{"$f":"AND(גיליון3!X10>0,גיליון3!X10=W10)*גיליון3!X10","v":0},0,null,{"$f":"(גיליון3!Z10>0)*H10/(Y10+1)","v":0},{"$f":"AND(גיליון3!AB10>0,גיליון3!AB10=AA10)*גיליון3!AB10","v":0},0,null,{"$f":"(גיליון3!AD10>0)*H10/(AC10+1)","v":0},{"$f":"AND(גיליון3!AF10>0,גיליון3!AF10=AE10)*גיליון3!AF10","v":0},0,null,{"$f":"(גיליון3!AH10>0)*H10/(AG10+1)","v":0},{"$f":"AND(גיליון3!AJ10>0,גיליון3!AJ10=AI10)*גיליון3!AJ10","v":0},0,null,{"$f":"(גיליון3!AL10>0)*H10/(AK10+1)","v":0},{"$f":"AND(גיליון3!AN10>0,גיליון3!AN10=AM10)*גיליון3!AN10","v":0},0,null,{"$f":"(גיליון3!AP10>0)*H10/(AO10+1)","v":0},{"$f":"AND(גיליון3!AR10>0,גיליון3!AR10=AQ10)*גיליון3!AR10","v":0},0,null,{"$f":"(גיליון3!AT10>0)*H10/(AS10+1)","v":0},{"$f":"AND(גיליון3!AV10>0,גיליון3!AV10=AU10)*גיליון3!AV10","v":0},0,{"$f":"גיליון1!C10","v":2},31163.285714285714,7,28841.875,0,7]
[{"$f":"גיליון1!A11","v":"כחלון"},{"$f":"גיליון1!B11","v":294526},null,{"$f":"(גיליון3!D11<B11)*B11","v":294526},null,{"$f":"INT(D11/גיליון3!H11)","v":9},{"$f":"גיליון1!C11","v":1},500145,15,null,{"$f":"(גיליון3!J11>0)*H11/(I11+1)","v":31259.0625},{"$f":"AND(גיליון3!L11>0,גיליון3!L11=K11)*גיליון3!L11","v":0},15,null,{"$f":"(גיליון3!N11>0)*H11/(M11+1)","v":31259.0625},{"$f":"AND(גיליון3!P11>0,גיליון3!P11=O11)*גיליון3!P11","v":0},15,null,{"$f":"(גיליון3!R11>0)*H11/(Q11+1)","v":31259.0625},{"$f":"AND(גיליון3!T11>0,גיליון3!T11=S11)*גיליון3!T11","v":0},15,null,{"$f":"(גיליון3!V11>0)*H11/(U11+1)","v":31259.0625},{"$f":"AND(גיליון3!X11>0,גיליון3!X11=W11)*גיליון3!X11","v":0},15,null,{"$f":"(גיליון3!Z11>0)*H11/(Y11+1)","v":31259.0625},{"$f":"AND(גיליון3!AB11>0,גיליון3!AB11=AA11)*גיליון3!AB11","v":31259.0625},16,null,{"$f":"(גיליון3!AD11>0)*H11/(AC11+1)","v":29420.29411764706},{"$f":"AND(גיליון3!AF11>0,גיליון3!AF11=AE11)*גיליון3!AF11","v":0},16,null,{"$f":"(גיליון3!AH11>0)*H11/(AG11+1)","v":0},{"$f":"AND(גיליון3!AJ11>0,גיליון3!AJ11=AI11)*גיליון3!AJ11","v":0},16,null,{"$f":"(גיליון3!AL11>0)*H11/(AK11+1)","v":0},{"$f":"AND(גיליון3!AN11>0,גיליון3!AN11=AM11)*גיליון3!AN11","v":0},16,null,{"$f":"(גיליון3!AP11>0)*H11/(AO11+1)","v":0},{"$f":"AND(גיליון3!AR11>0,גיליון3!AR11=AQ11)*גיליון3!AR11","v":0},16,null,{"$f":"(גיליון3!AT11>0)*H11/(AS11+1)","v":0},{"$f":"AND(גיליון3!AV11>0,גיליון3!AV11=AU11)*גיליון3!AV11","v":0},16,{"$f":"גיליון1!C11","v":1},31259.0625,9,29452.6,29452.6,10]
[{"$f":"גיליון1!A12","v":"ישראל ביתנו"},{"$f":"גיליון1!B12","v":205619},null,{"$f":"(גיליון3!D12<B12)*B12","v":205619},null,{"$f":"INT(D12/גיליון3!H12)","v":6},{"$f":"גיליון1!C12","v":2},0,0,null,{"$f":"(גיליון3!J12>0)*H12/(I12+1)","v":0},{"$f":"AND(גיליון3!L12>0,גיליון3!L12=K12)*גיליון3!L12","v":0},0,null,{"$f":"(גיליון3!N12>0)*H12/(M12+1)","v":0},{"$f":"AND(גיליון3!P12>0,גיליון3!P12=O12)*גיליון3!P12","v":0},0,null,{"$f":"(גיליון3!R12>0)*H12/(Q12+1)","v":0},{"$f":"AND(גיליון3!T12>0,גיליון3!T12=S12)*גיליון3!T12","v":0},0,null,{"$f":"(גיליון3!V12>0)*H12/(U12+1)","v":0},{"$f":"AND(גיליון3!X12>0,גיליון3!X12=W12)*גיליון3!X12","v":0},0,null,{"$f":"(גיליון3!Z12>0)*H12/(Y12+1)","v":0},{"$f":"AND(גיליון3!AB12>0,גיליון3!AB12=AA12)*גיליון3!AB12","v":0},0,null,{"$f":"(גיליון3!AD12>0)*H12/(AC12+1)","v":0},{"$f":"AND(גיליון3!AF12>0,גיליון3!AF12=AE12)*גיליון3!AF12","v":0},0,null,{"$f":"(גיליון3!AH12>0)*H12/(AG12+1)","v":0},{"$f":"AND(גיליון3!AJ12>0,גיליון3!AJ12=AI12)*גיליון3!AJ12","v":0},0,null,{"$f":"(גיליון3!AL12>0)*H12/(AK12+1)","v":0},{"$f":"AND(גיליון3!AN12>0,גיליון3!AN12=AM12)*גיליון3!AN12","v":0},0,null,{"$f":"(גיליון3!AP12>0)*H12/(AO12+1)","v":0},{"$f":"AND(גיליון3!AR12>0,גיליון3!AR12=AQ12)*גיליון3!AR12","v":0},0,null,{"$f":"(גיליון3!AT12>0)*H12/(AS12+1)","v":0},{"$f":"AND(גיליון3!AV12>0,גיליון3!AV12=AU12)*גיליון3!AV12","v":0},0,{"$f":"גיליון1!C12","v":2},31259.0625,6,29374.14285714286,0,6]
[{"$f":"גיליון1!A13","v":"עלה ירוק - הרשימה הליברלית"},{"$f":"גיליון1!B13","v":38624},null,{"$f":"(גיליון3!D13<B13)*B13","v":0},null,{"$f":"INT(D13/גיליון3!H13)","v":0},{"$f":"גיליון1!C13","v":0},0,0,null,{"$f":"(גיליון3!J13>0)*H13/(I13+1)","v":0},{"$f":"AND(גיליון3!L13>0,גיליון3!L13=K13)*גיליון3!L13","v":0},0,null,{"$f":"(גיליון3!N13>0)*H13/(M13+1)","v":0},{"$f":"AND(גיליון3!P13>0,גיליון3!P13=O13)*גיליון3!P13","v":0},0,null,{"$f":"(גיליון3!R13>0)*H13/(Q13+1)","v":0},{"$f":"AND(גיליון3!T13>0,גיליון3!T13=S13)*גיליון3!T13","v":0},0,null,{"$f":"(גיליון3!V13>0)*H13/(U13+1)","v":0},{"$f":"AND(גיליון3!X13>0,גיליון3!X13=W13)*גיליון3!X13","v":0},0,null,{"$f":"(גיליון3!Z13>0)*H13/(Y13+1)","v":0},{"$f":"AND(גיליון3!AB13>0,גיליון3!AB13=AA13)*גיליון3!AB13","v":0},0,null,{"$f":"(גיליון3!AD13>0)*H13/(AC13+1)","v":0},{"$f":"AND(גיליון3!AF13>0,גיליון3!AF13=AE13)*גיליון3!AF13","v":0},0,null,{"$f":"(גיליון3!AH13>0)*H13/(AG13+1)","v":0},{"$f":"AND(גיליון3!AJ13>0,גיליון3!AJ13=AI13)*גיליון3!AJ13","v":0},0,null,{"$f":"(גיליון3!AL13>0)*H13/(AK13+1)","v":0},{"$f":"AND(גיליון3!AN13>0,גיליון3!AN13=AM13)*גיליון3!AN13","v":0},0,null,{"$f":"(גיליון3!AP13>0)*H13/(AO13+1)","v":0},{"$f":"AND(גיליון3!AR13>0,גיליון3!AR13=AQ13)*גיליון3!AR13","v":0},0,null,{"$f":"(גיליון3!AT13>0)*H13/(AS13+1)","v":0},{"$f":"AND(גיליון3!AV13>0,גיליון3!AV13=AU13)*גיליון3!AV13","v":0},0,{"$f":"גיליון1!C13","v":0},0,0,0,0,0]
[{"$f":"גיליון1!#REF!","v":{"$error":"#REF!"}},{"$f":"גיליון1!B14","v":2348},null,{"$f":"(גיליון3!D14<B14)*B14","v":0},null,{"$f":"INT(D14/גיליון3!H14)","v":0},{"$f":"גיליון1!C14","v":0},0,0,null,{"$f":"(גיליון3!J14>0)*H14/(I14+1)","v":0},{"$f":"AND(גיליון3!L14>0,גיליון3!L14=K14)*גיליון3!L14","v":0},0,null,{"$f":"(גיליון3!N14>0)*H14/(M14+1)","v":0},{"$f":"AND(גיליון3!P14>0,גיליון3!P14=O14)*גיליון3!P14","v":0},0,null,{"$f":"(גיליון3!R14>0)*H14/(Q14+1)","v":0},{"$f":"AND(גיליון3!T14>0,גיליון3!T14=S14)*גיליון3!T14","v":0},0,null,{"$f":"(גיליון3!V14>0)*H14/(U14+1)","v":0},{"$f":"AND(גיליון3!X14>0,גיליון3!X14=W14)*גיליון3!X14","v":0},0,null,{"$f":"(גיליון3!Z14>0)*H14/(Y14+1)","v":0},{"$f":"AND(גיליון3!AB14>0,גיליון3!AB14=AA14)*גיליון3!AB14","v":0},0,null,{"$f":"(גיליון3!AD14>0)*H14/(AC14+1)","v":0},{"$f":"AND(גיליון3!AF14>0,גיליון3!AF14=AE14)*גיליון3!AF14","v":0},0,null,{"$f":"(גיליון3!AH14>0)*H14/(AG14+1)","v":0},{"$f":"AND(גיליון3!AJ14>0,גיליון3!AJ14=AI14)*גיליון3!AJ14","v":0},0,null,{"$f":"(גיליון3!AL14>0)*H14/(AK14+1)","v":0},{"$f":"AND(גיליון3!AN14>0,גיליון3!AN14=AM14)*גיליון3!AN14","v":0},0,null,{"$f":"(גיליון3!AP14>0)*H14/(AO14+1)","v":0},{"$f":"AND(גיליון3!AR14>0,גיליון3!AR14=AQ14)*גיליון3!AR14","v":0},0,null,{"$f":"(גיליון3!AT14>0)*H14/(AS14+1)","v":0},{"$f":"AND(גיליון3!AV14>0,גיליון3!AV14=AU14)*גיליון3!AV14","v":0},0,{"$f":"גיליון1!C14","v":0},0,0,0,0,0]
[{"$f":"גיליון1!A15","v":0},{"$f":"גיליון1!B15","v":0},null,{"$f":"(גיליון3!D15<B15)*B15","v":0},null,{"$f":"INT(D15/גיליון3!H15)","v":0},{"$f":"גיליון1!C15","v":1},0,0,null,{"$f":"(גיליון3!J15>0)*H15/(I15+1)","v":0},{"$f":"AND(גיליון3!L15>0,גיליון3!L15=K15)*גיליון3!L15","v":0},0,null,{"$f":"(גיליון3!N15>0)*H15/(M15+1)","v":0},{"$f":"AND(גיליון3!P15>0,גיליון3!P15=O15)*גיליון3!P15","v":0},0,null,{"$f":"(גיליון3!R15>0)*H15/(Q15+1)","v":0},{"$f":"AND(גיליון3!T15>0,גיליון3!T15=S15)*גיליון3!T15","v":0},0,null,{"$f":"(גיליון3!V15>0)*H15/(U15+1)","v":0},{"$f":"AND(גיליון3!X15>0,גיליון3!X15=W15)*גיליון3!X15","v":0},0,null,{"$f":"(גיליון3!Z15>0)*H15/(Y15+1)","v":0},{"$f":"AND(גיליון3!AB15>0,גיליון3!AB15=AA15)*גיליון3!AB15","v":0},0,null,{"$f":"(גיליון3!AD15>0)*H15/(AC15+1)","v":0},{"$f":"AND(גיליון3!AF15>0,גיליון3!AF15=AE15)*גיליון3!AF15","v":0},0,null,{"$f":"(גיליון3!AH15>0)*H15/(AG15+1)","v":0},{"$f":"AND(גיליון3!AJ15>0,גיליון3!AJ15=AI15)*גיליון3!AJ15","v":0},0,null,{"$f":"(גיליון3!AL15>0)*H15/(AK15+1)","v":0},{"$f":"AND(גיליון3!AN15>0,גיליון3!AN15=AM15)*גיליון3!AN15","v":0},0,null,{"$f":"(גיליון3!AP15>0)*H15/(AO15+1)","v":0},{"$f":"AND(גיליון3!AR15>0,גיליון3!AR15=AQ15)*גיליון3!AR15","v":0},0,null,{"$f":"(גיליון3!AT15>0)*H15/(AS15+1)","v":0},{"$f":"AND(גיליון3!AV15>0,גיליון3!AV15=AU15)*גיליון3!AV15","v":0},0,{"$f":"גיליון1!C15","v":1},0,0,0,0,0]
[{"$f":"גיליון1!A16","v":0},{"$f":"גיליון1!B16","v":0},null,{"$f":"(גיליון3!D16<B16)*B16","v":0},null,{"$f":"INT(D16/גיליון3!H16)","v":0},{"$f":"גיליון1!C16","v":2},0,0,null,{"$f":"(גיליון3!J16>0)*H16/(I16+1)","v":0},{"$f":"AND(גיליון3!L16>0,גיליון3!L16=K16)*גיליון3!L16","v":0},0,null,{"$f":"(גיליון3!N16>0)*H16/(M16+1)","v":0},{"$f":"AND(גיליון3!P16>0,גיליון3!P16=O16)*גיליון3!P16","v":0},0,null,{"$f":"(גיליון3!R16>0)*H16/(Q16+1)","v":0},{"$f":"AND(גיליון3!T16>0,גיליון3!T16=S16)*גיליון3!T16","v":0},0,null,{"$f":"(גיליון3!V16>0)*H16/(U16+1)","v":0},{"$f":"AND(גיליון3!X16>0,גיליון3!X16=W16)*גיליון3!X16","v":0},0,null,{"$f":"(גיליון3!Z16>0)*H16/(Y16+1)","v":0},{"$f":"AND(גיליון3!AB16>0,גיליון3!AB16=AA16)*גיליון3!AB16","v":0},0,null,{"$f":"(גיליון3!AD16>0)*H16/(AC16+1)","v":0},{"$f":"AND(גיליון3!AF16>0,גיליון3!AF16=AE16)*גיליון3!AF16","v":0},0,null,{"$f":"(גיליון3!AH16>0)*H16/(AG16+1)","v":0},{"$f":"AND(גיליון3!AJ16>0,גיליון3!AJ16=AI16)*גיליון3!AJ16","v":0},0,null,{"$f":"(גיליון3!AL16>0)*H16/(AK16+1)","v":0},{"$f":"AND(גיליון3!AN16>0,גיליון3!AN16=AM16)*גיליון3!AN16","v":0},0,null,{"$f":"(גיליון3!AP16>0)*H16/(AO16+1)","v":0},{"$f":"AND(גיליון3!AR16>0,גיליון3!AR16=AQ16)*גיליון3!AR16","v":0},0,null,{"$f":"(גיליון3!AT16>0)*H16/(AS16+1)","v":0},{"$f":"AND(גיליון3!AV16>0,גיליון3!AV16=AU16)*גיליון3!AV16","v":0},0,{"$f":"גיליון1!C16","v":2},0,0,0,0,0]
[{"$f":"גיליון1!A17","v":0},{"$f":"גיליון1!B17","v":0},null,{"$f":"(גיליון3!D17<B17)*B17","v":0},null,{"$f":"INT(D17/גיליון3!H17)","v":0},{"$f":"גיליון1!C17","v":1},0,0,null,{"$f":"(גיליון3!J17>0)*H17/(I17+1)","v":0},{"$f":"AND(גיליון3!L17>0,גיליון3!L17=K17)*גיליון3!L17","v":0},0,null,{"$f":"(גיליון3!N17>0)*H17/(M17+1)","v":0},{"$f":"AND(גיליון3!P17>0,גיליון3!P17=O17)*גיליון3!P17","v":0},0,null,{"$f":"(גיליון3!R17>0)*H17/(Q17+1)","v":0},{"$f":"AND(גיליון3!T17>0,גיליון3!T17=S17)*גיליון3!T17","v":0},0,null,{"$f":"(גיליון3!V17>0)*H17/(U17+1)","v":0},{"$f":"AND(גיליון3!X17>0,גיליון3!X17=W17)*גיליון3!X17","v":0},0,null,{"$f":"(גיליון3!Z17>0)*H17/(Y17+1)","v":0},{"$f":"AND(גיליון3!AB17>0,גיליון3!AB17=AA17)*גיליון3!AB17","v":0},0,null,{"$f":"(גיליון3!AD17>0)*H17/(AC17+1)","v":0},{"$f":"AND(גיליון3!AF17>0,גיליון3!AF17=AE17)*גיליון3!AF17","v":0},0,null,{"$f":"(גיליון3!AH17>0)*H17/(AG17+1)","v":0},{"$f":"AND(גיליון3!AJ17>0,גיליון3!AJ17=AI17)*גיליון3!AJ17","v":0},0,null,{"$f":"(גיליון3!AL17>0)*H17/(AK17+1)","v":0},{"$f":"AND(גיליון3!AN17>0,גיליון3!AN17=AM17)*גיליון3!AN17","v":0},0,null,{"$f":"(גיליון3!AP17>0)*H17/(AO17+1)","v":0},{"$f":"AND(גיליון3!AR17>0,גיליון3!AR17=AQ17)*גיליון3!AR17","v":0},0,null,{"$f":"(גיליון3!AT17>0)*H17/(AS17+1)","v":0},{"$f":"AND(גיליון3!AV17>0,גיליון3!AV17=AU17)*גיליון3!AV17","v":0},0,{"$f":"גיליון1!C17","v":1},0,0,0,0,0]
[{"$f":"גיליון1!A18","v":0},{"$f":"גיליון1!B18","v":0},null,{"$f":"(גיליון3!D18<B18)*B18","v":0},null,{"$f":"INT(D18/גיליון3!H18)","v":0},{"$f":"גיליון1!C18","v":2},0,0,null,{"$f":"(גיליון3!J18>0)*H18/(I18+1)","v":0},{"$f":"AND(גיליון3!L18>0,גיליון3!L18=K18)*גיליון3!L18","v":0},0,null,{"$f":"(גיליון3!N18>0)*H18/(M18+1)","v":0},{"$f":"AND(גיליון3!P18>0,גיליון3!P18=O18)*גיליון3!P18","v":0},0,null,{"$f":"(גיליון3!R18>0)*H18/(Q18+1)","v":0},{"$f":"AND(גיליון3!T18>0,גיליון3!T18=S18)*גיליון3!T18","v":0},0,null,{"$f":"(גיליון3!V18>0)*H18/(U18+1)","v":0},{"$f":"AND(גיליון3!X18>0,גיליון3!X18=W18)*גיליון3!X18","v":0},0,null,{"$f":"(גיליון3!Z18>0)*H18/(Y18+1)","v":0},{"$f":"AND(גיליון3!AB18>0,גיליון3!AB18=AA18)*גיליון3!AB18","v":0},0,null,{"$f":"(גיליון3!AD18>0)*H18/(AC18+1)","v":0},{"$f":"AND(גיליון3!AF18>0,גיליון3!AF18=AE18)*גיליון3!AF18","v":0},0,null,{"$f":"(גיליון3!AH18>0)*H18/(AG18+1)","v":0},{"$f":"AND(גיליון3!AJ18>0,גיליון3!AJ18=AI18)*גיליון3!AJ18","v":0},0,null,{"$f":"(גיליון3!AL18>0)*H18/(AK18+1)","v":0},{"$f":"AND(גיליון3!AN18>0,גיליון3!AN18=AM18)*גיליון3!AN18","v":0},0,null,{"$f":"(גיליון3!AP18>0)*H18/(AO18+1)","v":0},{"$f":"AND(גיליון3!AR18>0,גיליון3!AR18=AQ18)*גיליון3!AR18","v":0},0,null,{"$f":"(גיליון3!AT18>0)*H18/(AS18+1)","v":0},{"$f":"AND(גיליון3!AV18>0,גיליון3!AV18=AU18)*גיליון3!AV18","v":0},0,{"$f":"גיליון1!C18","v":2},0,0,0,0,0]
[{"$f":"גיליון1!A19","v":0},{"$f":"גיליון1!B19","v":0},null,{"$f":"(גיליון3!D19<B19)*B19","v":0},null,{"$f":"INT(D19/גיליון3!H19)","v":0},{"$f":"גיליון1!C19","v":0},0,0,null,{"$f":"(גיליון3!J19>0)*H19/(I19+1)","v":0},{"$f":"AND(גיליון3!L19>0,גיליון3!L19=K19)*גיליון3!L19","v":0},0,null,{"$f":"(גיליון3!N19>0)*H19/(M19+1)","v":0},{"$f":"AND(גיליון3!P19>0,גיליון3!P19=O19)*גיליון3!P19","v":0},0,null,{"$f":"(גיליון3!R19>0)*H19/(Q19+1)","v":0},{"$f":"AND(גיליון3!T19>0,גיליון3!T19=S19)*גיליון3!T19","v":0},0,null,{"$f":"(גיליון3!V19>0)*H19/(U19+1)","v":0},{"$f":"AND(גיליון3!X19>0,גיליון3!X19=W19)*גיליון3!X19","v":0},0,null,{"$f":"(גיליון3!Z19>0)*H19/(Y19+1)","v":0},{"$f":"AND(גיליון3!AB19>0,גיליון3!AB19=AA19)*גיליון3!AB19","v":0},0,null,{"$f":"(גיליון3!AD19>0)*H19/(AC19+1)","v":0},{"$f":"AND(גיליון3!AF19>0,גיליון3!AF19=AE19)*גיליון3!AF19","v":0},0,null,{"$f":"(גיליון3!AH19>0)*H19/(AG19+1)","v":0},{"$f":"AND(גיליון3!AJ19>0,גיליון3!AJ19=AI19)*גיליון3!AJ19","v":0},0,null,{"$f":"(גיליון3!AL19>0)*H19/(AK19+1)","v":0},{"$f":"AND(גיליון3!AN19>0,גיליון3!AN19=AM19)*גיליון3!AN19","v":0},0,null,{"$f":"(גיליון3!AP19>0)*H19/(AO19+1)","v":0},{"$f":"AND(גיליון3!AR19>0,גיליון3!AR19=AQ19)*גיליון3!AR19","v":0},0,null,{"$f":"(גיליון3!AT19>0)*H19/(AS19+1)","v":0},{"$f":"AND(גיליון3!AV19>0,גיליון3!AV19=AU19)*גיליון3!AV19","v":0},0,{"$f":"גיליון1!C19","v":0},0,0,0,0,0]
[{"$f":"גיליון1!A20","v":0},{"$f":"גיליון1!B20","v":0},null,{"$f":"(גיליון3!D20<B20)*B20","v":0},null,{"$f":"INT(D20/גיליון3!H20)","v":0},{"$f":"גיליון1!C20","v":1},0,0,null,{"$f":"(גיליון3!J20>0)*H20/(I20+1)","v":0},{"$f":"AND(גיליון3!L20>0,גיליון3!L20=K20)*גיליון3!L20","v":0},0,null,{"$f":"(גיליון3!N20>0)*H20/(M20+1)","v":0},{"$f":"AND(גיליון3!P20>0,גיליון3!P20=O20)*גיליון3!P20","v":0},0,null,{"$f":"(גיליון3!R20>0)*H20/(Q20+1)","v":0},{"$f":"AND(גיליון3!T20>0,גיליון3!T20=S20)*גיליון3!T20","v":0},0,null,{"$f":"(גיליון3!V20>0)*H20/(U20+1)","v":0},{"$f":"AND(גיליון3!X20>0,גיליון3!X20=W20)*גיליון3!X20","v":0},0,null,{"$f":"(גיליון3!Z20>0)*H20/(Y20+1)","v":0},{"$f":"AND(גיליון3!AB20>0,גיליון3!AB20=AA20)*גיליון3!AB20","v":0},0,null,{"$f":"(גיליון3!AD20>0)*H20/(AC20+1)","v":0},{"$f":"AND(גיליון3!AF20>0,גיליון3!AF20=AE20)*גיליון3!AF20","v":0},0,null,{"$f":"(גיליון3!AH20>0)*H20/(AG20+1)","v":0},{"$f":"AND(גיליון3!AJ20>0,גיליון3!AJ20=AI20)*גיליון3!AJ20","v":0},0,null,{"$f":"(גיליון3!AL20>0)*H20/(AK20+1)","v":0},{"$f":"AND(גיליון3!AN20>0,גיליון3!AN20=AM20)*גיליון3!AN20","v":0},0,null,{"$f":"(גיליון3!AP20>0)*H20/(AO20+1)","v":0},{"$f":"AND(גיליון3!AR20>0,גיליון3!AR20=AQ20)*גיליון3!AR20","v":0},0,null,{"$f":"(גיליון3!AT20>0)*H20/(AS20+1)","v":0},{"$f":"AND(גיליון3!AV20>0,גיליון3!AV20=AU20)*גיליון3!AV20","v":0},0,{"$f":"גיליון1!C20","v":1},0,0,0,0,0]
[{"$f":"גיליון1!A21","v":0},{"$f":"גיליון1!B21","v":0},null,{"$f":"(גיליון3!D21<B21)*B21","v":0},null,{"$f":"INT(D21/גיליון3!H21)","v":0},{"$f":"גיליון1!C21","v":2},0,0,null,{"$f":"(גיליון3!J21>0)*H21/(I21+1)","v":0},{"$f":"AND(גיליון3!L21>0,גיליון3!L21=K21)*גיליון3!L21","v":0},0,null,{"$f":"(גיליון3!N21>0)*H21/(M21+1)","v":0},{"$f":"AND(גיליון3!P21>0,גיליון3!P21=O21)*גיליון3!P21","v":0},0,null,{"$f":"(גיליון3!R21>0)*H21/(Q21+1)","v":0},{"$f":"AND(גיליון3!T21>0,גיליון3!T21=S21)*גיליון3!T21","v":0},0,null,{"$f":"(גיליון3!V21>0)*H21/(U21+1)","v":0},{"$f":"AND(גיליון3!X21>0,גיליון3!X21=W21)*גיליון3!X21","v":0},0,null,{"$f":"(גיליון3!Z21>0)*H21/(Y21+1)","v":0},{"$f":"AND(גיליון3!AB21>0,גיליון3!AB21=AA21)*גיליון3!AB21","v":0},0,null,{"$f":"(גיליון3!AD21>0)*H21/(AC21+1)","v":0},{"$f":"AND(גיליון3!AF21>0,גיליון3!AF21=AE21)*גיליון3!AF21","v":0},0,null,{"$f":"(גיליון3!AH21>0)*H21/(AG21+1)","v":0},{"$f":"AND(גיליון3!AJ21>0,גיליון3!AJ21=AI21)*גיליון3!AJ21","v":0},0,null,{"$f":"(גיליון3!AL21>0)*H21/(AK21+1)","v":0},{"$f":"AND(גיליון3!AN21>0,גיליון3!AN21=AM21)*גיליון3!AN21","v":0},0,null,{"$f":"(גיליון3!AP21>0)*H21/(AO21+1)","v":0},{"$f":"AND(גיליון3!AR21>0,גיליון3!AR21=AQ21)*גיליון3!AR21","v":0},0,null,{"$f":"(גיליון3!AT21>0)*H21/(AS21+1)","v":0},{"$f":"AND(גיליון3!AV21>0,גיליון3!AV21=AU21)*גיליון3!AV21","v":0},0,{"$f":"גיליון1!C21","v":2},0,0,0,0,0]
[{"$f":"גיליון1!A22","v":0},{"$f":"גיליון1!B22","v":0},null,{"$f":"(גיליון3!D22<B22)*B22","v":0},null,{"$f":"INT(D22/גיליון3!H22)","v":0},{"$f":"גיליון1!C22","v":0},0,0,null,{"$f":"(גיליון3!J22>0)*H22/(I22+1)","v":0},{"$f":"AND(גיליון3!L22>0,גיליון3!L22=K22)*גיליון3!L22","v":0},0,null,{"$f":"(גיליון3!N22>0)*H22/(M22+1)","v":0},{"$f":"AND(גיליון3!P22>0,גיליון3!P22=O22)*גיליון3!P22","v":0},0,null,{"$f":"(גיליון3!R22>0)*H22/(Q22+1)","v":0},{"$f":"AND(גיליון3!T22>0,גיליון3!T22=S22)*גיליון3!T22","v":0},0,null,{"$f":"(גיליון3!V22>0)*H22/(U22+1)","v":0},{"$f":"AND(גיליון3!X22>0,גיליון3!X22=W22)*גיליון3!X22","v":0},0,null,{"$f":"(גיליון3!Z22>0)*H22/(Y22+1)","v":0},{"$f":"AND(גיליון3!AB22>0,גיליון3!AB22=AA22)*גיליון3!AB22","v":0},0,null,{"$f":"(גיליון3!AD22>0)*H22/(AC22+1)","v":0},{"$f":"AND(גיליון3!AF22>0,גיליון3!AF22=AE22)*גיליון3!AF22","v":0},0,null,{"$f":"(גיליון3!AH22>0)*H22/(AG22+1)","v":0},{"$f":"AND(גיליון3!AJ22>0,גיליון3!AJ22=AI22)*גיליון3!AJ22","v":0},0,null,{"$f":"(גיליון3!AL22>0)*H22/(AK22+1)","v":0},{"$f":"AND(גיליון3!AN22>0,גיליון3!AN22=AM22)*גיליון3!AN22","v":0},0,null,{"$f":"(גיליון3!AP22>0)*H22/(AO22+1)","v":0},{"$f":"AND(גיליון3!AR22>0,גיליון3!AR22=AQ22)*גיליון3!AR22","v":0},0,null,{"$f":"(גיליון3!AT22>0)*H22/(AS22+1)","v":0},{"$f":"AND(גיליון3!AV22>0,גיליון3!AV22=AU22)*גיליון3!AV22","v":0},0,{"$f":"גיליון1!C22","v":0},0,0,0,0,0]
[{"$f":"גיליון1!A23","v":0},{"$f":"גיליון1!B23","v":0},null,{"$f":"(גיליון3!D23<B23)*B23","v":0},null,{"$f":"INT(D23/גיליון3!H23)","v":0},{"$f":"גיליון1!C23","v":0},0,0,null,{"$f":"(גיליון3!J23>0)*H23/(I23+1)","v":0},{"$f":"AND(גיליון3!L23>0,גיליון3!L23=K23)*גיליון3!L23","v":0},0,null,{"$f":"(גיליון3!N23>0)*H23/(M23+1)","v":0},{"$f":"AND(גיליון3!P23>0,גיליון3!P23=O23)*גיליון3!P23","v":0},0,null,{"$f":"(גיליון3!R23>0)*H23/(Q23+1)","v":0},{"$f":"AND(גיליון3!T23>0,גיליון3!T23=S23)*גיליון3!T23","v":0},0,null,{"$f":"(גיליון3!V23>0)*H23/(U23+1)","v":0},{"$f":"AND(גיליון3!X23>0,גיליון3!X23=W23)*גיליון3!X23","v":0},0,null,{"$f":"(גיליון3!Z23>0)*H23/(Y23+1)","v":0},{"$f":"AND(גיליון3!AB23>0,גיליון3!AB23=AA23)*גיליון3!AB23","v":0},0,null,{"$f":"(גיליון3!AD23>0)*H23/(AC23+1)","v":0},{"$f":"AND(גיליון3!AF23>0,גיליון3!AF23=AE23)*גיליון3!AF23","v":0},0,null,{"$f":"(גיליון3!AH23>0)*H23/(AG23+1)","v":0},{"$f":"AND(גיליון3!AJ23>0,גיליון3!AJ23=AI23)*גיליון3!AJ23","v":0},0,null,{"$f":"(גיליון3!AL23>0)*H23/(AK23+1)","v":0},{"$f":"AND(גיליון3!AN23>0,גיליון3!AN23=AM23)*גיליון3!AN23","v":0},0,null,{"$f":"(גיליון3!AP23>0)*H23/(AO23+1)","v":0},{"$f":"AND(גיליון3!AR23>0,גיליון3!AR23=AQ23)*גיליון3!AR23","v":0},0,null,{"$f":"(גיליון3!AT23>0)*H23/(AS23+1)","v":0},{"$f":"AND(גיליון3!AV23>0,גיליון3!AV23=AU23)*גיליון3!AV23","v":0},0,{"$f":"גיליון1!C23","v":0},0,0,0,0,0]
[{"$f":"גיליון1!A24","v":0},{"$f":"גיליון1!B24","v":0},null,{"$f":"(גיליון3!D24<B24)*B24","v":0},null,{"$f":"INT(D24/גיליון3!H24)","v":0},{"$f":"גיליון1!C24","v":0},0,0,null,{"$f":"(גיליון3!J24>0)*H24/(I24+1)","v":0},{"$f":"AND(גיליון3!L24>0,גיליון3!L24=K24)*גיליון3!L24","v":0},0,null,{"$f":"(גיליון3!N24>0)*H24/(M24+1)","v":0},{"$f":"AND(גיליון3!P24>0,גיליון3!P24=O24)*גיליון3!P24","v":0},0,null,{"$f":"(גיליון3!R24>0)*H24/(Q24+1)","v":0},{"$f":"AND(גיליון3!T24>0,גיליון3!T24=S24)*גיליון3!T24","v":0},0,null,{"$f":"(גיליון3!V24>0)*H24/(U24+1)","v":0},{"$f":"AND(גיליון3!X24>0,גיליון3!X24=W24)*גיליון3!X24","v":0},0,null,{"$f":"(גיליון3!Z24>0)*H24/(Y24+1)","v":0},{"$f":"AND(גיליון3!AB24>0,גיליון3!AB24=AA24)*גיליון3!AB24","v":0},0,null,{"$f":"(גיליון3!AD24>0)*H24/(AC24+1)","v":0},{"$f":"AND(גיליון3!AF24>0,גיליון3!AF24=AE24)*גיליון3!AF24","v":0},0,null,{"$f":"(גיליון3!AH24>0)*H24/(AG24+1)","v":0},{"$f":"AND(גיליון3!AJ24>0,גיליון3!AJ24=AI24)*גיליון3!AJ24","v":0},0,null,{"$f":"(גיליון3!AL24>0)*H24/(AK24+1)","v":0},{"$f":"AND(גיליון3!AN24>0,גיליון3!AN24=AM24)*גיליון3!AN24","v":0},0,null,{"$f":"(גיליון3!AP24>0)*H24/(AO24+1)","v":0},{"$f":"AND(גיליון3!AR24>0,גיליון3!AR24=AQ24)*גיליון3!AR24","v":0},0,null,{"$f":"(גיליון3!AT24>0)*H24/(AS24+1)","v":0},{"$f":"AND(גיליון3!AV24>0,גיליון3!AV24=AU24)*גיליון3!AV24","v":0},0,{"$f":"גיליון1!C24","v":0},0,0,0,0,0]
[{"$f":"גיליון1!A25","v":0},{"$f":"גיליון1!B25","v":0},null,{"$f":"(גיליון3!D25<B25)*B25","v":0},null,{"$f":"INT(D25/גיליון3!H25)","v":0},{"$f":"גיליון1!C25","v":0},0,0,null,{"$f":"(גיליון3!J25>0)*H25/(I25+1)","v":0},{"$f":"AND(גיליון3!L25>0,גיליון3!L25=K25)*גיליון3!L25","v":0},0,null,{"$f":"(גיליון3!N25>0)*H25/(M25+1)","v":0},{"$f":"AND(גיליון3!P25>0,גיליון3!P25=O25)*גיליון3!P25","v":0},0,null,{"$f":"(גיליון3!R25>0)*H25/(Q25+1)","v":0},{"$f":"AND(גיליון3!T25>0,גיליון3!T25=S25)*גיליון3!T25","v":0},0,null,{"$f":"(גיליון3!V25>0)*H25/(U25+1)","v":0},{"$f":"AND(גיליון3!X25>0,גיליון3!X25=W25)*גיליון3!X25","v":0},0,null,{"$f":"(גיליון3!Z25>0)*H25/(Y25+1)","v":0},{"$f":"AND(גיליון3!AB25>0,גיליון3!AB25=AA25)*גיליון3!AB25","v":0},0,null,{"$f":"(גיליון3!AD25>0)*H25/(AC25+1)","v":0},{"$f":"AND(גיליון3!AF25>0,גיליון3!AF25=AE25)*גיליון3!AF25","v":0},0,null,{"$f":"(גיליון3!AH25>0)*H25/(AG25+1)","v":0},{"$f":"AND(גיליון3!AJ25>0,גיליון3!AJ25=AI25)*גיליון3!AJ25","v":0},0,null,{"$f":"(גיליון3!AL25>0)*H25/(AK25+1)","v":0},{"$f":"AND(גיליון3!AN25>0,גיליון3!AN25=AM25)*גיליון3!AN25","v":0},0,null,{"$f":"(גיליון3!AP25>0)*H25/(AO25+1)","v":0},{"$f":"AND(גיליון3!AR25>0,גיליון3!AR25=AQ25)*גיליון3!AR25","v":0},0,null,{"$f":"(גיליון3!AT25>0)*H25/(AS25+1)","v":0},{"$f":"AND(גיליון3!AV25>0,גיליון3!AV25=AU25)*גיליון3!AV25","v":0},0,{"$f":"גיליון1!C25","v":0},0,0,0,0,0]
[{"$f":"גיליון1!A26","v":0},{"$f":"גיליון1!B26","v":0},null,{"$f":"(גיליון3!D26<B26)*B26","v":0},null,{"$f":"INT(D26/גיליון3!H26)","v":0},{"$f":"גיליון1!C26","v":0},0,0,null,{"$f":"(גיליון3!J26>0)*H26/(I26+1)","v":0},{"$f":"AND(גיליון3!L26>0,גיליון3!L26=K26)*גיליון3!L26","v":0},0,null,{"$f":"(גיליון3!N26>0)*H26/(M26+1)","v":0},{"$f":"AND(גיליון3!P26>0,גיליון3!P26=O26)*גיליון3!P26","v":0},0,null,{"$f":"(גיליון3!R26>0)*H26/(Q26+1)","v":0},{"$f":"AND(גיליון3!T26>0,גיליון3!T26=S26)*גיליון3!T26","v":0},0,null,{"$f":"(גיליון3!V26>0)*H26/(U26+1)","v":0},{"$f":"AND(גיליון3!X26>0,גיליון3!X26=W26)*גיליון3!X26","v":0},0,null,{"$f":"(גיליון3!Z26>0)*H26/(Y26+1)","v":0},{"$f":"AND(גיליון3!AB26>0,גיליון3!AB26=AA26)*גיליון3!AB26","v":0},0,null,{"$f":"(גיליון3!AD26>0)*H26/(AC26+1)","v":0},{"$f":"AND(גיליון3!AF26>0,גיליון3!AF26=AE26)*גיליון3!AF26","v":0},0,null,{"$f":"(גיליון3!AH26>0)*H26/(AG26+1)","v":0},{"$f":"AND(גיליון3!AJ26>0,גיליון3!AJ26=AI26)*גיליון3!AJ26","v":0},0,null,{"$f":"(גיליון3!AL26>0)*H26/(AK26+1)","v":0},{"$f":"AND(גיליון3!AN26>0,גיליון3!AN26=AM26)*גיליון3!AN26","v":0},0,null,{"$f":"(גיליון3!AP26>0)*H26/(AO26+1)","v":0},{"$f":"AND(גיליון3!AR26>0,גיליון3!AR26=AQ26)*גיליון3!AR26","v":0},0,null,{"$f":"(גיליון3!AT26>0)*H26/(AS26+1)","v":0},{"$f":"AND(גיליון3!AV26>0,גיליון3!AV26=AU26)*גיליון3!AV26","v":0},0,{"$f":"גיליון1!C26","v":0},0,0,0,0,0]
[{"$f":"גיליון1!A27","v":0},{"$f":"גיליון1!B27","v":0},null,{"$f":"(גיליון3!D27<B27)*B27","v":0},null,{"$f":"INT(D27/גיליון3!H27)","v":0},{"$f":"גיליון1!C27","v":0},0,0,null,{"$f":"(גיליון3!J27>0)*H27/(I27+1)","v":0},{"$f":"AND(גיליון3!L27>0,גיליון3!L27=K27)*גיליון3!L27","v":0},0,null,{"$f":"(גיליון3!N27>0)*H27/(M27+1)","v":0},{"$f":"AND(גיליון3!P27>0,גיליון3!P27=O27)*גיליון3!P27","v":0},0,null,{"$f":"(גיליון3!R27>0)*H27/(Q27+1)","v":0},{"$f":"AND(גיליון3!T27>0,גיליון3!T27=S27)*גיליון3!T27","v":0},0,null,{"$f":"(גיליון3!V27>0)*H27/(U27+1)","v":0},{"$f":"AND(גיליון3!X27>0,גיליון3!X27=W27)*גיליון3!X27","v":0},0,null,{"$f":"(גיליון3!Z27>0)*H27/(Y27+1)","v":0},{"$f":"AND(גיליון3!AB27>0,גיליון3!AB27=AA27)*גיליון3!AB27","v":0},0,null,{"$f":"(גיליון3!AD27>0)*H27/(AC27+1)","v":0},{"$f":"AND(גיליון3!AF27>0,גיליון3!AF27=AE27)*גיליון3!AF27","v":0},0,null,{"$f":"(גיליון3!AH27>0)*H27/(AG27+1)","v":0},{"$f":"AND(גיליון3!AJ27>0,גיליון3!AJ27=AI27)*גיליון3!AJ27","v":0},0,null,{"$f":"(גיליון3!AL27>0)*H27/(AK27+1)","v":0},{"$f":"AND(גיליון3!AN27>0,גיליון3!AN27=AM27)*גיליון3!AN27","v":0},0,null,{"$f":"(גיליון3!AP27>0)*H27/(AO27+1)","v":0},{"$f":"AND(גיליון3!AR27>0,גיליון3!AR27=AQ27)*גיליון3!AR27","v":0},0,null,{"$f":"(גיליון3!AT27>0)*H27/(AS27+1)","v":0},{"$f":"AND(גיליון3!AV27>0,גיליון3!AV27=AU27)*גיליון3!AV27","v":0},0,{"$f":"גיליון1!C27","v":0},0,0,0,0,0]
[{"$f":"גיליון1!A14","v":"כולנו חברים נ נח"},{"$f":"גיליון1!B28","v":0},null,{"$f":"(גיליון3!D28<B28)*B28","v":0},null,{"$f":"INT(D28/גיליון3!H28)","v":0},{"$f":"גיליון1!C28","v":0},0,0,null,{"$f":"(גיליון3!J28>0)*H28/(I28+1)","v":0},{"$f":"AND(גיליון3!L28>0,גיליון3!L28=K28)*גיליון3!L28","v":0},0,null,{"$f":"(גיליון3!N28>0)*H28/(M28+1)","v":0},{"$f":"AND(גיליון3!P28>0,גיליון3!P28=O28)*גיליון3!P28","v":0},0,null,{"$f":"(גיליון3!R28>0)*H28/(Q28+1)","v":0},{"$f":"AND(גיליון3!T28>0,גיליון3!T28=S28)*גיליון3!T28","v":0},0,null,{"$f":"(גיליון3!V28>0)*H28/(U28+1)","v":0},{"$f":"AND(גיליון3!X28>0,גיליון3!X28=W28)*גיליון3!X28","v":0},0,null,{"$f":"(גיליון3!Z28>0)*H28/(Y28+1)","v":0},{"$f":"AND(גיליון3!AB28>0,גיליון3!AB28=AA28)*גיליון3!AB28","v":0},0,null,{"$f":"(גיליון3!AD28>0)*H28/(AC28+1)","v":0},{"$f":"AND(גיליון3!AF28>0,גיליון3!AF28=AE28)*גיליון3!AF28","v":0},0,null,{"$f":"(גיליון3!AH28>0)*H28/(AG28+1)","v":0},{"$f":"AND(גיליון3!AJ28>0,גיליון3!AJ28=AI28)*גיליון3!AJ28","v":0},0,null,{"$f":"(גיליון3!AL28>0)*H28/(AK28+1)","v":0},{"$f":"AND(גיליון3!AN28>0,גיליון3!AN28=AM28)*גיליון3!AN28","v":0},0,null,{"$f":"(גיליון3!AP28>0)*H28/(AO28+1)","v":0},{"$f":"AND(גיליון3!AR28>0,גיליון3!AR28=AQ28)*גיליון3!AR28","v":0},0,null,{"$f":"(גיליון3!AT28>0)*H28/(AS28+1)","v":0},{"$f":"AND(גיליון3!AV28>0,גיליון3!AV28=AU28)*גיליון3!AV28","v":0},0,{"$f":"גיליון1!C28","v":0},0,0,0,0,0]
[{"$f":"גיליון1!A29","v":0},{"$f":"גיליון1!B29","v":0},null,{"$f":"(גיליון3!D29<B29)*B29","v":0},null,{"$f":"INT(D29/גיליון3!H29)","v":0},{"$f":"גיליון1!C29","v":0},0,0,null,{"$f":"(גיליון3!J29>0)*H29/(I29+1)","v":0},{"$f":"AND(גיליון3!L29>0,גיליון3!L29=K29)*גיליון3!L29","v":0},0,null,{"$f":"(גיליון3!N29>0)*H29/(M29+1)","v":0},{"$f":"AND(גיליון3!P29>0,גיליון3!P29=O29)*גיליון3!P29","v":0},0,null,{"$f":"(גיליון3!R29>0)*H29/(Q29+1)","v":0},{"$f":"AND(גיליון3!T29>0,גיליון3!T29=S29)*גיליון3!T29","v":0},0,null,{"$f":"(גיליון3!V29>0)*H29/(U29+1)","v":0},{"$f":"AND(גיליון3!X29>0,גיליון3!X29=W29)*גיליון3!X29","v":0},0,null,{"$f":"(גיליון3!Z29>0)*H29/(Y29+1)","v":0},{"$f":"AND(גיליון3!AB29>0,גיליון3!AB29=AA29)*גיליון3!AB29","v":0},0,null,{"$f":"(גיליון3!AD29>0)*H29/(AC29+1)","v":0},{"$f":"AND(גיליון3!AF29>0,גיליון3!AF29=AE29)*גיליון3!AF29","v":0},0,null,{"$f":"(גיליון3!AH29>0)*H29/(AG29+1)","v":0},{"$f":"AND(גיליון3!AJ29>0,גיליון3!AJ29=AI29)*גיליון3!AJ29","v":0},0,null,{"$f":"(גיליון3!AL29>0)*H29/(AK29+1)","v":0},{"$f":"AND(גיליון3!AN29>0,גיליון3!AN29=AM29)*גיליון3!AN29","v":0},0,null,{"$f":"(גיליון3!AP29>0)*H29/(AO29+1)","v":0},{"$f":"AND(גיליון3!AR29>0,גיליון3!AR29=AQ29)*גיליון3!AR29","v":0},0,null,{"$f":"(גיליון3!AT29>0)*H29/(AS29+1)","v":0},{"$f":"AND(גיליון3!AV29>0,גיליון3!AV29=AU29)*גיליון3!AV29","v":0},0,{"$f":"גיליון1!C29","v":0},0,0,0,0,0]
[{"$f":"גיליון1!A30","v":0},{"$f":"גיליון1!B30","v":0},null,{"$f":"(גיליון3!D30<B30)*B30","v":0},null,{"$f":"INT(D30/גיליון3!H30)","v":0},{"$f":"גיליון1!C30","v":0},0,0,null,{"$f":"(גיליון3!J30>0)*H30/(I30+1)","v":0},{"$f":"AND(גיליון3!L30>0,גיליון3!L30=K30)*גיליון3!L30","v":0},0,null,{"$f":"(גיליון3!N30>0)*H30/(M30+1)","v":0},{"$f":"AND(גיליון3!P30>0,גיליון3!P30=O30)*גיליון3!P30","v":0},0,null,{"$f":"(גיליון3!R30>0)*H30/(Q30+1)","v":0},{"$f":"AND(גיליון3!T30>0,גיליון3!T30=S30)*גיליון3!T30","v":0},0,null,{"$f":"(גיליון3!V30>0)*H30/(U30+1)","v":0},{"$f":"AND(גיליון3!X30>0,גיליון3!X30=W30)*גיליון3!X30","v":0},0,null,{"$f":"(גיליון3!Z30>0)*H30/(Y30+1)","v":0},{"$f":"AND(גיליון3!AB30>0,גיליון3!AB30=AA30)*גיליון3!AB30","v":0},0,null,{"$f":"(גיליון3!AD30>0)*H30/(AC30+1)","v":0},{"$f":"AND(גיליון3!AF30>0,גיליון3!AF30=AE30)*גיליון3!AF30","v":0},0,null,{"$f":"(גיליון3!AH30>0)*H30/(AG30+1)","v":0},{"$f":"AND(גיליון3!AJ30>0,גיליון3!AJ30=AI30)*גיליון3!AJ30","v":0},0,null,{"$f":"(גיליון3!AL30>0)*H30/(AK30+1)","v":0},{"$f":"AND(גיליון3!AN30>0,גיליון3!AN30=AM30)*גיליון3!AN30","v":0},0,null,{"$f":"(גיליון3!AP30>0)*H30/(AO30+1)","v":0},{"$f":"AND(גיליון3!AR30>0,גיליון3!AR30=AQ30)*גיליון3!AR30","v":0},0,null,{"$f":"(גיליון3!AT30>0)*H30/(AS30+1)","v":0},{"$f":"AND(גיליון3!AV30>0,גיליון3!AV30=AU30)*גיליון3!AV30","v":0},0,{"$f":"גיליון1!C30","v":0},0,0,0,0,0]
[{"$f":"גיליון1!A31","v":0},{"$f":"גיליון1!B31","v":0},null,{"$f":"(גיליון3!D31<B31)*B31","v":0},null,{"$f":"INT(D31/גיליון3!H31)","v":0},{"$f":"גיליון1!C31","v":0},0,0,null,{"$f":"(גיליון3!J31>0)*H31/(I31+1)","v":0},{"$f":"AND(גיליון3!L31>0,גיליון3!L31=K31)*גיליון3!L31","v":0},0,null,{"$f":"(גיליון3!N31>0)*H31/(M31+1)","v":0},{"$f":"AND(גיליון3!P31>0,גיליון3!P31=O31)*גיליון3!P31","v":0},0,null,{"$f":"(גיליון3!R31>0)*H31/(Q31+1)","v":0},{"$f":"AND(גיליון3!T31>0,גיליון3!T31=S31)*גיליון3!T31","v":0},0,null,{"$f":"(גיליון3!V31>0)*H31/(U31+1)","v":0},{"$f":"AND(גיליון3!X31>0,גיליון3!X31=W31)*גיליון3!X31","v":0},0,null,{"$f":"(גיליון3!Z31>0)*H31/(Y31+1)","v":0},{"$f":"AND(גיליון3!AB31>0,גיליון3!AB31=AA31)*גיליון3!AB31","v":0},0,null,{"$f":"(גיליון3!AD31>0)*H31/(AC31+1)","v":0},{"$f":"AND(גיליון3!AF31>0,גיליון3!AF31=AE31)*גיליון3!AF31","v":0},0,null,{"$f":"(גיליון3!AH31>0)*H31/(AG31+1)","v":0},{"$f":"AND(גיליון3!AJ31>0,גיליון3!AJ31=AI31)*גיליון3!AJ31","v":0},0,null,{"$f":"(גיליון3!AL31>0)*H31/(AK31+1)","v":0},{"$f":"AND(גיליון3!AN31>0,גיליון3!AN31=AM31)*גיליון3!AN31","v":0},0,null,{"$f":"(גיליון3!AP31>0)*H31/(AO31+1)","v":0},{"$f":"AND(גיליון3!AR31>0,גיליון3!AR31=AQ31)*גיליון3!AR31","v":0},0,null,{"$f":"(גיליון3!AT31>0)*H31/(AS31+1)","v":0},{"$f":"AND(גיליון3!AV31>0,גיליון3!AV31=AU31)*גיליון3!AV31","v":0},0,{"$f":"גיליון1!C31","v":0},0,0,0,0,0]
[{"$f":"גיליון1!A32","v":0},{"$f":"גיליון1!B32","v":0},null,{"$f":"(גיליון3!D32<B32)*B32","v":0},null,{"$f":"INT(D32/גיליון3!H32)","v":0},{"$f":"גיליון1!C32","v":0},0,0,null,{"$f":"(גיליון3!J32>0)*H32/(I32+1)","v":0},{"$f":"AND(גיליון3!L32>0,גיליון3!L32=K32)*גיליון3!L32","v":0},0,null,{"$f":"(גיליון3!N32>0)*H32/(M32+1)","v":0},{"$f":"AND(גיליון3!P32>0,גיליון3!P32=O32)*גיליון3!P32","v":0},0,null,{"$f":"(גיליון3!R32>0)*H32/(Q32+1)","v":0},{"$f":"AND(גיליון3!T32>0,גיליון3!T32=S32)*גיליון3!T32","v":0},0,null,{"$f":"(גיליון3!V32>0)*H32/(U32+1)","v":0},{"$f":"AND(גיליון3!X32>0,גיליון3!X32=W32)*גיליון3!X32","v":0},0,null,{"$f":"(גיליון3!Z32>0)*H32/(Y32+1)","v":0},{"$f":"AND(גיליון3!AB32>0,גיליון3!AB32=AA32)*גיליון3!AB32","v":0},0,null,{"$f":"(גיליון3!AD32>0)*H32/(AC32+1)","v":0},{"$f":"AND(גיליון3!AF32>0,גיליון3!AF32=AE32)*גיליון3!AF32","v":0},0,null,{"$f":"(גיליון3!AH32>0)*H32/(AG32+1)","v":0},{"$f":"AND(גיליון3!AJ32>0,גיליון3!AJ32=AI32)*גיליון3!AJ32","v":0},0,null,{"$f":"(גיליון3!AL32>0)*H32/(AK32+1)","v":0},{"$f":"AND(גיליון3!AN32>0,גיליון3!AN32=AM32)*גיליון3!AN32","v":0},0,null,{"$f":"(גיליון3!AP32>0)*H32/(AO32+1)","v":0},{"$f":"AND(גיליון3!AR32>0,גיליון3!AR32=AQ32)*גיליון3!AR32","v":0},0,null,{"$f":"(גיליון3!AT32>0)*H32/(AS32+1)","v":0},{"$f":"AND(גיליון3!AV32>0,גיליון3!AV32=AU32)*גיליון3!AV32","v":0},0,{"$f":"גיליון1!C32","v":0},0,0,0,0,0]
[{"$f":"גיליון1!A33","v":0},{"$f":"גיליון1!B33","v":0},null,{"$f":"(גיליון3!D33<B33)*B33","v":0},null,{"$f":"INT(D33/גיליון3!H33)","v":0},{"$f":"גיליון1!C33","v":0},0,0,null,{"$f":"(גיליון3!J33>0)*H33/(I33+1)","v":0},{"$f":"AND(גיליון3!L33>0,גיליון3!L33=K33)*גיליון3!L33","v":0},0,null,{"$f":"(גיליון3!N33>0)*H33/(M33+1)","v":0},{"$f":"AND(גיליון3!P33>0,גיליון3!P33=O33)*גיליון3!P33","v":0},0,null,{"$f":"(גיליון3!R33>0)*H33/(Q33+1)","v":0},{"$f":"AND(גיליון3!T33>0,גיליון3!T33=S33)*גיליון3!T33","v":0},0,null,{"$f":"(גיליון3!V33>0)*H33/(U33+1)","v":0},{"$f":"AND(גיליון3!X33>0,גיליון3!X33=W33)*גיליון3!X33","v":0},0,null,{"$f":"(גיליון3!Z33>0)*H33/(Y33+1)","v":0},{"$f":"AND(גיליון3!AB33>0,גיליון3!AB33=AA33)*גיליון3!AB33","v":0},0,null,{"$f":"(גיליון3!AD33>0)*H33/(AC33+1)","v":0},{"$f":"AND(גיליון3!AF33>0,גיליון3!AF33=AE33)*גיליון3!AF33","v":0},0,null,{"$f":"(גיליון3!AH33>0)*H33/(AG33+1)","v":0},{"$f":"AND(גיליון3!AJ33>0,גיליון3!AJ33=AI33)*גיליון3!AJ33","v":0},0,null,{"$f":"(גיליון3!AL33>0)*H33/(AK33+1)","v":0},{"$f":"AND(גיליון3!AN33>0,גיליון3!AN33=AM33)*גיליון3!AN33","v":0},0,null,{"$f":"(גיליון3!AP33>0)*H33/(AO33+1)","v":0},{"$f":"AND(גיליון3!AR33>0,גיליון3!AR33=AQ33)*גיליון3!AR33","v":0},0,null,{"$f":"(גיליון3!AT33>0)*H33/(AS33+1)","v":0},{"$f":"AND(גיליון3!AV33>0,גיליון3!AV33=AU33)*גיליון3!AV33","v":0},0,{"$f":"גיליון1!C33","v":0},0,0,0,0,0]
[{"$f":"גיליון1!A34","v":0},{"$f":"גיליון1!B34","v":0},null,{"$f":"(גיליון3!D34<B34)*B34","v":0},null,{"$f":"INT(D34/גיליון3!H34)","v":0},{"$f":"גיליון1!C34","v":0},0,0,null,{"$f":"(גיליון3!J34>0)*H34/(I34+1)","v":0},{"$f":"AND(גיליון3!L34>0,גיליון3!L34=K34)*גיליון3!L34","v":0},0,null,{"$f":"(גיליון3!N34>0)*H34/(M34+1)","v":0},{"$f":"AND(גיליון3!P34>0,גיליון3!P34=O34)*גיליון3!P34","v":0},0,null,{"$f":"(גיליון3!R34>0)*H34/(Q34+1)","v":0},{"$f":"AND(גיליון3!T34>0,גיליון3!T34=S34)*גיליון3!T34","v":0},0,null,{"$f":"(גיליון3!V34>0)*H34/(U34+1)","v":0},{"$f":"AND(גיליון3!X34>0,גיליון3!X34=W34)*גיליון3!X34","v":0},0,null,{"$f":"(גיליון3!Z34>0)*H34/(Y34+1)","v":0},{"$f":"AND(גיליון3!AB34>0,גיליון3!AB34=AA34)*גיליון3!AB34","v":0},0,null,{"$f":"(גיליון3!AD34>0)*H34/(AC34+1)","v":0},{"$f":"AND(גיליון3!AF34>0,גיליון3!AF34=AE34)*גיליון3!AF34","v":0},0,null,{"$f":"(גיליון3!AH34>0)*H34/(AG34+1)","v":0},{"$f":"AND(גיליון3!AJ34>0,גיליון3!AJ34=AI34)*גיליון3!AJ34","v":0},0,null,{"$f":"(גיליון3!AL34>0)*H34/(AK34+1)","v":0},{"$f":"AND(גיליון3!AN34>0,גיליון3!AN34=AM34)*גיליון3!AN34","v":0},0,null,{"$f":"(גיליון3!AP34>0)*H34/(AO34+1)","v":0},{"$f":"AND(גיליון3!AR34>0,גיליון3!AR34=AQ34)*גיליון3!AR34","v":0},0,null,{"$f":"(גיליון3!AT34>0)*H34/(AS34+1)","v":0},{"$f":"AND(גיליון3!AV34>0,גיליון3!AV34=AU34)*גיליון3!AV34","v":0},0,{"$f":"גיליון1!C34","v":0},0,0,0,0,0]
[{"$f":"גיליון1!A35","v":0},{"$f":"גיליון1!B35","v":0},null,{"$f":"(גיליון3!D35<B35)*B35","v":0},null,{"$f":"INT(D35/גיליון3!H35)","v":0},{"$f":"גיליון1!C35","v":0},0,0,null,{"$f":"(גיליון3!J35>0)*H35/(I35+1)","v":0},{"$f":"AND(גיליון3!L35>0,גיליון3!L35=K35)*גיליון3!L35","v":0},0,null,{"$f":"(גיליון3!N35>0)*H35/(M35+1)","v":0},{"$f":"AND(גיליון3!P35>0,גיליון3!P35=O35)*גיליון3!P35","v":0},0,null,{"$f":"(גיליון3!R35>0)*H35/(Q35+1)","v":0},{"$f":"AND(גיליון3!T35>0,גיליון3!T35=S35)*גיליון3!T35","v":0},0,null,{"$f":"(גיליון3!V35>0)*H35/(U35+1)","v":0},{"$f":"AND(גיליון3!X35>0,גיליון3!X35=W35)*גיליון3!X35","v":0},0,null,{"$f":"(גיליון3!Z35>0)*H35/(Y35+1)","v":0},{"$f":"AND(גיליון3!AB35>0,גיליון3!AB35=AA35)*גיליון3!AB35","v":0},0,null,{"$f":"(גיליון3!AD35>0)*H35/(AC35+1)","v":0},{"$f":"AND(גיליון3!AF35>0,גיליון3!AF35=AE35)*גיליון3!AF35","v":0},0,null,{"$f":"(גיליון3!AH35>0)*H35/(AG35+1)","v":0},{"$f":"AND(גיליון3!AJ35>0,גיליון3!AJ35=AI35)*גיליון3!AJ35","v":0},0,null,{"$f":"(גיליון3!AL35>0)*H35/(AK35+1)","v":0},{"$f":"AND(גיליון3!AN35>0,גיליון3!AN35=AM35)*גיליון3!AN35","v":0},0,null,{"$f":"(גיליון3!AP35>0)*H35/(AO35+1)","v":0},{"$f":"AND(גיליון3!AR35>0,גיליון3!AR35=AQ35)*גיליון3!AR35","v":0},0,null,{"$f":"(גיליון3!AT35>0)*H35/(AS35+1)","v":0},{"$f":"AND(גיליון3!AV35>0,גיליון3!AV35=AU35)*גיליון3!AV35","v":0},0,{"$f":"גיליון1!C35","v":0},0,0,0,0,0]
[{"$f":"גיליון1!A36","v":0},{"$f":"גיליון1!B36","v":0},null,{"$f":"(גיליון3!D36<B36)*B36","v":0},null,{"$f":"INT(D36/גיליון3!H36)","v":0},{"$f":"גיליון1!C36","v":0},0,0,null,{"$f":"(גיליון3!J36>0)*H36/(I36+1)","v":0},{"$f":"AND(גיליון3!L36>0,גיליון3!L36=K36)*גיליון3!L36","v":0},0,null,{"$f":"(גיליון3!N36>0)*H36/(M36+1)","v":0},{"$f":"AND(גיליון3!P36>0,גיליון3!P36=O36)*גיליון3!P36","v":0},0,null,{"$f":"(גיליון3!R36>0)*H36/(Q36+1)","v":0},{"$f":"AND(גיליון3!T36>0,גיליון3!T36=S36)*גיליון3!T36","v":0},0,null,{"$f":"(גיליון3!V36>0)*H36/(U36+1)","v":0},{"$f":"AND(גיליון3!X36>0,גיליון3!X36=W36)*גיליון3!X36","v":0},0,null,{"$f":"(גיליון3!Z36>0)*H36/(Y36+1)","v":0},{"$f":"AND(גיליון3!AB36>0,גיליון3!AB36=AA36)*גיליון3!AB36","v":0},0,null,{"$f":"(גיליון3!AD36>0)*H36/(AC36+1)","v":0},{"$f":"AND(גיליון3!AF36>0,גיליון3!AF36=AE36)*גיליון3!AF36","v":0},0,null,{"$f":"(גיליון3!AH36>0)*H36/(AG36+1)","v":0},{"$f":"AND(גיליון3!AJ36>0,גיליון3!AJ36=AI36)*גיליון3!AJ36","v":0},0,null,{"$f":"(גיליון3!AL36>0)*H36/(AK36+1)","v":0},{"$f":"AND(גיליון3!AN36>0,גיליון3!AN36=AM36)*גיליון3!AN36","v":0},0,null,{"$f":"(גיליון3!AP36>0)*H36/(AO36+1)","v":0},{"$f":"AND(גיליון3!AR36>0,גיליון3!AR36=AQ36)*גיליון3!AR36","v":0},0,null,{"$f":"(גיליון3!AT36>0)*H36/(AS36+1)","v":0},{"$f":"AND(גיליון3!AV36>0,גיליון3!AV36=AU36)*גיליון3!AV36","v":0},0,{"$f":"גיליון1!C36","v":0},0,0,0,0,0]
[{"$f":"גיליון1!A37","v":0},{"$f":"גיליון1!B37","v":0},null,{"$f":"(גיליון3!D37<B37)*B37","v":0},null,{"$f":"INT(D37/גיליון3!H37)","v":0},{"$f":"גיליון1!C37","v":0},0,0,null,{"$f":"(גיליון3!J37>0)*H37/(I37+1)","v":0},{"$f":"AND(גיליון3!L37>0,גיליון3!L37=K37)*גיליון3!L37","v":0},0,null,{"$f":"(גיליון3!N37>0)*H37/(M37+1)","v":0},{"$f":"AND(גיליון3!P37>0,גיליון3!P37=O37)*גיליון3!P37","v":0},0,null,{"$f":"(גיליון3!R37>0)*H37/(Q37+1)","v":0},{"$f":"AND(גיליון3!T37>0,גיליון3!T37=S37)*גיליון3!T37","v":0},0,null,{"$f":"(גיליון3!V37>0)*H37/(U37+1)","v":0},{"$f":"AND(גיליון3!X37>0,גיליון3!X37=W37)*גיליון3!X37","v":0},0,null,{"$f":"(גיליון3!Z37>0)*H37/(Y37+1)","v":0},{"$f":"AND(גיליון3!AB37>0,גיליון3!AB37=AA37)*גיליון3!AB37","v":0},0,null,{"$f":"(גיליון3!AD37>0)*H37/(AC37+1)","v":0},{"$f":"AND(גיליון3!AF37>0,גיליון3!AF37=AE37)*גיליון3!AF37","v":0},0,null,{"$f":"(גיליון3!AH37>0)*H37/(AG37+1)","v":0},{"$f":"AND(גיליון3!AJ37>0,גיליון3!AJ37=AI37)*גיליון3!AJ37","v":0},0,null,{"$f":"(גיליון3!AL37>0)*H37/(AK37+1)","v":0},{"$f":"AND(גיליון3!AN37>0,גיליון3!AN37=AM37)*גיליון3!AN37","v":0},0,null,{"$f":"(גיליון3!AP37>0)*H37/(AO37+1)","v":0},{"$f":"AND(גיליון3!AR37>0,גיליון3!AR37=AQ37)*גיליון3!AR37","v":0},0,null,{"$f":"(גיליון3!AT37>0)*H37/(AS37+1)","v":0},{"$f":"AND(גיליון3!AV37>0,גיליון3!AV37=AU37)*גיליון3!AV37","v":0},0,{"$f":"גיליון1!C37","v":0},0,0,0,0,0]
[{"$f":"גיליון1!A38","v":0},{"$f":"גיליון1!B38","v":0},null,{"$f":"(גיליון3!D38<B38)*B38","v":0},null,{"$f":"INT(D38/גיליון3!H38)","v":0},{"$f":"גיליון1!C38","v":0},0,0,null,{"$f":"(גיליון3!J38>0)*H38/(I38+1)","v":0},{"$f":"AND(גיליון3!L38>0,גיליון3!L38=K38)*גיליון3!L38","v":0},0,null,{"$f":"(גיליון3!N38>0)*H38/(M38+1)","v":0},{"$f":"AND(גיליון3!P38>0,גיליון3!P38=O38)*גיליון3!P38","v":0},0,null,{"$f":"(גיליון3!R38>0)*H38/(Q38+1)","v":0},{"$f":"AND(גיליון3!T38>0,גיליון3!T38=S38)*גיליון3!T38","v":0},0,null,{"$f":"(גיליון3!V38>0)*H38/(U38+1)","v":0},{"$f":"AND(גיליון3!X38>0,גיליון3!X38=W38)*גיליון3!X38","v":0},0,null,{"$f":"(גיליון3!Z38>0)*H38/(Y38+1)","v":0},{"$f":"AND(גיליון3!AB38>0,גיליון3!AB38=AA38)*גיליון3!AB38","v":0},0,null,{"$f":"(גיליון3!AD38>0)*H38/(AC38+1)","v":0},{"$f":"AND(גיליון3!AF38>0,גיליון3!AF38=AE38)*גיליון3!AF38","v":0},0,null,{"$f":"(גיליון3!AH38>0)*H38/(AG38+1)","v":0},{"$f":"AND(גיליון3!AJ38>0,גיליון3!AJ38=AI38)*גיליון3!AJ38","v":0},0,null,{"$f":"(גיליון3!AL38>0)*H38/(AK38+1)","v":0},{"$f":"AND(גיליון3!AN38>0,גיליון3!AN38=AM38)*גיליון3!AN38","v":0},0,null,{"$f":"(גיליון3!AP38>0)*H38/(AO38+1)","v":0},{"$f":"AND(גיליון3!AR38>0,גיליון3!AR38=AQ38)*גיליון3!AR38","v":0},0,null,{"$f":"(גיליון3!AT38>0)*H38/(AS38+1)","v":0},{"$f":"AND(גיליון3!AV38>0,גיליון3!AV38=AU38)*גיליון3!AV38","v":0},0,{"$f":"גיליון1!C38","v":0},0,0,0,0,0]
[{"$f":"גיליון1!A39","v":0},{"$f":"גיליון1!B39","v":0},null,{"$f":"(גיליון3!D39<B39)*B39","v":0},null,{"$f":"INT(D39/גיליון3!H39)","v":0},{"$f":"גיליון1!C39","v":0},0,0,null,{"$f":"(גיליון3!J39>0)*H39/(I39+1)","v":0},{"$f":"AND(גיליון3!L39>0,גיליון3!L39=K39)*גיליון3!L39","v":0},0,null,{"$f":"(גיליון3!N39>0)*H39/(M39+1)","v":0},{"$f":"AND(גיליון3!P39>0,גיליון3!P39=O39)*גיליון3!P39","v":0},0,null,{"$f":"(גיליון3!R39>0)*H39/(Q39+1)","v":0},{"$f":"AND(גיליון3!T39>0,גיליון3!T39=S39)*גיליון3!T39","v":0},0,null,{"$f":"(גיליון3!V39>0)*H39/(U39+1)","v":0},{"$f":"AND(גיליון3!X39>0,גיליון3!X39=W39)*גיליון3!X39","v":0},0,null,{"$f":"(גיליון3!Z39>0)*H39/(Y39+1)","v":0},{"$f":"AND(גיליון3!AB39>0,גיליון3!AB39=AA39)*גיליון3!AB39","v":0},0,null,{"$f":"(גיליון3!AD39>0)*H39/(AC39+1)","v":0},{"$f":"AND(גיליון3!AF39>0,גיליון3!AF39=AE39)*גיליון3!AF39","v":0},0,null,{"$f":"(גיליון3!AH39>0)*H39/(AG39+1)","v":0},{"$f":"AND(גיליון3!AJ39>0,גיליון3!AJ39=AI39)*גיליון3!AJ39","v":0},0,null,{"$f":"(גיליון3!AL39>0)*H39/(AK39+1)","v":0},{"$f":"AND(גיליון3!AN39>0,גיליון3!AN39=AM39)*גיליון3!AN39","v":0},0,null,{"$f":"(גיליון3!AP39>0)*H39/(AO39+1)","v":0},{"$f":"AND(גיליון3!AR39>0,גיליון3!AR39=AQ39)*גיליון3!AR39","v":0},0,null,{"$f":"(גיליון3!AT39>0)*H39/(AS39+1)","v":0},{"$f":"AND(גיליון3!AV39>0,גיליון3!AV39=AU39)*גיליון3!AV39","v":0},0,{"$f":"גיליון1!C39","v":0},0,0,0,0,0]
[{"$f":"גיליון1!A40","v":"סה\"כ"},{"$f":"גיליון1!B40","v":3986855},null,{"$f":"SUM(D2:D39)","v":3827515},null,{"$f":"SUM(F2:F39)","v":114},null,{"$f":"SUM(H2:H39)","v":3827515},114,{"$nulls":3},{"$f":"SUM(M2:M39)","v":115},{"$nulls":3},{"$f":"SUM(Q2:Q39)","v":116},{"$nulls":3},{"$f":"SUM(U2:U39)","v":117},{"$nulls":3},{"$f":"SUM(Y2:Y39)","v":118},{"$nulls":3},{"$f":"SUM(AC2:AC39)","v":119},{"$nulls":3},{"$f":"SUM(AG2:AG39)","v":120},{"$nulls":3},{"$f":"SUM(AK2:AK39)","v":120},{"$nulls":3},{"$f":"SUM(AO2:AO39)","v":120},{"$nulls":3},{"$f":"SUM(AS2:AS39)","v":120},{"$nulls":3},{"$f":"SUM(AW2:AW39)","v":120},null,null,{"$f":"SUM(AZ2:AZ39)","v":116},null,null,{"$f":"SUM(BC2:BC39)","v":120}]
[]
[{"$nulls":3},{"$f":"D40/B40","v":0.9600336606172033}]
{"$rows_empty":8}
[{"$f":"גיליון1!A1","v":"רשימה"},{"$f":"גיליון1!B1","v":"קולות"},"אחוז החסימה","רשימות שעברו את אחוז החסימה","מודד","מנדטים לרשימה","מנדטים נותרים","חלוקה 1","גדול ביותר","תוצאה","מנדטים נותרים","חלוקה 2","גדול ביותר","תוצאה","מנדטים נותרים","חלוקה 3","גדול ביותר","תוצאה","מנדטים נותרים","חלוקה 4","גדול ביותר","תוצאה","מנדטים נותרים","חלוקה 5","גדול ביותר","תוצאה","מנדטים נותרים","חלוקה 6","גדול ביותר","תוצאה","מנדטים נותרים","חלוקה 7","גדול ביותר","תוצאה","מנדטים נותרים","חלוקה 8","גדול ביותר","תוצאה","מנדטים נותרים","חלוקה 9","גדול ביותר","תוצאה","מנדטים נותרים","חלוקה 10","גדול ביותר","תוצאה"]
[{"$f":"גיליון1!A2","v":"הבית היהודי"},{"$f":"גיליון1!B2","v":254663},{"$f":"גיליון1!G2","v":0.0325},{"$f":"IF(B52<גיליון3!D2,0,B52)","v":254663},{"$f":"גיליון2!D90/גיליון1!H2","v":31895.958333333332},{"$f":"INT(D52/גיליון3!H2)","v":7},{"$f":"E53-F90","v":6},{"$f":"IF(גיליון3!G52>0,D52/גיליון3!H2-F52,0)","v":0.9841777236666616},{"$f":"IF(H52=0,0,IF(גיליון3!I52=H52,H52,0))","v":0},{"$f":"IF(I52=0,F52,F52+1)","v":7},{"$f":"E53-J90","v":5},{"$f":"IF(גיליון3!K52>0,D52/גיליון3!H2-J52,0)","v":0.9841777236666616},{"$f":"IF(L52=0,0,IF(גיליון3!M52=L52,L52,0))","v":0.9841777236666616},{"$f":"IF(M52=0,J52,J52+1)","v":8},{"$f":"E53-N90","v":4},{"$f":"IF(גיליון3!O52>0,D52/גיליון3!H2-N52,0)","v":-0.015822276333338436},{"$f":"IF(P52=0,0,IF(גיליון3!Q52=P52,P52,0))","v":0},{"$f":"IF(Q52=0,N52,N52+1)","v":8},{"$f":"E53-R90","v":3},{"$f":"IF(גיליון3!S52>0,D52/גיליון3!H2-R52,0)","v":-0.015822276333338436},{"$f":"IF(T52=0,0,IF(גיליון3!U52=T52,T52,0))","v":0},{"$f":"IF(U52=0,R52,R52+1)","v":8},{"$f":"E53-V90","v":2},{"$f":"IF(גיליון3!W52>0,D52/גיליון3!H2-V52,0)","v":-0.015822276333338436},{"$f":"IF(X52=0,0,IF(גיליון3!Y52=X52,X52,0))","v":0},{"$f":"IF(Y52=0,V52,V52+1)","v":8},{"$f":"E53-Z90","v":1},{"$f":"IF(גיליון3!AA52>0,D52/גיליון3!H2-Z52,0)","v":-0.015822276333338436},{"$f":"IF(AB52=0,0,IF(גיליון3!AC52=AB52,AB52,0))","v":0},{"$f":"IF(AC52=0,Z52,Z52+1)","v":8},{"$f":"E53-AD90","v":0},{"$f":"IF(גיליון3!AE52>0,D52/גיליון3!H2-AD52,0)","v":0},{"$f":"IF(AF52=0,0,IF(גיליון3!AG52=AF52,AF52,0))","v":0},{"$f":"IF(AG52=0,AD52,AD52+1)","v":8},{"$f":"E53-AH90","v":0},{"$f":"IF(גיליון3!AI52>0,D52/גיליון3!H2-AH52,0)","v":0},{"$f":"IF(AJ52=0,0,IF(גיליון3!AK52=AJ52,AJ52,0))","v":0},{"$f":"IF(AK52=0,AH52,AH52+1)","v":8},{"$f":"E53-AL90","v":0},{"$f":"IF(גיליון3!AM52>0,D52/גיליון3!H2-AL52,0)","v":0},{"$f":"IF(AN52=0,0,IF(גיליון3!AO52=AN52,AN52,0))","v":0},{"$f":"IF(AO52=0,AL52,AL52+1)","v":8},{"$f":"E53-AP90","v":0},{"$f":"IF(גיליון3!AQ52>0,D52/גיליון3!H2-AP52,0)","v":0},{"$f":"IF(AR52=0,0,IF(גיליון3!AS52=AR52,AR52,0))","v":0},{"$f":"IF(AS52=0,AP52,AP52+1)","v":8}]
[{"$f":"גיליון1!A3","v":"הליכוד"},{"$f":"גיליון1!B3","v":924766},{"$f":"B90*C52","v":129572.7875},{"$f":"IF(B53<גיליון3!D3,0,B53)","v":924766},{"$f":"גיליון1!H2","v":120},{"$f":"INT(D53/גיליון3!H3)","v":28},null,{"$f":"IF(גיליון3!G53>0,D53/גיליון3!H3-F53,0)","v":0.993203161842608},{"$f":"IF(H53=0,0,IF(גיליון3!I53=H53,H53,0))","v":0.993203161842608},29,null,{"$f":"IF(גיליון3!K53>0,D53/גיליון3!H3-J53,0)","v":-0.00679683815739196},{"$f":"IF(L53=0,0,IF(גיליון3!M53=L53,L53,0))","v":0},29,null,{"$f":"IF(גיליון3!O53>0,D53/גיליון3!H3-N53,0)","v":-0.00679683815739196},{"$f":"IF(P53=0,0,IF(גיליון3!Q53=P53,P53,0))","v":0},29,null,{"$f":"IF(גיליון3!S53>0,D53/גיליון3!H3-R53,0)","v":-0.00679683815739196},{"$f":"IF(T53=0,0,IF(גיליון3!U53=T53,T53,0))","v":0},29,null,{"$f":"IF(גיליון3!W53>0,D53/גיליון3!H3-V53,0)","v":-0.00679683815739196},{"$f":"IF(X53=0,0,IF(גיליון3!Y53=X53,X53,0))","v":0},29,null,{"$f":"IF(גיליון3!AA53>0,D53/גיליון3!H3-Z53,0)","v":-0.00679683815739196},{"$f":"IF(AB53=0,0,IF(גיליון3!AC53=AB53,AB53,0))","v":0},29,null,{"$f":"IF(גיליון3!AE53>0,D53/גיליון3!H3-AD53,0)","v":0},{"$f":"IF(AF53=0,0,IF(גיליון3!AG53=AF53,AF53,0))","v":0},29,null,{"$f":"IF(גיליון3!AI53>0,D53/גיליון3!H3-AH53,0)","v":0},{"$f":"IF(AJ53=0,0,IF(גיליון3!AK53=AJ53,AJ53,0))","v":0},29,null,{"$f":"IF(גיליון3!AM53>0,D53/גיליון3!H3-AL53,0)","v":0},{"$f":"IF(AN53=0,0,IF(גיליון3!AO53=AN53,AN53,0))","v":0},29,null,{"$f":"IF(גיליון3!AQ53>0,D53/גיליון3!H3-AP53,0)","v":0},{"$f":"IF(AR53=0,0,IF(גיליון3!AS53=AR53,AR53,0))","v":0},29]
[{"$f":"גיליון1!A4","v":"יש עתיד"},{"$f":"גיליון1!B4","v":348802},null,{"$f":"IF(B54<גיליון3!D4,0,B54)","v":348802},null,{"$f":"INT(D54/גיליון3!H4)","v":10},null,{"$f":"IF(גיליון3!G54>0,D54/גיליון3!H4-F54,0)","v":0.9356174959471097},{"$f":"IF(H54=0,0,IF(גיליון3!I54=H54,H54,0))","v":0},10,null,{"$f":"IF(גיליון3!K54>0,D54/גיליון3!H4-J54,0)","v":0.9356174959471097},{"$f":"IF(L54=0,0,IF(גיליון3!M54=L54,L54,0))","v":0},10,null,{"$f":"IF(גיליון3!O54>0,D54/גיליון3!H4-N54,0)","v":0.9356174959471097},{"$f":"IF(P54=0,0,IF(גיליון3!Q54=P54,P54,0))","v":0.9356174959471097},11,null,{"$f":"IF(גיליון3!S54>0,D54/גיליון3!H4-R54,0)","v":-0.06438250405289025},{"$f":"IF(T54=0,0,IF(גיליון3!U54=T54,T54,0))","v":0},11,null,{"$f":"IF(גיליון3!W54>0,D54/גיליון3!H4-V54,0)","v":-0.06438250405289025},{"$f":"IF(X54=0,0,IF(גיליון3!Y54=X54,X54,0))","v":0},11,null,{"$f":"IF(גיליון3!AA54>0,D54/גיליון3!H4-Z54,0)","v":-0.06438250405289025},{"$f":"IF(AB54=0,0,IF(גיליון3!AC54=AB54,AB54,0))","v":0},11,null,{"$f":"IF(גיליון3!AE54>0,D54/גיליון3!H4-AD54,0)","v":0},{"$f":"IF(AF54=0,0,IF(גיליון3!AG54=AF54,AF54,0))","v":0},11,null,{"$f":"IF(גיליון3!AI54>0,D54/גיליון3!H4-AH54,0)","v":0},{"$f":"IF(AJ54=0,0,IF(גיליון3!AK54=AJ54,AJ54,0))","v":0},11,null,{"$f":"IF(גיליון3!AM54>0,D54/גיליון3!H4-AL54,0)","v":0},{"$f":"IF(AN54=0,0,IF(גיליון3!AO54=AN54,AN54,0))","v":0},11,null,{"$f":"IF(גיליון3!AQ54>0,D54/גיליון3!H4-AP54,0)","v":0},{"$f":"IF(AR54=0,0,IF(גיליון3!AS54=AR54,AR54,0))","v":0},11]
[{"$f":"גיליון1!A5","v":"המחנה הציוני"},{"$f":"גיליון1!B5","v":744673},null,{"$f":"IF(B55<גיליון3!D5,0,B55)","v":744673},null,{"$f":"INT(D55/גיליון3!H5)","v":23},null,{"$f":"IF(גיליון3!G55>0,D55/גיליון3!H5-F55,0)","v":0.34693920206713713},{"$f":"IF(H55=0,0,IF(גיליון3!I55=H55,H55,0))","v":0},23,null,{"$f":"IF(גיליון3!K55>0,D55/גיליון3!H5-J55,0)","v":0.34693920206713713},{"$f":"IF(L55=0,0,IF(גיליון3!M55=L55,L55,0))","v":0},23,null,{"$f":"IF(גיליון3!O55>0,D55/גיליון3!H5-N55,0)","v":0.34693920206713713},{"$f":"IF(P55=0,0,IF(גיליון3!Q55=P55,P55,0))","v":0},23,null,{"$f":"IF(גיליון3!S55>0,D55/גיליון3!H5-R55,0)","v":0.34693920206713713},{"$f":"IF(T55=0,0,IF(גיליון3!U55=T55,T55,0))","v":0},23,null,{"$f":"IF(גיליון3!W55>0,D55/גיליון3!H5-V55,0)","v":0.34693920206713713},{"$f":"IF(X55=0,0,IF(גיליון3!Y55=X55,X55,0))","v":0},23,null,{"$f":"IF(גיליון3!AA55>0,D55/גיליון3!H5-Z55,0)","v":0.34693920206713713},{"$f":"IF(AB55=0,0,IF(גיליון3!AC55=AB55,AB55,0))","v":0},23,null,{"$f":"IF(גיליון3!AE55>0,D55/גיליון3!H5-AD55,0)","v":0},{"$f":"IF(AF55=0,0,IF(גיליון3!AG55=AF55,AF55,0))","v":0},23,null,{"$f":"IF(גיליון3!AI55>0,D55/גיליון3!H5-AH55,0)","v":0},{"$f":"IF(AJ55=0,0,IF(גיליון3!AK55=AJ55,AJ55,0))","v":0},23,null,{"$f":"IF(גיליון3!AM55>0,D55/גיליון3!H5-AL55,0)","v":0},{"$f":"IF(AN55=0,0,IF(גיליון3!AO55=AN55,AN55,0))","v":0},23,null,{"$f":"IF(גיליון3!AQ55>0,D55/גיליון3!H5-AP55,0)","v":0},{"$f":"IF(AR55=0,0,IF(גיליון3!AS55=AR55,AR55,0))","v":0},23]
[{"$f":"גיליון1!A6","v":"מרץ"},{"$f":"גיליון1!B6","v":154648},null,{"$f":"IF(B56<גיליון3!D6,0,B56)","v":154648},null,{"$f":"INT(D56/גיליון3!H6)","v":4},null,{"$f":"IF(גיליון3!G56>0,D56/גיליון3!H6-F56,0)","v":0.8485139836160016},{"$f":"IF(H56=0,0,IF(גיליון3!I56=H56,H56,0))","v":0},4,null,{"$f":"IF(גיליון3!K56>0,D56/גיליון3!H6-J56,0)","v":0.8485139836160016},{"$f":"IF(L56=0,0,IF(גיליון3!M56=L56,L56,0))","v":0},4,null,{"$f":"IF(גיליון3!O56>0,D56/גיליון3!H6-N56,0)","v":0.8485139836160016},{"$f":"IF(P56=0,0,IF(גיליון3!Q56=P56,P56,0))","v":0},4,null,{"$f":"IF(גיליון3!S56>0,D56/גיליון3!H6-R56,0)","v":0.8485139836160016},{"$f":"IF(T56=0,0,IF(גיליון3!U56=T56,T56,0))","v":0.8485139836160016},5,null,{"$f":"IF(גיליון3!W56>0,D56/גיליון3!H6-V56,0)","v":-0.1514860163839984},{"$f":"IF(X56=0,0,IF(גיליון3!Y56=X56,X56,0))","v":0},5,null,{"$f":"IF(גיליון3!AA56>0,D56/גיליון3!H6-Z56,0)","v":-0.1514860163839984},{"$f":"IF(AB56=0,0,IF(גיליון3!AC56=AB56,AB56,0))","v":0},5,null,{"$f":"IF(גיליון3!AE56>0,D56/גיליון3!H6-AD56,0)","v":0},{"$f":"IF(AF56=0,0,IF(גיליון3!AG56=AF56,AF56,0))","v":0},5,null,{"$f":"IF(גיליון3!AI56>0,D56/גיליון3!H6-AH56,0)","v":0},{"$f":"IF(AJ56=0,0,IF(גיליון3!AK56=AJ56,AJ56,0))","v":0},5,null,{"$f":"IF(גיליון3!AM56>0,D56/גיליון3!H6-AL56,0)","v":0},{"$f":"IF(AN56=0,0,IF(גיליון3!AO56=AN56,AN56,0))","v":0},5,null,{"$f":"IF(גיליון3!AQ56>0,D56/גיליון3!H6-AP56,0)","v":0},{"$f":"IF(AR56=0,0,IF(גיליון3!AS56=AR56,AR56,0))","v":0},5]
[{"$f":"גיליון1!A7","v":"רעם"},{"$f":"גיליון1!B7","v":463532},null,{"$f":"IF(B57<גיליון3!D7,0,B57)","v":463532},null,{"$f":"INT(D57/גיליון3!H7)","v":14},null,{"$f":"IF(גיליון3!G57>0,D57/גיליון3!H7-F57,0)","v":0.5326249537885559},{"$f":"IF(H57=0,0,IF(גיליון3!I57=H57,H57,0))","v":0},14,null,{"$f":"IF(גיליון3!K57>0,D57/גיליון3!H7-J57,0)","v":0.5326249537885559},{"$f":"IF(L57=0,0,IF(גיליון3!M57=L57,L57,0))","v":0},14,null,{"$f":"IF(גיליון3!O57>0,D57/גיליון3!H7-N57,0)","v":0.5326249537885559},{"$f":"IF(P57=0,0,IF(גיליון3!Q57=P57,P57,0))","v":0},14,null,{"$f":"IF(גיליון3!S57>0,D57/גיליון3!H7-R57,0)","v":0.5326249537885559},{"$f":"IF(T57=0,0,IF(גיליון3!U57=T57,T57,0))","v":0},14,null,{"$f":"IF(גיליון3!W57>0,D57/גיליון3!H7-V57,0)","v":0.5326249537885559},{"$f":"IF(X57=0,0,IF(גיליון3!Y57=X57,X57,0))","v":0.5326249537885559},15,null,{"$f":"IF(גיליון3!AA57>0,D57/גיליון3!H7-Z57,0)","v":-0.4673750462114441},{"$f":"IF(AB57=0,0,IF(גיליון3!AC57=AB57,AB57,0))","v":0},15,null,{"$f":"IF(גיליון3!AE57>0,D57/גיליון3!H7-AD57,0)","v":0},{"$f":"IF(AF57=0,0,IF(גיליון3!AG57=AF57,AF57,0))","v":0},15,null,{"$f":"IF(גיליון3!AI57>0,D57/גיליון3!H7-AH57,0)","v":0},{"$f":"IF(AJ57=0,0,IF(גיליון3!AK57=AJ57,AJ57,0))","v":0},15,null,{"$f":"IF(גיליון3!AM57>0,D57/גיליון3!H7-AL57,0)","v":0},{"$f":"IF(AN57=0,0,IF(גיליון3!AO57=AN57,AN57,0))","v":0},15,null,{"$f":"IF(גיליון3!AQ57>0,D57/גיליון3!H7-AP57,0)","v":0},{"$f":"IF(AR57=0,0,IF(גיליון3!AS57=AR57,AR57,0))","v":0},15]
[{"$f":"גיליון1!A8","v":"יחד"},{"$f":"גיליון1!B8","v":118368},null,{"$f":"IF(B58<גיליון3!D8,0,B58)","v":0},null,{"$f":"INT(D58/גיליון3!H8)","v":0},null,{"$f":"IF(גיליון3!G58>0,D58/גיליון3!H8-F58,0)","v":0},{"$f":"IF(H58=0,0,IF(גיליון3!I58=H58,H58,0))","v":0},0,null,{"$f":"IF(גיליון3!K58>0,D58/גיליון3!H8-J58,0)","v":0},{"$f":"IF(L58=0,0,IF(גיליון3!M58=L58,L58,0))","v":0},0,null,{"$f":"IF(גיליון3!O58>0,D58/גיליון3!H8-N58,0)","v":0},{"$f":"IF(P58=0,0,IF(גיליון3!Q58=P58,P58,0))","v":0},0,null,{"$f":"IF(גיליון3!S58>0,D58/גיליון3!H8-R58,0)","v":0},{"$f":"IF(T58=0,0,IF(גיליון3!U58=T58,T58,0))","v":0},0,null,{"$f":"IF(גיליון3!W58>0,D58/גיליון3!H8-V58,0)","v":0},{"$f":"IF(X58=0,0,IF(גיליון3!Y58=X58,X58,0))","v":0},0,null,{"$f":"IF(גיליון3!AA58>0,D58/גיליון3!H8-Z58,0)","v":0},{"$f":"IF(AB58=0,0,IF(גיליון3!AC58=AB58,AB58,0))","v":0},0,null,{"$f":"IF(גיליון3!AE58>0,D58/גיליון3!H8-AD58,0)","v":0},{"$f":"IF(AF58=0,0,IF(גיליון3!AG58=AF58,AF58,0))","v":0},0,null,{"$f":"IF(גיליון3!AI58>0,D58/גיליון3!H8-AH58,0)","v":0},{"$f":"IF(AJ58=0,0,IF(גיליון3!AK58=AJ58,AJ58,0))","v":0},0,null,{"$f":"IF(גיליון3!AM58>0,D58/גיליון3!H8-AL58,0)","v":0},{"$f":"IF(AN58=0,0,IF(גיליון3!AO58=AN58,AN58,0))","v":0},0,null,{"$f":"IF(גיליון3!AQ58>0,D58/גיליון3!H8-AP58,0)","v":0},{"$f":"IF(AR58=0,0,IF(גיליון3!AS58=AR58,AR58,0))","v":0},0]
[{"$f":"גיליון1!A9","v":"יהדות התורה"},{"$f":"גיליון1!B9","v":205551},null,{"$f":"IF(B59<גיליון3!D9,0,B59)","v":205551},null,{"$f":"INT(D59/גיליון3!H9)","v":6},null,{"$f":"IF(גיליון3!G59>0,D59/גיליון3!H9-F59,0)","v":0.4444215110848688},{"$f":"IF(H59=0,0,IF(גיליון3!I59=H59,H59,0))","v":0},6,null,{"$f":"IF(גיליון3!K59>0,D59/גיליון3!H9-J59,0)","v":0.4444215110848688},{"$f":"IF(L59=0,0,IF(גיליון3!M59=L59,L59,0))","v":0},6,null,{"$f":"IF(גיליון3!O59>0,D59/גיליון3!H9-N59,0)","v":0.4444215110848688},{"$f":"IF(P59=0,0,IF(גיליון3!Q59=P59,P59,0))","v":0},6,null,{"$f":"IF(גיליון3!S59>0,D59/גיליון3!H9-R59,0)","v":0.4444215110848688},{"$f":"IF(T59=0,0,IF(גיליון3!U59=T59,T59,0))","v":0},6,null,{"$f":"IF(גיליון3!W59>0,D59/גיליון3!H9-V59,0)","v":0.4444215110848688},{"$f":"IF(X59=0,0,IF(גיליון3!Y59=X59,X59,0))","v":0},6,null,{"$f":"IF(גיליון3!AA59>0,D59/גיליון3!H9-Z59,0)","v":0.4444215110848688},{"$f":"IF(AB59=0,0,IF(גיליון3!AC59=AB59,AB59,0))","v":0},6,null,{"$f":"IF(גיליון3!AE59>0,D59/גיליון3!H9-AD59,0)","v":0},{"$f":"IF(AF59=0,0,IF(גיליון3!AG59=AF59,AF59,0))","v":0},6,null,{"$f":"IF(גיליון3!AI59>0,D59/גיליון3!H9-AH59,0)","v":0},{"$f":"IF(AJ59=0,0,IF(גיליון3!AK59=AJ59,AJ59,0))","v":0},6,null,{"$f":"IF(גיליון3!AM59>0,D59/גיליון3!H9-AL59,0)","v":0},{"$f":"IF(AN59=0,0,IF(גיליון3!AO59=AN59,AN59,0))","v":0},6,null,{"$f":"IF(גיליון3!AQ59>0,D59/גיליון3!H9-AP59,0)","v":0},{"$f":"IF(AR59=0,0,IF(גיליון3!AS59=AR59,AR59,0))","v":0},6]
[{"$f":"גיליון1!A10","v":"שס"},{"$f":"גיליון1!B10","v":230735},null,{"$f":"IF(B60<גיליון3!D10,0,B60)","v":230735},null,{"$f":"INT(D60/גיליון3!H10)","v":7},null,{"$f":"IF(גיליון3!G60>0,D60/גיליון3!H10-F60,0)","v":0.23398863231104272},{"$f":"IF(H60=0,0,IF(גיליון3!I60=H60,H60,0))","v":0},7,null,{"$f":"IF(גיליון3!K60>0,D60/גיליון3!H10-J60,0)","v":0.23398863231104272},{"$f":"IF(L60=0,0,IF(גיליון3!M60=L60,L60,0))","v":0},7,null,{"$f":"IF(גיליון3!O60>0,D60/גיליון3!H10-N60,0)","v":0.23398863231104272},{"$f":"IF(P60=0,0,IF(גיליון3!Q60=P60,P60,0))","v":0},7,null,{"$f":"IF(גיליון3!S60>0,D60/גיליון3!H10-R60,0)","v":0.23398863231104272},{"$f":"IF(T60=0,0,IF(גיליון3!U60=T60,T60,0))","v":0},7,null,{"$f":"IF(גיליון3!W60>0,D60/גיליון3!H10-V60,0)","v":0.23398863231104272},{"$f":"IF(X60=0,0,IF(גיליון3!Y60=X60,X60,0))","v":0},7,null,{"$f":"IF(גיליון3!AA60>0,D60/גיליון3!H10-Z60,0)","v":0.23398863231104272},{"$f":"IF(AB60=0,0,IF(גיליון3!AC60=AB60,AB60,0))","v":0},7,null,{"$f":"IF(גיליון3!AE60>0,D60/גיליון3!H10-AD60,0)","v":0},{"$f":"IF(AF60=0,0,IF(גיליון3!AG60=AF60,AF60,0))","v":0},7,null,{"$f":"IF(גיליון3!AI60>0,D60/גיליון3!H10-AH60,0)","v":0},{"$f":"IF(AJ60=0,0,IF(גיליון3!AK60=AJ60,AJ60,0))","v":0},7,null,{"$f":"IF(גיליון3!AM60>0,D60/גיליון3!H10-AL60,0)","v":0},{"$f":"IF(AN60=0,0,IF(גיליון3!AO60=AN60,AN60,0))","v":0},7,null,{"$f":"IF(גיליון3!AQ60>0,D60/גיליון3!H10-AP60,0)","v":0},{"$f":"IF(AR60=0,0,IF(גיליון3!AS60=AR60,AR60,0))","v":0},7]
[{"$f":"גיליון1!A11","v":"כחלון"},{"$f":"גיליון1!B11","v":294526},null,{"$f":"IF(B61<גיליון3!D11,0,B61)","v":294526},null,{"$f":"INT(D61/גיליון3!H11)","v":9},null,{"$f":"IF(גיליון3!G61>0,D61/גיליון3!H11-F61,0)","v":0.23395989303764964},{"$f":"IF(H61=0,0,IF(גיליון3!I61=H61,H61,0))","v":0},9,null,{"$f":"IF(גיליון3!K61>0,D61/גיליון3!H11-J61,0)","v":0.23395989303764964},{"$f":"IF(L61=0,0,IF(גיליון3!M61=L61,L61,0))","v":0},9,null,{"$f":"IF(גיליון3!O61>0,D61/גיליון3!H11-N61,0)","v":0.23395989303764964},{"$f":"IF(P61=0,0,IF(גיליון3!Q61=P61,P61,0))","v":0},9,null,{"$f":"IF(גיליון3!S61>0,D61/גיליון3!H11-R61,0)","v":0.23395989303764964},{"$f":"IF(T61=0,0,IF(גיליון3!U61=T61,T61,0))","v":0},9,null,{"$f":"IF(גיליון3!W61>0,D61/גיליון3!H11-V61,0)","v":0.23395989303764964},{"$f":"IF(X61=0,0,IF(גיליון3!Y61=X61,X61,0))","v":0},9,null,{"$f":"IF(גיליון3!AA61>0,D61/גיליון3!H11-Z61,0)","v":0.23395989303764964},{"$f":"IF(AB61=0,0,IF(גיליון3!AC61=AB61,AB61,0))","v":0},9,null,{"$f":"IF(גיליון3!AE61>0,D61/גיליון3!H11-AD61,0)","v":0},{"$f":"IF(AF61=0,0,IF(גיליון3!AG61=AF61,AF61,0))","v":0},9,null,{"$f":"IF(גיליון3!AI61>0,D61/גיליון3!H11-AH61,0)","v":0},{"$f":"IF(AJ61=0,0,IF(גיליון3!AK61=AJ61,AJ61,0))","v":0},9,null,{"$f":"IF(גיליון3!AM61>0,D61/גיליון3!H11-AL61,0)","v":0},{"$f":"IF(AN61=0,0,IF(גיליון3!AO61=AN61,AN61,0))","v":0},9,null,{"$f":"IF(גיליון3!AQ61>0,D61/גיליון3!H11-AP61,0)","v":0},{"$f":"IF(AR61=0,0,IF(גיליון3!AS61=AR61,AR61,0))","v":0},9]
[{"$f":"גיליון1!A12","v":"ישראל ביתנו"},{"$f":"גיליון1!B12","v":205619},null,{"$f":"IF(B62<גיליון3!D12,0,B62)","v":205619},null,{"$f":"INT(D62/גיליון3!H12)","v":6},null,{"$f":"IF(גיליון3!G62>0,D62/גיליון3!H12-F62,0)","v":0.44655344263837016},{"$f":"IF(H62=0,0,IF(גיליון3!I62=H62,H62,0))","v":0},6,null,{"$f":"IF(גיליון3!K62>0,D62/גיליון3!H12-J62,0)","v":0.44655344263837016},{"$f":"IF(L62=0,0,IF(גיליון3!M62=L62,L62,0))","v":0},6,null,{"$f":"IF(גיליון3!O62>0,D62/גיליון3!H12-N62,0)","v":0.44655344263837016},{"$f":"IF(P62=0,0,IF(גיליון3!Q62=P62,P62,0))","v":0},6,null,{"$f":"IF(גיליון3!S62>0,D62/גיליון3!H12-R62,0)","v":0.44655344263837016},{"$f":"IF(T62=0,0,IF(גיליון3!U62=T62,T62,0))","v":0},6,null,{"$f":"IF(גיליון3!W62>0,D62/גיליון3!H12-V62,0)","v":0.44655344263837016},{"$f":"IF(X62=0,0,IF(גיליון3!Y62=X62,X62,0))","v":0},6,null,{"$f":"IF(גיליון3!AA62>0,D62/גיליון3!H12-Z62,0)","v":0.44655344263837016},{"$f":"IF(AB62=0,0,IF(גיליון3!AC62=AB62,AB62,0))","v":0.44655344263837016},7,null,{"$f":"IF(גיליון3!AE62>0,D62/גיליון3!H12-AD62,0)","v":0},{"$f":"IF(AF62=0,0,IF(גיליון3!AG62=AF62,AF62,0))","v":0},7,null,{"$f":"IF(גיליון3!AI62>0,D62/גיליון3!H12-AH62,0)","v":0},{"$f":"IF(AJ62=0,0,IF(גיליון3!AK62=AJ62,AJ62,0))","v":0},7,null,{"$f":"IF(גיליון3!AM62>0,D62/גיליון3!H12-AL62,0)","v":0},{"$f":"IF(AN62=0,0,IF(גיליון3!AO62=AN62,AN62,0))","v":0},7,null,{"$f":"IF(גיליון3!AQ62>0,D62/גיליון3!H12-AP62,0)","v":0},{"$f":"IF(AR62=0,0,IF(גיליון3!AS62=AR62,AR62,0))","v":0},7]
[{"$f":"גיליון1!A13","v":"עלה ירוק - הרשימה הליברלית"},{"$f":"גיליון1!B13","v":38624},null,{"$f":"IF(B63<גיליון3!D13,0,B63)","v":0},null,{"$f":"INT(D63/גיליון3!H13)","v":0},null,{"$f":"IF(גיליון3!G63>0,D63/גיליון3!H13-F63,0)","v":0},{"$f":"IF(H63=0,0,IF(גיליון3!I63=H63,H63,0))","v":0},0,null,{"$f":"IF(גיליון3!K63>0,D63/גיליון3!H13-J63,0)","v":0},{"$f":"IF(L63=0,0,IF(גיליון3!M63=L63,L63,0))","v":0},0,null,{"$f":"IF(גיליון3!O63>0,D63/גיליון3!H13-N63,0)","v":0},{"$f":"IF(P63=0,0,IF(גיליון3!Q63=P63,P63,0))","v":0},0,null,{"$f":"IF(גיליון3!S63>0,D63/גיליון3!H13-R63,0)","v":0},{"$f":"IF(T63=0,0,IF(גיליון3!U63=T63,T63,0))","v":0},0,null,{"$f":"IF(גיליון3!W63>0,D63/גיליון3!H13-V63,0)","v":0},{"$f":"IF(X63=0,0,IF(גיליון3!Y63=X63,X63,0))","v":0},0,null,{"$f":"IF(גיליון3!AA63>0,D63/גיליון3!H13-Z63,0)","v":0},{"$f":"IF(AB63=0,0,IF(גיליון3!AC63=AB63,AB63,0))","v":0},0,null,{"$f":"IF(גיליון3!AE63>0,D63/גיליון3!H13-AD63,0)","v":0},{"$f":"IF(AF63=0,0,IF(גיליון3!AG63=AF63,AF63,0))","v":0},0,null,{"$f":"IF(גיליון3!AI63>0,D63/גיליון3!H13-AH63,0)","v":0},{"$f":"IF(AJ63=0,0,IF(גיליון3!AK63=AJ63,AJ63,0))","v":0},0,null,{"$f":"IF(גיליון3!AM63>0,D63/גיליון3!H13-AL63,0)","v":0},{"$f":"IF(AN63=0,0,IF(גיליון3!AO63=AN63,AN63,0))","v":0},0,null,{"$f":"IF(גיליון3!AQ63>0,D63/גיליון3!H13-AP63,0)","v":0},{"$f":"IF(AR63=0,0,IF(גיליון3!AS63=AR63,AR63,0))","v":0},0]
[{"$f":"גיליון1!#REF!","v":{"$error":"#REF!"}},{"$f":"גיליון1!B14","v":2348},null,{"$f":"IF(B64<גיליון3!D14,0,B64)","v":0},null,{"$f":"INT(D64/גיליון3!H14)","v":0},null,{"$f":"IF(גיליון3!G64>0,D64/גיליון3!H14-F64,0)","v":0},{"$f":"IF(H64=0,0,IF(גיליון3!I64=H64,H64,0))","v":0},0,null,{"$f":"IF(גיליון3!K64>0,D64/גיליון3!H14-J64,0)","v":0},{"$f":"IF(L64=0,0,IF(גיליון3!M64=L64,L64,0))","v":0},0,null,{"$f":"IF(גיליון3!O64>0,D64/גיליון3!H14-N64,0)","v":0},{"$f":"IF(P64=0,0,IF(גיליון3!Q64=P64,P64,0))","v":0},0,null,{"$f":"IF(גיליון3!S64>0,D64/גיליון3!H14-R64,0)","v":0},{"$f":"IF(T64=0,0,IF(גיליון3!U64=T64,T64,0))","v":0},0,null,{"$f":"IF(גיליון3!W64>0,D64/גיליון3!H14-V64,0)","v":0},{"$f":"IF(X64=0,0,IF(גיליון3!Y64=X64,X64,0))","v":0},0,null,{"$f":"IF(גיליון3!AA64>0,D64/גיליון3!H14-Z64,0)","v":0},{"$f":"IF(AB64=0,0,IF(גיליון3!AC64=AB64,AB64,0))","v":0},0,null,{"$f":"IF(גיליון3!AE64>0,D64/גיליון3!H14-AD64,0)","v":0},{"$f":"IF(AF64=0,0,IF(גיליון3!AG64=AF64,AF64,0))","v":0},0,null,{"$f":"IF(גיליון3!AI64>0,D64/גיליון3!H14-AH64,0)","v":0},{"$f":"IF(AJ64=0,0,IF(גיליון3!AK64=AJ64,AJ64,0))","v":0},0,null,{"$f":"IF(גיליון3!AM64>0,D64/גיליון3!H14-AL64,0)","v":0},{"$f":"IF(AN64=0,0,IF(גיליון3!AO64=AN64,AN64,0))","v":0},0,null,{"$f":"IF(גיליון3!AQ64>0,D64/גיליון3!H14-AP64,0)","v":0},{"$f":"IF(AR64=0,0,IF(גיליון3!AS64=AR64,AR64,0))","v":0},0]
[{"$f":"גיליון1!A15","v":0},{"$f":"גיליון1!B15","v":0},null,{"$f":"IF(B65<גיליון3!D15,0,B65)","v":0},null,{"$f":"INT(D65/גיליון3!H15)","v":0},null,{"$f":"IF(גיליון3!G65>0,D65/גיליון3!H15-F65,0)","v":0},{"$f":"IF(H65=0,0,IF(גיליון3!I65=H65,H65,0))","v":0},0,null,{"$f":"IF(גיליון3!K65>0,D65/גיליון3!H15-J65,0)","v":0},{"$f":"IF(L65=0,0,IF(גיליון3!M65=L65,L65,0))","v":0},0,null,{"$f":"IF(גיליון3!O65>0,D65/גיליון3!H15-N65,0)","v":0},{"$f":"IF(P65=0,0,IF(גיליון3!Q65=P65,P65,0))","v":0},0,null,{"$f":"IF(גיליון3!S65>0,D65/גיליון3!H15-R65,0)","v":0},{"$f":"IF(T65=0,0,IF(גיליון3!U65=T65,T65,0))","v":0},0,null,{"$f":"IF(גיליון3!W65>0,D65/גיליון3!H15-V65,0)","v":0},{"$f":"IF(X65=0,0,IF(גיליון3!Y65=X65,X65,0))","v":0},0,null,{"$f":"IF(גיליון3!AA65>0,D65/גיליון3!H15-Z65,0)","v":0},{"$f":"IF(AB65=0,0,IF(גיליון3!AC65=AB65,AB65,0))","v":0},0,null,{"$f":"IF(גיליון3!AE65>0,D65/גיליון3!H15-AD65,0)","v":0},{"$f":"IF(AF65=0,0,IF(גיליון3!AG65=AF65,AF65,0))","v":0},0,null,{"$f":"IF(גיליון3!AI65>0,D65/גיליון3!H15-AH65,0)","v":0},{"$f":"IF(AJ65=0,0,IF(גיליון3!AK65=AJ65,AJ65,0))","v":0},0,null,{"$f":"IF(גיליון3!AM65>0,D65/גיליון3!H15-AL65,0)","v":0},{"$f":"IF(AN65=0,0,IF(גיליון3!AO65=AN65,AN65,0))","v":0},0,null,{"$f":"IF(גיליון3!AQ65>0,D65/גיליון3!H15-AP65,0)","v":0},{"$f":"IF(AR65=0,0,IF(גיליון3!AS65=AR65,AR65,0))","v":0},0]
[{"$f":"גיליון1!A16","v":0},{"$f":"גיליון1!B16","v":0},null,{"$f":"IF(B66<גיליון3!D16,0,B66)","v":0},null,{"$f":"INT(D66/גיליון3!H16)","v":0},null,{"$f":"IF(גיליון3!G66>0,D66/גיליון3!H16-F66,0)","v":0},{"$f":"IF(H66=0,0,IF(גיליון3!I66=H66,H66,0))","v":0},0,null,{"$f":"IF(גיליון3!K66>0,D66/גיליון3!H16-J66,0)","v":0},{"$f":"IF(L66=0,0,IF(גיליון3!M66=L66,L66,0))","v":0},0,null,{"$f":"IF(גיליון3!O66>0,D66/גיליון3!H16-N66,0)","v":0},{"$f":"IF(P66=0,0,IF(גיליון3!Q66=P66,P66,0))","v":0},0,null,{"$f":"IF(גיליון3!S66>0,D66/גיליון3!H16-R66,0)","v":0},{"$f":"IF(T66=0,0,IF(גיליון3!U66=T66,T66,0))","v":0},0,null,{"$f":"IF(גיליון3!W66>0,D66/גיליון3!H16-V66,0)","v":0},{"$f":"IF(X66=0,0,IF(גיליון3!Y66=X66,X66,0))","v":0},0,null,{"$f":"IF(גיליון3!AA66>0,D66/גיליון3!H16-Z66,0)","v":0},{"$f":"IF(AB66=0,0,IF(גיליון3!AC66=AB66,AB66,0))","v":0},0,null,{"$f":"IF(גיליון3!AE66>0,D66/גיליון3!H16-AD66,0)","v":0},{"$f":"IF(AF66=0,0,IF(גיליון3!AG66=AF66,AF66,0))","v":0},0,null,{"$f":"IF(גיליון3!AI66>0,D66/גיליון3!H16-AH66,0)","v":0},{"$f":"IF(AJ66=0,0,IF(גיליון3!AK66=AJ66,AJ66,0))","v":0},0,null,{"$f":"IF(גיליון3!AM66>0,D66/גיליון3!H16-AL66,0)","v":0},{"$f":"IF(AN66=0,0,IF(גיליון3!AO66=AN66,AN66,0))","v":0},0,null,{"$f":"IF(גיליון3!AQ66>0,D66/גיליון3!H16-AP66,0)","v":0},{"$f":"IF(AR66=0,0,IF(גיליון3!AS66=AR66,AR66,0))","v":0},0]
[{"$f":"גיליון1!A17","v":0},{"$f":"גיליון1!B17","v":0},null,{"$f":"IF(B67<גיליון3!D17,0,B67)","v":0},null,{"$f":"INT(D67/גיליון3!H17)","v":0},null,{"$f":"IF(גיליון3!G67>0,D67/גיליון3!H17-F67,0)","v":0},{"$f":"IF(H67=0,0,IF(גיליון3!I67=H67,H67,0))","v":0},0,null,{"$f":"IF(גיליון3!K67>0,D67/גיליון3!H17-J67,0)","v":0},{"$f":"IF(L67=0,0,IF(גיליון3!M67=L67,L67,0))","v":0},0,null,{"$f":"IF(גיליון3!O67>0,D67/גיליון3!H17-N67,0)","v":0},{"$f":"IF(P67=0,0,IF(גיליון3!Q67=P67,P67,0))","v":0},0,null,{"$f":"IF(גיליון3!S67>0,D67/גיליון3!H17-R67,0)","v":0},{"$f":"IF(T67=0,0,IF(גיליון3!U67=T67,T67,0))","v":0},0,null,{"$f":"IF(גיליון3!W67>0,D67/גיליון3!H17-V67,0)","v":0},{"$f":"IF(X67=0,0,IF(גיליון3!Y67=X67,X67,0))","v":0},0,null,{"$f":"IF(גיליון3!AA67>0,D67/גיליון3!H17-Z67,0)","v":0},{"$f":"IF(AB67=0,0,IF(גיליון3!AC67=AB67,AB67,0))","v":0},0,null,{"$f":"IF(גיליון3!AE67>0,D67/גיליון3!H17-AD67,0)","v":0},{"$f":"IF(AF67=0,0,IF(גיליון3!AG67=AF67,AF67,0))","v":0},0,null,{"$f":"IF(גיליון3!AI67>0,D67/גיליון3!H17-AH67,0)","v":0},{"$f":"IF(AJ67=0,0,IF(גיליון3!AK67=AJ67,AJ67,0))","v":0},0,null,{"$f":"IF(גיליון3!AM67>0,D67/גיליון3!H17-AL67,0)","v":0},{"$f":"IF(AN67=0,0,IF(גיליון3!AO67=AN67,AN67,0))","v":0},0,null,{"$f":"IF(גיליון3!AQ67>0,D67/גיליון3!H17-AP67,0)","v":0},{"$f":"IF(AR67=0,0,IF(גיליון3!AS67=AR67,AR67,0))","v":0},0]
[{"$f":"גיליון1!A18","v":0},{"$f":"גיליון1!B18","v":0},null,{"$f":"IF(B68<גיליון3!D18,0,B68)","v":0},null,{"$f":"INT(D68/גיליון3!H18)","v":0},null,{"$f":"IF(גיליון3!G68>0,D68/גיליון3!H18-F68,0)","v":0},{"$f":"IF(H68=0,0,IF(גיליון3!I68=H68,H68,0))","v":0},0,null,{"$f":"IF(גיליון3!K68>0,D68/גיליון3!H18-J68,0)","v":0},{"$f":"IF(L68=0,0,IF(גיליון3!M68=L68,L68,0))","v":0},0,null,{"$f":"IF(גיליון3!O68>0,D68/גיליון3!H18-N68,0)","v":0},{"$f":"IF(P68=0,0,IF(גיליון3!Q68=P68,P68,0))","v":0},0,null,{"$f":"IF(גיליון3!S68>0,D68/גיליון3!H18-R68,0)","v":0},{"$f":"IF(T68=0,0,IF(גיליון3!U68=T68,T68,0))","v":0},0,null,{"$f":"IF(גיליון3!W68>0,D68/גיליון3!H18-V68,0)","v":0},{"$f":"IF(X68=0,0,IF(גיליון3!Y68=X68,X68,0))","v":0},0,null,{"$f":"IF(גיליון3!AA68>0,D68/גיליון3!H18-Z68,0)","v":0},{"$f":"IF(AB68=0,0,IF(גיליון3!AC68=AB68,AB68,0))","v":0},0,null,{"$f":"IF(גיליון3!AE68>0,D68/גיליון3!H18-AD68,0)","v":0},{"$f":"IF(AF68=0,0,IF(גיליון3!AG68=AF68,AF68,0))","v":0},0,null,{"$f":"IF(גיליון3!AI68>0,D68/גיליון3!H18-AH68,0)","v":0},{"$f":"IF(AJ68=0,0,IF(גיליון3!AK68=AJ68,AJ68,0))","v":0},0,null,{"$f":"IF(גיליון3!AM68>0,D68/גיליון3!H18-AL68,0)","v":0},{"$f":"IF(AN68=0,0,IF(גיליון3!AO68=AN68,AN68,0))","v":0},0,null,{"$f":"IF(גיליון3!AQ68>0,D68/גיליון3!H18-AP68,0)","v":0},{"$f":"IF(AR68=0,0,IF(גיליון3!AS68=AR68,AR68,0))","v":0},0]
[{"$f":"גיליון1!A19","v":0},{"$f":"גיליון1!B19","v":0},null,{"$f":"IF(B69<גיליון3!D19,0,B69)","v":0},null,{"$f":"INT(D69/גיליון3!H19)","v":0},null,{"$f":"IF(גיליון3!G69>0,D69/גיליון3!H19-F69,0)","v":0},{"$f":"IF(H69=0,0,IF(גיליון3!I69=H69,H69,0))","v":0},0,null,{"$f":"IF(גיליון3!K69>0,D69/גיליון3!H19-J69,0)","v":0},{"$f":"IF(L69=0,0,IF(גיליון3!M69=L69,L69,0))","v":0},0,null,{"$f":"IF(גיליון3!O69>0,D69/גיליון3!H19-N69,0)","v":0},{"$f":"IF(P69=0,0,IF(גיליון3!Q69=P69,P69,0))","v":0},0,null,{"$f":"IF(גיליון3!S69>0,D69/גיליון3!H19-R69,0)","v":0},{"$f":"IF(T69=0,0,IF(גיליון3!U69=T69,T69,0))","v":0},0,null,{"$f":"IF(גיליון3!W69>0,D69/גיליון3!H19-V69,0)","v":0},{"$f":"IF(X69=0,0,IF(גיליון3!Y69=X69,X69,0))","v":0},0,null,{"$f":"IF(גיליון3!AA69>0,D69/גיליון3!H19-Z69,0)","v":0},{"$f":"IF(AB69=0,0,IF(גיליון3!AC69=AB69,AB69,0))","v":0},0,null,{"$f":"IF(גיליון3!AE69>0,D69/גיליון3!H19-AD69,0)","v":0},{"$f":"IF(AF69=0,0,IF(גיליון3!AG69=AF69,AF69,0))","v":0},0,null,{"$f":"IF(גיליון3!AI69>0,D69/גיליון3!H19-AH69,0)","v":0},{"$f":"IF(AJ69=0,0,IF(גיליון3!AK69=AJ69,AJ69,0))","v":0},0,null,{"$f":"IF(גיליון3!AM69>0,D69/גיליון3!H19-AL69,0)","v":0},{"$f":"IF(AN69=0,0,IF(גיליון3!AO69=AN69,AN69,0))","v":0},0,null,{"$f":"IF(גיליון3!AQ69>0,D69/גיליון3!H19-AP69,0)","v":0},{"$f":"IF(AR69=0,0,IF(גיליון3!AS69=AR69,AR69,0))","v":0},0]
[{"$f":"גיליון1!A20","v":0},{"$f":"גיליון1!B20","v":0},null,{"$f":"IF(B70<גיליון3!D20,0,B70)","v":0},null,{"$f":"INT(D70/גיליון3!H20)","v":0},null,{"$f":"IF(גיליון3!G70>0,D70/גיליון3!H20-F70,0)","v":0},{"$f":"IF(H70=0,0,IF(גיליון3!I70=H70,H70,0))","v":0},0,null,{"$f":"IF(גיליון3!K70>0,D70/גיליון3!H20-J70,0)","v":0},{"$f":"IF(L70=0,0,IF(גיליון3!M70=L70,L70,0))","v":0},0,null,{"$f":"IF(גיליון3!O70>0,D70/גיליון3!H20-N70,0)","v":0},{"$f":"IF(P70=0,0,IF(גיליון3!Q70=P70,P70,0))","v":0},0,null,{"$f":"IF(גיליון3!S70>0,D70/גיליון3!H20-R70,0)","v":0},{"$f":"IF(T70=0,0,IF(גיליון3!U70=T70,T70,0))","v":0},0,null,{"$f":"IF(גיליון3!W70>0,D70/גיליון3!H20-V70,0)","v":0},{"$f":"IF(X70=0,0,IF(גיליון3!Y70=X70,X70,0))","v":0},0,null,{"$f":"IF(גיליון3!AA70>0,D70/גיליון3!H20-Z70,0)","v":0},{"$f":"IF(AB70=0,0,IF(גיליון3!AC70=AB70,AB70,0))","v":0},0,null,{"$f":"IF(גיליון3!AE70>0,D70/גיליון3!H20-AD70,0)","v":0},{"$f":"IF(AF70=0,0,IF(גיליון3!AG70=AF70,AF70,0))","v":0},0,null,{"$f":"IF(גיליון3!AI70>0,D70/גיליון3!H20-AH70,0)","v":0},{"$f":"IF(AJ70=0,0,IF(גיליון3!AK70=AJ70,AJ70,0))","v":0},0,null,{"$f":"IF(גיליון3!AM70>0,D70/גיליון3!H20-AL70,0)","v":0},{"$f":"IF(AN70=0,0,IF(גיליון3!AO70=AN70,AN70,0))","v":0},0,null,{"$f":"IF(גיליון3!AQ70>0,D70/גיליון3!H20-AP70,0)","v":0},{"$f":"IF(AR70=0,0,IF(גיליון3!AS70=AR70,AR70,0))","v":0},0]
[{"$f":"גיליון1!A21","v":0},{"$f":"גיליון1!B21","v":0},null,{"$f":"IF(B71<גיליון3!D21,0,B71)","v":0},null,{"$f":"INT(D71/גיליון3!H21)","v":0},null,{"$f":"IF(גיליון3!G71>0,D71/גיליון3!H21-F71,0)","v":0},{"$f":"IF(H71=0,0,IF(גיליון3!I71=H71,H71,0))","v":0},0,null,{"$f":"IF(גיליון3!K71>0,D71/גיליון3!H21-J71,0)","v":0},{"$f":"IF(L71=0,0,IF(גיליון3!M71=L71,L71,0))","v":0},0,null,{"$f":"IF(גיליון3!O71>0,D71/גיליון3!H21-N71,0)","v":0},{"$f":"IF(P71=0,0,IF(גיליון3!Q71=P71,P71,0))","v":0},0,null,{"$f":"IF(גיליון3!S71>0,D71/גיליון3!H21-R71,0)","v":0},{"$f":"IF(T71=0,0,IF(גיליון3!U71=T71,T71,0))","v":0},0,null,{"$f":"IF(גיליון3!W71>0,D71/גיליון3!H21-V71,0)","v":0},{"$f":"IF(X71=0,0,IF(גיליון3!Y71=X71,X71,0))","v":0},0,null,{"$f":"IF(גיליון3!AA71>0,D71/גיליון3!H21-Z71,0)","v":0},{"$f":"IF(AB71=0,0,IF(גיליון3!AC71=AB71,AB71,0))","v":0},0,null,{"$f":"IF(גיליון3!AE71>0,D71/גיליון3!H21-AD71,0)","v":0},{"$f":"IF(AF71=0,0,IF(גיליון3!AG71=AF71,AF71,0))","v":0},0,null,{"$f":"IF(גיליון3!AI71>0,D71/גיליון3!H21-AH71,0)","v":0},{"$f":"IF(AJ71=0,0,IF(גיליון3!AK71=AJ71,AJ71,0))","v":0},0,null,{"$f":"IF(גיליון3!AM71>0,D71/גיליון3!H21-AL71,0)","v":0},{"$f":"IF(AN71=0,0,IF(גיליון3!AO71=AN71,AN71,0))","v":0},0,null,{"$f":"IF(גיליון3!AQ71>0,D71/גיליון3!H21-AP71,0)","v":0},{"$f":"IF(AR71=0,0,IF(גיליון3!AS71=AR71,AR71,0))","v":0},0]
[{"$f":"גיליון1!A22","v":0},{"$f":"גיליון1!B22","v":0},null,{"$f":"IF(B72<גיליון3!D22,0,B72)","v":0},null,{"$f":"INT(D72/גיליון3!H22)","v":0},null,{"$f":"IF(גיליון3!G72>0,D72/גיליון3!H22-F72,0)","v":0},{"$f":"IF(H72=0,0,IF(גיליון3!I72=H72,H72,0))","v":0},0,null,{"$f":"IF(גיליון3!K72>0,D72/גיליון3!H22-J72,0)","v":0},{"$f":"IF(L72=0,0,IF(גיליון3!M72=L72,L72,0))","v":0},0,null,{"$f":"IF(גיליון3!O72>0,D72/גיליון3!H22-N72,0)","v":0},{"$f":"IF(P72=0,0,IF(גיליון3!Q72=P72,P72,0))","v":0},0,null,{"$f":"IF(גיליון3!S72>0,D72/גיליון3!H22-R72,0)","v":0},{"$f":"IF(T72=0,0,IF(גיליון3!U72=T72,T72,0))","v":0},0,null,{"$f":"IF(גיליון3!W72>0,D72/גיליון3!H22-V72,0)","v":0},{"$f":"IF(X72=0,0,IF(גיליון3!Y72=X72,X72,0))","v":0},0,null,{"$f":"IF(גיליון3!AA72>0,D72/גיליון3!H22-Z72,0)","v":0},{"$f":"IF(AB72=0,0,IF(גיליון3!AC72=AB72,AB72,0))","v":0},0,null,{"$f":"IF(גיליון3!AE72>0,D72/גיליון3!H22-AD72,0)","v":0},{"$f":"IF(AF72=0,0,IF(גיליון3!AG72=AF72,AF72,0))","v":0},0,null,{"$f":"IF(גיליון3!AI72>0,D72/גיליון3!H22-AH72,0)","v":0},{"$f":"IF(AJ72=0,0,IF(גיליון3!AK72=AJ72,AJ72,0))","v":0},0,null,{"$f":"IF(גיליון3!AM72>0,D72/גיליון3!H22-AL72,0)","v":0},{"$f":"IF(AN72=0,0,IF(גיליון3!AO72=AN72,AN72,0))","v":0},0,null,{"$f":"IF(גיליון3!AQ72>0,D72/גיליון3!H22-AP72,0)","v":0},{"$f":"IF(AR72=0,0,IF(גיליון3!AS72=AR72,AR72,0))","v":0},0]
[{"$f":"גיליון1!A23","v":0},{"$f":"גיליון1!B23","v":0},null,{"$f":"IF(B73<גיליון3!D23,0,B73)","v":0},null,{"$f":"INT(D73/גיליון3!H23)","v":0},null,{"$f":"IF(גיליון3!G73>0,D73/גיליון3!H23-F73,0)","v":0},{"$f":"IF(H73=0,0,IF(גיליון3!I73=H73,H73,0))","v":0},0,null,{"$f":"IF(גיליון3!K73>0,D73/גיליון3!H23-J73,0)","v":0},{"$f":"IF(L73=0,0,IF(גיליון3!M73=L73,L73,0))","v":0},0,null,{"$f":"IF(גיליון3!O73>0,D73/גיליון3!H23-N73,0)","v":0},{"$f":"IF(P73=0,0,IF(גיליון3!Q73=P73,P73,0))","v":0},0,null,{"$f":"IF(גיליון3!S73>0,D73/גיליון3!H23-R73,0)","v":0},{"$f":"IF(T73=0,0,IF(גיליון3!U73=T73,T73,0))","v":0},0,null,{"$f":"IF(גיליון3!W73>0,D73/גיליון3!H23-V73,0)","v":0},{"$f":"IF(X73=0,0,IF(גיליון3!Y73=X73,X73,0))","v":0},0,null,{"$f":"IF(גיליון3!AA73>0,D73/גיליון3!H23-Z73,0)","v":0},{"$f":"IF(AB73=0,0,IF(גיליון3!AC73=AB73,AB73,0))","v":0},0,null,{"$f":"IF(גיליון3!AE73>0,D73/גיליון3!H23-AD73,0)","v":0},{"$f":"IF(AF73=0,0,IF(גיליון3!AG73=AF73,AF73,0))","v":0},0,null,{"$f":"IF(גיליון3!AI73>0,D73/גיליון3!H23-AH73,0)","v":0},{"$f":"IF(AJ73=0,0,IF(גיליון3!AK73=AJ73,AJ73,0))","v":0},0,null,{"$f":"IF(גיליון3!AM73>0,D73/גיליון3!H23-AL73,0)","v":0},{"$f":"IF(AN73=0,0,IF(גיליון3!AO73=AN73,AN73,0))","v":0},0,null,{"$f":"IF(גיליון3!AQ73>0,D73/גיליון3!H23-AP73,0)","v":0},{"$f":"IF(AR73=0,0,IF(גיליון3!AS73=AR73,AR73,0))","v":0},0]
[{"$f":"גיליון1!A24","v":0},{"$f":"גיליון1!B24","v":0},null,{"$f":"IF(B74<גיליון3!D24,0,B74)","v":0},null,{"$f":"INT(D74/גיליון3!H24)","v":0},null,{"$f":"IF(גיליון3!G74>0,D74/גיליון3!H24-F74,0)","v":0},{"$f":"IF(H74=0,0,IF(גיליון3!I74=H74,H74,0))","v":0},0,null,{"$f":"IF(גיליון3!K74>0,D74/גיליון3!H24-J74,0)","v":0},{"$f":"IF(L74=0,0,IF(גיליון3!M74=L74,L74,0))","v":0},0,null,{"$f":"IF(גיליון3!O74>0,D74/גיליון3!H24-N74,0)","v":0},{"$f":"IF(P74=0,0,IF(גיליון3!Q74=P74,P74,0))","v":0},0,null,{"$f":"IF(גיליון3!S74>0,D74/גיליון3!H24-R74,0)","v":0},{"$f":"IF(T74=0,0,IF(גיליון3!U74=T74,T74,0))","v":0},0,null,{"$f":"IF(גיליון3!W74>0,D74/גיליון3!H24-V74,0)","v":0},{"$f":"IF(X74=0,0,IF(גיליון3!Y74=X74,X74,0))","v":0},0,null,{"$f":"IF(גיליון3!AA74>0,D74/גיליון3!H24-Z74,0)","v":0},{"$f":"IF(AB74=0,0,IF(גיליון3!AC74=AB74,AB74,0))","v":0},0,null,{"$f":"IF(גיליון3!AE74>0,D74/גיליון3!H24-AD74,0)","v":0},{"$f":"IF(AF74=0,0,IF(גיליון3!AG74=AF74,AF74,0))","v":0},0,null,{"$f":"IF(גיליון3!AI74>0,D74/גיליון3!H24-AH74,0)","v":0},{"$f":"IF(AJ74=0,0,IF(גיליון3!AK74=AJ74,AJ74,0))","v":0},0,null,{"$f":"IF(גיליון3!AM74>0,D74/גיליון3!H24-AL74,0)","v":0},{"$f":"IF(AN74=0,0,IF(גיליון3!AO74=AN74,AN74,0))","v":0},0,null,{"$f":"IF(גיליון3!AQ74>0,D74/גיליון3!H24-AP74,0)","v":0},{"$f":"IF(AR74=0,0,IF(גיליון3!AS74=AR74,AR74,0))","v":0},0]
[{"$f":"גיליון1!A25","v":0},{"$f":"גיליון1!B25","v":0},null,{"$f":"IF(B75<גיליון3!D25,0,B75)","v":0},null,{"$f":"INT(D75/גיליון3!H25)","v":0},null,{"$f":"IF(גיליון3!G75>0,D75/גיליון3!H25-F75,0)","v":0},{"$f":"IF(H75=0,0,IF(גיליון3!I75=H75,H75,0))","v":0},0,null,{"$f":"IF(גיליון3!K75>0,D75/גיליון3!H25-J75,0)","v":0},{"$f":"IF(L75=0,0,IF(גיליון3!M75=L75,L75,0))","v":0},0,null,{"$f":"IF(גיליון3!O75>0,D75/גיליון3!H25-N75,0)","v":0},{"$f":"IF(P75=0,0,IF(גיליון3!Q75=P75,P75,0))","v":0},0,null,{"$f":"IF(גיליון3!S75>0,D75/גיליון3!H25-R75,0)","v":0},{"$f":"IF(T75=0,0,IF(גיליון3!U75=T75,T75,0))","v":0},0,null,{"$f":"IF(גיליון3!W75>0,D75/גיליון3!H25-V75,0)","v":0},{"$f":"IF(X75=0,0,IF(גיליון3!Y75=X75,X75,0))","v":0},0,null,{"$f":"IF(גיליון3!AA75>0,D75/גיליון3!H25-Z75,0)","v":0},{"$f":"IF(AB75=0,0,IF(גיליון3!AC75=AB75,AB75,0))","v":0},0,null,{"$f":"IF(גיליון3!AE75>0,D75/גיליון3!H25-AD75,0)","v":0},{"$f":"IF(AF75=0,0,IF(גיליון3!AG75=AF75,AF75,0))","v":0},0,null,{"$f":"IF(גיליון3!AI75>0,D75/גיליון3!H25-AH75,0)","v":0},{"$f":"IF(AJ75=0,0,IF(גיליון3!AK75=AJ75,AJ75,0))","v":0},0,null,{"$f":"IF(גיליון3!AM75>0,D75/גיליון3!H25-AL75,0)","v":0},{"$f":"IF(AN75=0,0,IF(גיליון3!AO75=AN75,AN75,0))","v":0},0,null,{"$f":"IF(גיליון3!AQ75>0,D75/גיליון3!H25-AP75,0)","v":0},{"$f":"IF(AR75=0,0,IF(גיליון3!AS75=AR75,AR75,0))","v":0},0]
[{"$f":"גיליון1!A26","v":0},{"$f":"גיליון1!B26","v":0},null,{"$f":"IF(B76<גיליון3!D26,0,B76)","v":0},null,{"$f":"INT(D76/גיליון3!H26)","v":0},null,{"$f":"IF(גיליון3!G76>0,D76/גיליון3!H26-F76,0)","v":0},{"$f":"IF(H76=0,0,IF(גיליון3!I76=H76,H76,0))","v":0},0,null,{"$f":"IF(גיליון3!K76>0,D76/גיליון3!H26-J76,0)","v":0},{"$f":"IF(L76=0,0,IF(גיליון3!M76=L76,L76,0))","v":0},0,null,{"$f":"IF(גיליון3!O76>0,D76/גיליון3!H26-N76,0)","v":0},{"$f":"IF(P76=0,0,IF(גיליון3!Q76=P76,P76,0))","v":0},0,null,{"$f":"IF(גיליון3!S76>0,D76/גיליון3!H26-R76,0)","v":0},{"$f":"IF(T76=0,0,IF(גיליון3!U76=T76,T76,0))","v":0},0,null,{"$f":"IF(גיליון3!W76>0,D76/גיליון3!H26-V76,0)","v":0},{"$f":"IF(X76=0,0,IF(גיליון3!Y76=X76,X76,0))","v":0},0,null,{"$f":"IF(גיליון3!AA76>0,D76/גיליון3!H26-Z76,0)","v":0},{"$f":"IF(AB76=0,0,IF(גיליון3!AC76=AB76,AB76,0))","v":0},0,null,{"$f":"IF(גיליון3!AE76>0,D76/גיליון3!H26-AD76,0)","v":0},{"$f":"IF(AF76=0,0,IF(גיליון3!AG76=AF76,AF76,0))","v":0},0,null,{"$f":"IF(גיליון3!AI76>0,D76/גיליון3!H26-AH76,0)","v":0},{"$f":"IF(AJ76=0,0,IF(גיליון3!AK76=AJ76,AJ76,0))","v":0},0,null,{"$f":"IF(גיליון3!AM76>0,D76/גיליון3!H26-AL76,0)","v":0},{"$f":"IF(AN76=0,0,IF(גיליון3!AO76=AN76,AN76,0))","v":0},0,null,{"$f":"IF(גיליון3!AQ76>0,D76/גיליון3!H26-AP76,0)","v":0},{"$f":"IF(AR76=0,0,IF(גיליון3!AS76=AR76,AR76,0))","v":0},0]
[{"$f":"גיליון1!A27","v":0},{"$f":"גיליון1!B27","v":0},null,{"$f":"IF(B77<גיליון3!D27,0,B77)","v":0},null,{"$f":"INT(D77/גיליון3!H27)","v":0},null,{"$f":"IF(גיליון3!G77>0,D77/גיליון3!H27-F77,0)","v":0},{"$f":"IF(H77=0,0,IF(גיליון3!I77=H77,H77,0))","v":0},0,null,{"$f":"IF(גיליון3!K77>0,D77/גיליון3!H27-J77,0)","v":0},{"$f":"IF(L77=0,0,IF(גיליון3!M77=L77,L77,0))","v":0},0,null,{"$f":"IF(גיליון3!O77>0,D77/גיליון3!H27-N77,0)","v":0},{"$f":"IF(P77=0,0,IF(גיליון3!Q77=P77,P77,0))","v":0},0,null,{"$f":"IF(גיליון3!S77>0,D77/גיליון3!H27-R77,0)","v":0},{"$f":"IF(T77=0,0,IF(גיליון3!U77=T77,T77,0))","v":0},0,null,{"$f":"IF(גיליון3!W77>0,D77/גיליון3!H27-V77,0)","v":0},{"$f":"IF(X77=0,0,IF(גיליון3!Y77=X77,X77,0))","v":0},0,null,{"$f":"IF(גיליון3!AA77>0,D77/גיליון3!H27-Z77,0)","v":0},{"$f":"IF(AB77=0,0,IF(גיליון3!AC77=AB77,AB77,0))","v":0},0,null,{"$f":"IF(גיליון3!AE77>0,D77/גיליון3!H27-AD77,0)","v":0},{"$f":"IF(AF77=0,0,IF(גיליון3!AG77=AF77,AF77,0))","v":0},0,null,{"$f":"IF(גיליון3!AI77>0,D77/גיליון3!H27-AH77,0)","v":0},{"$f":"IF(AJ77=0,0,IF(גיליון3!AK77=AJ77,AJ77,0))","v":0},0,null,{"$f":"IF(גיליון3!AM77>0,D77/גיליון3!H27-AL77,0)","v":0},{"$f":"IF(AN77=0,0,IF(גיליון3!AO77=AN77,AN77,0))","v":0},0,null,{"$f":"IF(גיליון3!AQ77>0,D77/גיליון3!H27-AP77,0)","v":0},{"$f":"IF(AR77=0,0,IF(גיליון3!AS77=AR77,AR77,0))","v":0},0]
[{"$f":"גיליון1!A14","v":"כולנו חברים נ נח"},{"$f":"גיליון1!B28","v":0},null,{"$f":"IF(B78<גיליון3!D28,0,B78)","v":0},null,{"$f":"INT(D78/גיליון3!H28)","v":0},null,{"$f":"IF(גיליון3!G78>0,D78/גיליון3!H28-F78,0)","v":0},{"$f":"IF(H78=0,0,IF(גיליון3!I78=H78,H78,0))","v":0},0,null,{"$f":"IF(גיליון3!K78>0,D78/גיליון3!H28-J78,0)","v":0},{"$f":"IF(L78=0,0,IF(גיליון3!M78=L78,L78,0))","v":0},0,null,{"$f":"IF(גיליון3!O78>0,D78/גיליון3!H28-N78,0)","v":0},{"$f":"IF(P78=0,0,IF(גיליון3!Q78=P78,P78,0))","v":0},0,null,{"$f":"IF(גיליון3!S78>0,D78/גיליון3!H28-R78,0)","v":0},{"$f":"IF(T78=0,0,IF(גיליון3!U78=T78,T78,0))","v":0},0,null,{"$f":"IF(גיליון3!W78>0,D78/גיליון3!H28-V78,0)","v":0},{"$f":"IF(X78=0,0,IF(גיליון3!Y78=X78,X78,0))","v":0},0,null,{"$f":"IF(גיליון3!AA78>0,D78/גיליון3!H28-Z78,0)","v":0},{"$f":"IF(AB78=0,0,IF(גיליון3!AC78=AB78,AB78,0))","v":0},0,null,{"$f":"IF(גיליון3!AE78>0,D78/גיליון3!H28-AD78,0)","v":0},{"$f":"IF(AF78=0,0,IF(גיליון3!AG78=AF78,AF78,0))","v":0},0,null,{"$f":"IF(גיליון3!AI78>0,D78/גיליון3!H28-AH78,0)","v":0},{"$f":"IF(AJ78=0,0,IF(גיליון3!AK78=AJ78,AJ78,0))","v":0},0,null,{"$f":"IF(גיליון3!AM78>0,D78/גיליון3!H28-AL78,0)","v":0},{"$f":"IF(AN78=0,0,IF(גיליון3!AO78=AN78,AN78,0))","v":0},0,null,{"$f":"IF(גיליון3!AQ78>0,D78/גיליון3!H28-AP78,0)","v":0},{"$f":"IF(AR78=0,0,IF(גיליון3!AS78=AR78,AR78,0))","v":0},0]
[{"$f":"גיליון1!A29","v":0},{"$f":"גיליון1!B29","v":0},null,{"$f":"IF(B79<גיליון3!D29,0,B79)","v":0},null,{"$f":"INT(D79/גיליון3!H29)","v":0},null,{"$f":"IF(גיליון3!G79>0,D79/גיליון3!H29-F79,0)","v":0},{"$f":"IF(H79=0,0,IF(גיליון3!I79=H79,H79,0))","v":0},0,null,{"$f":"IF(גיליון3!K79>0,D79/גיליון3!H29-J79,0)","v":0},{"$f":"IF(L79=0,0,IF(גיליון3!M79=L79,L79,0))","v":0},0,null,{"$f":"IF(גיליון3!O79>0,D79/גיליון3!H29-N79,0)","v":0},{"$f":"IF(P79=0,0,IF(גיליון3!Q79=P79,P79,0))","v":0},0,null,{"$f":"IF(גיליון3!S79>0,D79/גיליון3!H29-R79,0)","v":0},{"$f":"IF(T79=0,0,IF(גיליון3!U79=T79,T79,0))","v":0},0,null,{"$f":"IF(גיליון3!W79>0,D79/גיליון3!H29-V79,0)","v":0},{"$f":"IF(X79=0,0,IF(גיליון3!Y79=X79,X79,0))","v":0},0,null,{"$f":"IF(גיליון3!AA79>0,D79/גיליון3!H29-Z79,0)","v":0},{"$f":"IF(AB79=0,0,IF(גיליון3!AC79=AB79,AB79,0))","v":0},0,null,{"$f":"IF(גיליון3!AE79>0,D79/גיליון3!H29-AD79,0)","v":0},{"$f":"IF(AF79=0,0,IF(גיליון3!AG79=AF79,AF79,0))","v":0},0,null,{"$f":"IF(גיליון3!AI79>0,D79/גיליון3!H29-AH79,0)","v":0},{"$f":"IF(AJ79=0,0,IF(גיליון3!AK79=AJ79,AJ79,0))","v":0},0,null,{"$f":"IF(גיליון3!AM79>0,D79/גיליון3!H29-AL79,0)","v":0},{"$f":"IF(AN79=0,0,IF(גיליון3!AO79=AN79,AN79,0))","v":0},0,null,{"$f":"IF(גיליון3!AQ79>0,D79/גיליון3!H29-AP79,0)","v":0},{"$f":"IF(AR79=0,0,IF(גיליון3!AS79=AR79,AR79,0))","v":0},0]
[{"$f":"גיליון1!A30","v":0},{"$f":"גיליון1!B30","v":0},null,{"$f":"IF(B80<גיליון3!D30,0,B80)","v":0},null,{"$f":"INT(D80/גיליון3!H30)","v":0},null,{"$f":"IF(גיליון3!G80>0,D80/גיליון3!H30-F80,0)","v":0},{"$f":"IF(H80=0,0,IF(גיליון3!I80=H80,H80,0))","v":0},0,null,{"$f":"IF(גיליון3!K80>0,D80/גיליון3!H30-J80,0)","v":0},{"$f":"IF(L80=0,0,IF(גיליון3!M80=L80,L80,0))","v":0},0,null,{"$f":"IF(גיליון3!O80>0,D80/גיליון3!H30-N80,0)","v":0},{"$f":"IF(P80=0,0,IF(גיליון3!Q80=P80,P80,0))","v":0},0,null,{"$f":"IF(גיליון3!S80>0,D80/גיליון3!H30-R80,0)","v":0},{"$f":"IF(T80=0,0,IF(גיליון3!U80=T80,T80,0))","v":0},0,null,{"$f":"IF(גיליון3!W80>0,D80/גיליון3!H30-V80,0)","v":0},{"$f":"IF(X80=0,0,IF(גיליון3!Y80=X80,X80,0))","v":0},0,null,{"$f":"IF(גיליון3!AA80>0,D80/גיליון3!H30-Z80,0)","v":0},{"$f":"IF(AB80=0,0,IF(גיליון3!AC80=AB80,AB80,0))","v":0},0,null,{"$f":"IF(גיליון3!AE80>0,D80/גיליון3!H30-AD80,0)","v":0},{"$f":"IF(AF80=0,0,IF(גיליון3!AG80=AF80,AF80,0))","v":0},0,null,{"$f":"IF(גיליון3!AI80>0,D80/גיליון3!H30-AH80,0)","v":0},{"$f":"IF(AJ80=0,0,IF(גיליון3!AK80=AJ80,AJ80,0))","v":0},0,null,{"$f":"IF(גיליון3!AM80>0,D80/גיליון3!H30-AL80,0)","v":0},{"$f":"IF(AN80=0,0,IF(גיליון3!AO80=AN80,AN80,0))","v":0},0,null,{"$f":"IF(גיליון3!AQ80>0,D80/גיליון3!H30-AP80,0)","v":0},{"$f":"IF(AR80=0,0,IF(גיליון3!AS80=AR80,AR80,0))","v":0},0]
[{"$f":"גיליון1!A31","v":0},{"$f":"גיליון1!B31","v":0},null,{"$f":"IF(B81<גיליון3!D31,0,B81)","v":0},null,{"$f":"INT(D81/גיליון3!H31)","v":0},null,{"$f":"IF(גיליון3!G81>0,D81/גיליון3!H31-F81,0)","v":0},{"$f":"IF(H81=0,0,IF(גיליון3!I81=H81,H81,0))","v":0},0,null,{"$f":"IF(גיליון3!K81>0,D81/גיליון3!H31-J81,0)","v":0},{"$f":"IF(L81=0,0,IF(גיליון3!M81=L81,L81,0))","v":0},0,null,{"$f":"IF(גיליון3!O81>0,D81/גיליון3!H31-N81,0)","v":0},{"$f":"IF(P81=0,0,IF(גיליון3!Q81=P81,P81,0))","v":0},0,null,{"$f":"IF(גיליון3!S81>0,D81/גיליון3!H31-R81,0)","v":0},{"$f":"IF(T81=0,0,IF(גיליון3!U81=T81,T81,0))","v":0},0,null,{"$f":"IF(גיליון3!W81>0,D81/גיליון3!H31-V81,0)","v":0},{"$f":"IF(X81=0,0,IF(גיליון3!Y81=X81,X81,0))","v":0},0,null,{"$f":"IF(גיליון3!AA81>0,D81/גיליון3!H31-Z81,0)","v":0},{"$f":"IF(AB81=0,0,IF(גיליון3!AC81=AB81,AB81,0))","v":0},0,null,{"$f":"IF(גיליון3!AE81>0,D81/גיליון3!H31-AD81,0)","v":0},{"$f":"IF(AF81=0,0,IF(גיליון3!AG81=AF81,AF81,0))","v":0},0,null,{"$f":"IF(גיליון3!AI81>0,D81/גיליון3!H31-AH81,0)","v":0},{"$f":"IF(AJ81=0,0,IF(גיליון3!AK81=AJ81,AJ81,0))","v":0},0,null,{"$f":"IF(גיליון3!AM81>0,D81/גיליון3!H31-AL81,0)","v":0},{"$f":"IF(AN81=0,0,IF(גיליון3!AO81=AN81,AN81,0))","v":0},0,null,{"$f":"IF(גיליון3!AQ81>0,D81/גיליון3!H31-AP81,0)","v":0},{"$f":"IF(AR81=0,0,IF(גיליון3!AS81=AR81,AR81,0))","v":0},0]
[{"$f":"גיליון1!A32","v":0},{"$f":"גיליון1!B32","v":0},null,{"$f":"IF(B82<גיליון3!D32,0,B82)","v":0},null,{"$f":"INT(D82/גיליון3!H32)","v":0},null,{"$f":"IF(גיליון3!G82>0,D82/גיליון3!H32-F82,0)","v":0},{"$f":"IF(H82=0,0,IF(גיליון3!I82=H82,H82,0))","v":0},0,null,{"$f":"IF(גיליון3!K82>0,D82/גיליון3!H32-J82,0)","v":0},{"$f":"IF(L82=0,0,IF(גיליון3!M82=L82,L82,0))","v":0},0,null,{"$f":"IF(גיליון3!O82>0,D82/גיליון3!H32-N82,0)","v":0},{"$f":"IF(P82=0,0,IF(גיליון3!Q82=P82,P82,0))","v":0},0,null,{"$f":"IF(גיליון3!S82>0,D82/גיליון3!H32-R82,0)","v":0},{"$f":"IF(T82=0,0,IF(גיליון3!U82=T82,T82,0))","v":0},0,null,{"$f":"IF(גיליון3!W82>0,D82/גיליון3!H32-V82,0)","v":0},{"$f":"IF(X82=0,0,IF(גיליון3!Y82=X82,X82,0))","v":0},0,null,{"$f":"IF(גיליון3!AA82>0,D82/גיליון3!H32-Z82,0)","v":0},{"$f":"IF(AB82=0,0,IF(גיליון3!AC82=AB82,AB82,0))","v":0},0,null,{"$f":"IF(גיליון3!AE82>0,D82/גיליון3!H32-AD82,0)","v":0},{"$f":"IF(AF82=0,0,IF(גיליון3!AG82=AF82,AF82,0))","v":0},0,null,{"$f":"IF(גיליון3!AI82>0,D82/גיליון3!H32-AH82,0)","v":0},{"$f":"IF(AJ82=0,0,IF(גיליון3!AK82=AJ82,AJ82,0))","v":0},0,null,{"$f":"IF(גיליון3!AM82>0,D82/גיליון3!H32-AL82,0)","v":0},{"$f":"IF(AN82=0,0,IF(גיליון3!AO82=AN82,AN82,0))","v":0},0,null,{"$f":"IF(גיליון3!AQ82>0,D82/גיליון3!H32-AP82,0)","v":0},{"$f":"IF(AR82=0,0,IF(גיליון3!AS82=AR82,AR82,0))","v":0},0]
[{"$f":"גיליון1!A33","v":0},{"$f":"גיליון1!B33","v":0},null,{"$f":"IF(B83<גיליון3!D33,0,B83)","v":0},null,{"$f":"INT(D83/גיליון3!H33)","v":0},null,{"$f":"IF(גיליון3!G83>0,D83/גיליון3!H33-F83,0)","v":0},{"$f":"IF(H83=0,0,IF(גיליון3!I83=H83,H83,0))","v":0},0,null,{"$f":"IF(גיליון3!K83>0,D83/גיליון3!H33-J83,0)","v":0},{"$f":"IF(L83=0,0,IF(גיליון3!M83=L83,L83,0))","v":0},0,null,{"$f":"IF(גיליון3!O83>0,D83/גיליון3!H33-N83,0)","v":0},{"$f":"IF(P83=0,0,IF(גיליון3!Q83=P83,P83,0))","v":0},0,null,{"$f":"IF(גיליון3!S83>0,D83/גיליון3!H33-R83,0)","v":0},{"$f":"IF(T83=0,0,IF(גיליון3!U83=T83,T83,0))","v":0},0,null,{"$f":"IF(גיליון3!W83>0,D83/גיליון3!H33-V83,0)","v":0},{"$f":"IF(X83=0,0,IF(גיליון3!Y83=X83,X83,0))","v":0},0,null,{"$f":"IF(גיליון3!AA83>0,D83/גיליון3!H33-Z83,0)","v":0},{"$f":"IF(AB83=0,0,IF(גיליון3!AC83=AB83,AB83,0))","v":0},0,null,{"$f":"IF(גיליון3!AE83>0,D83/גיליון3!H33-AD83,0)","v":0},{"$f":"IF(AF83=0,0,IF(גיליון3!AG83=AF83,AF83,0))","v":0},0,null,{"$f":"IF(גיליון3!AI83>0,D83/גיליון3!H33-AH83,0)","v":0},{"$f":"IF(AJ83=0,0,IF(גיליון3!AK83=AJ83,AJ83,0))","v":0},0,null,{"$f":"IF(גיליון3!AM83>0,D83/גיליון3!H33-AL83,0)","v":0},{"$f":"IF(AN83=0,0,IF(גיליון3!AO83=AN83,AN83,0))","v":0},0,null,{"$f":"IF(גיליון3!AQ83>0,D83/גיליון3!H33-AP83,0)","v":0},{"$f":"IF(AR83=0,0,IF(גיליון3!AS83=AR83,AR83,0))","v":0},0]
[{"$f":"גיליון1!A34","v":0},{"$f":"גיליון1!B34","v":0},null,{"$f":"IF(B84<גיליון3!D34,0,B84)","v":0},null,{"$f":"INT(D84/גיליון3!H34)","v":0},null,{"$f":"IF(גיליון3!G84>0,D84/גיליון3!H34-F84,0)","v":0},{"$f":"IF(H84=0,0,IF(גיליון3!I84=H84,H84,0))","v":0},0,null,{"$f":"IF(גיליון3!K84>0,D84/גיליון3!H34-J84,0)","v":0},{"$f":"IF(L84=0,0,IF(גיליון3!M84=L84,L84,0))","v":0},0,null,{"$f":"IF(גיליון3!O84>0,D84/גיליון3!H34-N84,0)","v":0},{"$f":"IF(P84=0,0,IF(גיליון3!Q84=P84,P84,0))","v":0},0,null,{"$f":"IF(גיליון3!S84>0,D84/גיליון3!H34-R84,0)","v":0},{"$f":"IF(T84=0,0,IF(גיליון3!U84=T84,T84,0))","v":0},0,null,{"$f":"IF(גיליון3!W84>0,D84/גיליון3!H34-V84,0)","v":0},{"$f":"IF(X84=0,0,IF(גיליון3!Y84=X84,X84,0))","v":0},0,null,{"$f":"IF(גיליון3!AA84>0,D84/גיליון3!H34-Z84,0)","v":0},{"$f":"IF(AB84=0,0,IF(גיליון3!AC84=AB84,AB84,0))","v":0},0,null,{"$f":"IF(גיליון3!AE84>0,D84/גיליון3!H34-AD84,0)","v":0},{"$f":"IF(AF84=0,0,IF(גיליון3!AG84=AF84,AF84,0))","v":0},0,null,{"$f":"IF(גיליון3!AI84>0,D84/גיליון3!H34-AH84,0)","v":0},{"$f":"IF(AJ84=0,0,IF(גיליון3!AK84=AJ84,AJ84,0))","v":0},0,null,{"$f":"IF(גיליון3!AM84>0,D84/גיליון3!H34-AL84,0)","v":0},{"$f":"IF(AN84=0,0,IF(גיליון3!AO84=AN84,AN84,0))","v":0},0,null,{"$f":"IF(גיליון3!AQ84>0,D84/גיליון3!H34-AP84,0)","v":0},{"$f":"IF(AR84=0,0,IF(גיליון3!AS84=AR84,AR84,0))","v":0},0]
[{"$f":"גיליון1!A35","v":0},{"$f":"גיליון1!B35","v":0},null,{"$f":"IF(B85<גיליון3!D35,0,B85)","v":0},null,{"$f":"INT(D85/גיליון3!H35)","v":0},null,{"$f":"IF(גיליון3!G85>0,D85/גיליון3!H35-F85,0)","v":0},{"$f":"IF(H85=0,0,IF(גיליון3!I85=H85,H85,0))","v":0},0,null,{"$f":"IF(גיליון3!K85>0,D85/גיליון3!H35-J85,0)","v":0},{"$f":"IF(L85=0,0,IF(גיליון3!M85=L85,L85,0))","v":0},0,null,{"$f":"IF(גיליון3!O85>0,D85/גיליון3!H35-N85,0)","v":0},{"$f":"IF(P85=0,0,IF(גיליון3!Q85=P85,P85,0))","v":0},0,null,{"$f":"IF(גיליון3!S85>0,D85/גיליון3!H35-R85,0)","v":0},{"$f":"IF(T85=0,0,IF(גיליון3!U85=T85,T85,0))","v":0},0,null,{"$f":"IF(גיליון3!W85>0,D85/גיליון3!H35-V85,0)","v":0},{"$f":"IF(X85=0,0,IF(גיליון3!Y85=X85,X85,0))","v":0},0,null,{"$f":"IF(גיליון3!AA85>0,D85/גיליון3!H35-Z85,0)","v":0},{"$f":"IF(AB85=0,0,IF(גיליון3!AC85=AB85,AB85,0))","v":0},0,null,{"$f":"IF(גיליון3!AE85>0,D85/גיליון3!H35-AD85,0)","v":0},{"$f":"IF(AF85=0,0,IF(גיליון3!AG85=AF85,AF85,0))","v":0},0,null,{"$f":"IF(גיליון3!AI85>0,D85/גיליון3!H35-AH85,0)","v":0},{"$f":"IF(AJ85=0,0,IF(גיליון3!AK85=AJ85,AJ85,0))","v":0},0,null,{"$f":"IF(גיליון3!AM85>0,D85/גיליון3!H35-AL85,0)","v":0},{"$f":"IF(AN85=0,0,IF(גיליון3!AO85=AN85,AN85,0))","v":0},0,null,{"$f":"IF(גיליון3!AQ85>0,D85/גיליון3!H35-AP85,0)","v":0},{"$f":"IF(AR85=0,0,IF(גיליון3!AS85=AR85,AR85,0))","v":0},0]
[{"$f":"גיליון1!A36","v":0},{"$f":"גיליון1!B36","v":0},null,{"$f":"IF(B86<גיליון3!D36,0,B86)","v":0},null,{"$f":"INT(D86/גיליון3!H36)","v":0},null,{"$f":"IF(גיליון3!G86>0,D86/גיליון3!H36-F86,0)","v":0},{"$f":"IF(H86=0,0,IF(גיליון3!I86=H86,H86,0))","v":0},0,null,{"$f":"IF(גיליון3!K86>0,D86/גיליון3!H36-J86,0)","v":0},{"$f":"IF(L86=0,0,IF(גיליון3!M86=L86,L86,0))","v":0},0,null,{"$f":"IF(גיליון3!O86>0,D86/גיליון3!H36-N86,0)","v":0},{"$f":"IF(P86=0,0,IF(גיליון3!Q86=P86,P86,0))","v":0},0,null,{"$f":"IF(גיליון3!S86>0,D86/גיליון3!H36-R86,0)","v":0},{"$f":"IF(T86=0,0,IF(גיליון3!U86=T86,T86,0))","v":0},0,null,{"$f":"IF(גיליון3!W86>0,D86/גיליון3!H36-V86,0)","v":0},{"$f":"IF(X86=0,0,IF(גיליון3!Y86=X86,X86,0))","v":0},0,null,{"$f":"IF(גיליון3!AA86>0,D86/גיליון3!H36-Z86,0)","v":0},{"$f":"IF(AB86=0,0,IF(גיליון3!AC86=AB86,AB86,0))","v":0},0,null,{"$f":"IF(גיליון3!AE86>0,D86/גיליון3!H36-AD86,0)","v":0},{"$f":"IF(AF86=0,0,IF(גיליון3!AG86=AF86,AF86,0))","v":0},0,null,{"$f":"IF(גיליון3!AI86>0,D86/גיליון3!H36-AH86,0)","v":0},{"$f":"IF(AJ86=0,0,IF(גיליון3!AK86=AJ86,AJ86,0))","v":0},0,null,{"$f":"IF(גיליון3!AM86>0,D86/גיליון3!H36-AL86,0)","v":0},{"$f":"IF(AN86=0,0,IF(גיליון3!AO86=AN86,AN86,0))","v":0},0,null,{"$f":"IF(גיליון3!AQ86>0,D86/גיליון3!H36-AP86,0)","v":0},{"$f":"IF(AR86=0,0,IF(גיליון3!AS86=AR86,AR86,0))","v":0},0]
[{"$f":"גיליון1!A37","v":0},{"$f":"גיליון1!B37","v":0},null,{"$f":"IF(B87<גיליון3!D37,0,B87)","v":0},null,{"$f":"INT(D87/גיליון3!H37)","v":0},null,{"$f":"IF(גיליון3!G87>0,D87/גיליון3!H37-F87,0)","v":0},{"$f":"IF(H87=0,0,IF(גיליון3!I87=H87,H87,0))","v":0},0,null,{"$f":"IF(גיליון3!K87>0,D87/גיליון3!H37-J87,0)","v":0},{"$f":"IF(L87=0,0,IF(גיליון3!M87=L87,L87,0))","v":0},0,null,{"$f":"IF(גיליון3!O87>0,D87/גיליון3!H37-N87,0)","v":0},{"$f":"IF(P87=0,0,IF(גיליון3!Q87=P87,P87,0))","v":0},0,null,{"$f":"IF(גיליון3!S87>0,D87/גיליון3!H37-R87,0)","v":0},{"$f":"IF(T87=0,0,IF(גיליון3!U87=T87,T87,0))","v":0},0,null,{"$f":"IF(גיליון3!W87>0,D87/גיליון3!H37-V87,0)","v":0},{"$f":"IF(X87=0,0,IF(גיליון3!Y87=X87,X87,0))","v":0},0,null,{"$f":"IF(גיליון3!AA87>0,D87/גיליון3!H37-Z87,0)","v":0},{"$f":"IF(AB87=0,0,IF(גיליון3!AC87=AB87,AB87,0))","v":0},0,null,{"$f":"IF(גיליון3!AE87>0,D87/גיליון3!H37-AD87,0)","v":0},{"$f":"IF(AF87=0,0,IF(גיליון3!AG87=AF87,AF87,0))","v":0},0,null,{"$f":"IF(גיליון3!AI87>0,D87/גיליון3!H37-AH87,0)","v":0},{"$f":"IF(AJ87=0,0,IF(גיליון3!AK87=AJ87,AJ87,0))","v":0},0,null,{"$f":"IF(גיליון3!AM87>0,D87/גיליון3!H37-AL87,0)","v":0},{"$f":"IF(AN87=0,0,IF(גיליון3!AO87=AN87,AN87,0))","v":0},0,null,{"$f":"IF(גיליון3!AQ87>0,D87/גיליון3!H37-AP87,0)","v":0},{"$f":"IF(AR87=0,0,IF(גיליון3!AS87=AR87,AR87,0))","v":0},0]
[{"$f":"גיליון1!A38","v":0},{"$f":"גיליון1!B38","v":0},null,{"$f":"IF(B88<גיליון3!D38,0,B88)","v":0},null,{"$f":"INT(D88/גיליון3!H38)","v":0},null,{"$f":"IF(גיליון3!G88>0,D88/גיליון3!H38-F88,0)","v":0},{"$f":"IF(H88=0,0,IF(גיליון3!I88=H88,H88,0))","v":0},0,null,{"$f":"IF(גיליון3!K88>0,D88/גיליון3!H38-J88,0)","v":0},{"$f":"IF(L88=0,0,IF(גיליון3!M88=L88,L88,0))","v":0},0,null,{"$f":"IF(גיליון3!O88>0,D88/גיליון3!H38-N88,0)","v":0},{"$f":"IF(P88=0,0,IF(גיליון3!Q88=P88,P88,0))","v":0},0,null,{"$f":"IF(גיליון3!S88>0,D88/גיליון3!H38-R88,0)","v":0},{"$f":"IF(T88=0,0,IF(גיליון3!U88=T88,T88,0))","v":0},0,null,{"$f":"IF(גיליון3!W88>0,D88/גיליון3!H38-V88,0)","v":0},{"$f":"IF(X88=0,0,IF(גיליון3!Y88=X88,X88,0))","v":0},0,null,{"$f":"IF(גיליון3!AA88>0,D88/גיליון3!H38-Z88,0)","v":0},{"$f":"IF(AB88=0,0,IF(גיליון3!AC88=AB88,AB88,0))","v":0},0,null,{"$f":"IF(גיליון3!AE88>0,D88/גיליון3!H38-AD88,0)","v":0},{"$f":"IF(AF88=0,0,IF(גיליון3!AG88=AF88,AF88,0))","v":0},0,null,{"$f":"IF(גיליון3!AI88>0,D88/גיליון3!H38-AH88,0)","v":0},{"$f":"IF(AJ88=0,0,IF(גיליון3!AK88=AJ88,AJ88,0))","v":0},0,null,{"$f":"IF(גיליון3!AM88>0,D88/גיליון3!H38-AL88,0)","v":0},{"$f":"IF(AN88=0,0,IF(גיליון3!AO88=AN88,AN88,0))","v":0},0,null,{"$f":"IF(גיליון3!AQ88>0,D88/גיליון3!H38-AP88,0)","v":0},{"$f":"IF(AR88=0,0,IF(גיליון3!AS88=AR88,AR88,0))","v":0},0]
[{"$f":"גיליון1!A39","v":0},{"$f":"גיליון1!B39","v":0},null,{"$f":"IF(B89<גיליון3!D39,0,B89)","v":0},null,{"$f":"INT(D89/גיליון3!H39)","v":0},null,{"$f":"IF(גיליון3!G89>0,D89/גיליון3!H39-F89,0)","v":0},{"$f":"IF(H89=0,0,IF(גיליון3!I89=H89,H89,0))","v":0},0,null,{"$f":"IF(גיליון3!K89>0,D89/גיליון3!H39-J89,0)","v":0},{"$f":"IF(L89=0,0,IF(גיליון3!M89=L89,L89,0))","v":0},0,null,{"$f":"IF(גיליון3!O89>0,D89/גיליון3!H39-N89,0)","v":0},{"$f":"IF(P89=0,0,IF(גיליון3!Q89=P89,P89,0))","v":0},0,null,{"$f":"IF(גיליון3!S89>0,D89/גיליון3!H39-R89,0)","v":0},{"$f":"IF(T89=0,0,IF(גיליון3!U89=T89,T89,0))","v":0},0,null,{"$f":"IF(גיליון3!W89>0,D89/גיליון3!H39-V89,0)","v":0},{"$f":"IF(X89=0,0,IF(גיליון3!Y89=X89,X89,0))","v":0},0,null,{"$f":"IF(גיליון3!AA89>0,D89/גיליון3!H39-Z89,0)","v":0},{"$f":"IF(AB89=0,0,IF(גיליון3!AC89=AB89,AB89,0))","v":0},0,null,{"$f":"IF(גיליון3!AE89>0,D89/גיליון3!H39-AD89,0)","v":0},{"$f":"IF(AF89=0,0,IF(גיליון3!AG89=AF89,AF89,0))","v":0},0,null,{"$f":"IF(גיליון3!AI89>0,D89/גיליון3!H39-AH89,0)","v":0},{"$f":"IF(AJ89=0,0,IF(גיליון3!AK89=AJ89,AJ89,0))","v":0},0,null,{"$f":"IF(גיליון3!AM89>0,D89/גיליון3!H39-AL89,0)","v":0},{"$f":"IF(AN89=0,0,IF(גיליון3!AO89=AN89,AN89,0))","v":0},0,null,{"$f":"IF(גיליון3!AQ89>0,D89/גיליון3!H39-AP89,0)","v":0},{"$f":"IF(AR89=0,0,IF(גיליון3!AS89=AR89,AR89,0))","v":0},0]
[{"$f":"גיליון1!A40","v":"סה\"כ"},{"$f":"SUM(B52:B89)","v":3986855},null,{"$f":"SUM(D52:D89)","v":3827515},null,{"$f":"SUM(F52:F89)","v":114},{"$nulls":3},{"$f":"SUM(J52:J89)","v":115},{"$nulls":3},{"$f":"SUM(N52:N89)","v":116},{"$nulls":3},{"$f":"SUM(R52:R89)","v":117},{"$nulls":3},{"$f":"SUM(V52:V89)","v":118},{"$nulls":3},{"$f":"SUM(Z52:Z89)","v":119},{"$nulls":3},{"$f":"SUM(AD52:AD89)","v":120},{"$nulls":3},{"$f":"SUM(AH52:AH89)","v":120},{"$nulls":3},{"$f":"SUM(AL52:AL89)","v":120},{"$nulls":3},{"$f":"SUM(AP52:AP89)","v":120},{"$nulls":3},{"$f":"SUM(AT52:AT89)","v":120}]
{"$rows_empty":10}
[{"$f":"A1","v":"רשימה"},"קולות","אחוז החסימה","רשימות שעברו את אחוז החסימה","מודד","מנדטים שלמים","מנדטים נותרים","חלוקה 1","גדול ביותר","תוצאה","מנדטים נותרים","חלוקה 2","גדול ביותר","תוצאה","מנדטים נותרים","חלוקה 3","גדול ביותר","תוצאה","מנדטים נותרים","חלוקה 4","גדול ביותר","תוצאה","מנדטים נותרים","חלוקה 5","גדול ביותר","תוצאה","מנדטים נותרים","חלוקה 6","גדול ביותר","תוצאה","מנדטים נותרים","חלוקה 7","גדול ביותר","תוצאה","מנדטים נותרים","חלוקה 8","גדול ביותר","תוצאה","מנדטים נותרים","חלוקה 9","גדול ביותר","תוצאה","מנדטים נותרים","חלוקה 10","גדול ביותר","תוצאה"]
[{"$f":"A2","v":"הבית היהודי"},254663,0.0325,254663,31895.958333333332,7,{"$f":"E103-F140","v":6},{"$f":"IF(גיליון3!G102>0,D102/(F102+1),0)","v":31832.875},{"$f":"IF(גיליון3!I102=0,0,IF(גיליון3!I102=גיליון2!H102,גיליון3!I102,0))","v":0},{"$f":"IF(גיליון3!I102>0,IF(גיליון3!I102=I102,F102+1,F102),F102)","v":7},{"$f":"E103-J140","v":5},{"$f":"IF(גיליון3!K102>0,D102/(J102+1),0)","v":31832.875},{"$f":"IF(גיליון3!M102=0,0,IF(גיליון3!M102=גיליון2!L102,גיליון3!M102,0))","v":31832.875},{"$f":"IF(גיליון3!M102>0,IF(גיליון3!M102=M102,J102+1,J102),J102)","v":8},{"$f":"E103-N140","v":4},{"$f":"IF(גיליון3!O102>0,D102/(N102+1),0)","v":28295.88888888889},{"$f":"IF(גיליון3!Q102=0,0,IF(גיליון3!Q102=גיליון2!P102,גיליון3!Q102,0))","v":0},{"$f":"IF(גיליון3!Q102>0,IF(גיליון3!Q102=Q102,N102+1,N102),N102)","v":8},{"$f":"E103-R140","v":3},{"$f":"IF(גיליון3!S102>0,D102/(R102+1),0)","v":28295.88888888889},{"$f":"IF(גיליון3!U102=0,0,IF(גיליון3!U102=גיליון2!T102,גיליון3!U102,0))","v":0},{"$f":"IF(גיליון3!U102>0,IF(גיליון3!U102=U102,R102+1,R102),R102)","v":8},{"$f":"E103-V140","v":2},{"$f":"IF(גיליון3!W102>0,D102/(V102+1),0)","v":28295.88888888889},{"$f":"IF(גיליון3!Y102=0,0,IF(גיליון3!Y102=גיליון2!X102,גיליון3!Y102,0))","v":0},{"$f":"IF(גיליון3!Y102>0,IF(גיליון3!Y102=Y102,V102+1,V102),V102)","v":8},{"$f":"E103-Z140","v":1},{"$f":"IF(גיליון3!AA102>0,D102/(Z102+1),0)","v":28295.88888888889},{"$f":"IF(גיליון3!AC102=0,0,IF(גיליון3!AC102=גיליון2!AB102,גיליון3!AC102,0))","v":0},{"$f":"IF(גיליון3!AC102>0,IF(גיליון3!AC102=AC102,Z102+1,Z102),Z102)","v":8},{"$f":"E103-AD140","v":0},{"$f":"IF(גיליון3!AE102>0,D102/(AD102+1),0)","v":0},{"$f":"IF(גיליון3!AG102=0,0,IF(גיליון3!AG102=גיליון2!AF102,גיליון3!AG102,0))","v":0},{"$f":"IF(גיליון3!AG102>0,IF(גיליון3!AG102=AG102,AD102+1,AD102),AD102)","v":8},{"$f":"E103-AH140","v":0},{"$f":"IF(גיליון3!AI102>0,D102/(AH102+1),0)","v":0},{"$f":"IF(גיליון3!AK102=0,0,IF(גיליון3!AK102=גיליון2!AJ102,גיליון3!AK102,0))","v":0},{"$f":"IF(גיליון3!AK102>0,IF(גיליון3!AK102=AK102,AH102+1,AH102),AH102)","v":8},{"$f":"E103-AL140","v":0},{"$f":"IF(גיליון3!AM102>0,D102/(AL102+1),0)","v":0},{"$f":"IF(גיליון3!AO102=0,0,IF(גיליון3!AO102=גיליון2!AN102,גיליון3!AO102,0))","v":0},{"$f":"IF(גיליון3!AO102>0,IF(גיליון3!AO102=AO102,AL102+1,AL102),AL102)","v":8},{"$f":"E103-AP140","v":0},{"$f":"IF(גיליון3!AQ102>0,D102/(AP102+1),0)","v":0},{"$f":"IF(גיליון3!AS102=0,0,IF(גיליון3!AS102=גיליון2!AR102,גיליון3!AS102,0))","v":0},{"$f":"IF(גיליון3!AS102>0,IF(גיליון3!AS102=AS102,AP102+1,AP102),AP102)","v":8}]
[{"$f":"A3","v":"הליכוד"},924766,129572.7875,924766,120,28,null,{"$f":"IF(גיליון3!G103>0,D103/(F103+1),0)","v":31888.48275862069},{"$f":"IF(גיליון3!I103=0,0,IF(גיליון3!I103=גיליון2!H103,גיליון3!I103,0))","v":31888.48275862069},{"$f":"IF(גיליון3!I103>0,IF(גיליון3!I103=I103,F103+1,F103),F103)","v":29},null,{"$f":"IF(גיליון3!K103>0,D103/(J103+1),0)","v":30825.533333333333},{"$f":"IF(גיליון3!M103=0,0,IF(גיליון3!M103=גיליון2!L103,גיליון3!M103,0))","v":0},{"$f":"IF(גיליון3!M103>0,IF(גיליון3!M103=M103,J103+1,J103),J103)","v":29},null,{"$f":"IF(גיליון3!O103>0,D103/(N103+1),0)","v":30825.533333333333},{"$f":"IF(גיליון3!Q103=0,0,IF(גיליון3!Q103=גיליון2!P103,גיליון3!Q103,0))","v":0},{"$f":"IF(גיליון3!Q103>0,IF(גיליון3!Q103=Q103,N103+1,N103),N103)","v":29},null,{"$f":"IF(גיליון3!S103>0,D103/(R103+1),0)","v":30825.533333333333},{"$f":"IF(גיליון3!U103=0,0,IF(גיליון3!U103=גיליון2!T103,גיליון3!U103,0))","v":0},{"$f":"IF(גיליון3!U103>0,IF(גיליון3!U103=U103,R103+1,R103),R103)","v":29},null,{"$f":"IF(גיליון3!W103>0,D103/(V103+1),0)","v":30825.533333333333},{"$f":"IF(גיליון3!Y103=0,0,IF(גיליון3!Y103=גיליון2!X103,גיליון3!Y103,0))","v":0},{"$f":"IF(גיליון3!Y103>0,IF(גיליון3!Y103=Y103,V103+1,V103),V103)","v":29},null,{"$f":"IF(גיליון3!AA103>0,D103/(Z103+1),0)","v":30825.533333333333},{"$f":"IF(גיליון3!AC103=0,0,IF(גיליון3!AC103=גיליון2!AB103,גיליון3!AC103,0))","v":0},{"$f":"IF(גיליון3!AC103>0,IF(גיליון3!AC103=AC103,Z103+1,Z103),Z103)","v":29},null,{"$f":"IF(גיליון3!AE103>0,D103/(AD103+1),0)","v":0},{"$f":"IF(גיליון3!AG103=0,0,IF(גיליון3!AG103=גיליון2!AF103,גיליון3!AG103,0))","v":0},{"$f":"IF(גיליון3!AG103>0,IF(גיליון3!AG103=AG103,AD103+1,AD103),AD103)","v":29},null,{"$f":"IF(גיליון3!AI103>0,D103/(AH103+1),0)","v":0},{"$f":"IF(גיליון3!AK103=0,0,IF(גיליון3!AK103=גיליון2!AJ103,גיליון3!AK103,0))","v":0},{"$f":"IF(גיליון3!AK103>0,IF(גיליון3!AK103=AK103,AH103+1,AH103),AH103)","v":29},null,{"$f":"IF(גיליון3!AM103>0,D103/(AL103+1),0)","v":0},{"$f":"IF(גיליון3!AO103=0,0,IF(גיליון3!AO103=גיליון2!AN103,גיליון3!AO103,0))","v":0},{"$f":"IF(גיליון3!AO103>0,IF(גיליון3!AO103=AO103,AL103+1,AL103),AL103)","v":29},null,{"$f":"IF(גיליון3!AQ103>0,D103/(AP103+1),0)","v":0},{"$f":"IF(גיליון3!AS103=0,0,IF(גיליון3!AS103=גיליון2!AR103,גיליון3!AS103,0))","v":0},{"$f":"IF(גיליון3!AS103>0,IF(גיליון3!AS103=AS103,AP103+1,AP103),AP103)","v":29}]
[{"$f":"A4","v":"יש עתיד"},348802,null,{"$f":"D4","v":348802},null,{"$f":"F4","v":10},null,{"$f":"IF(גיליון3!G104>0,D104/(F104+1),0)","v":31709.272727272728},{"$f":"IF(גיליון3!I104=0,0,IF(גיליון3!I104=גיליון2!H104,גיליון3!I104,0))","v":0},{"$f":"IF(גיליון3!I104>0,IF(גיליון3!I104=I104,F104+1,F104),F104)","v":10},null,{"$f":"IF(גיליון3!K104>0,D104/(J104+1),0)","v":31709.272727272728},{"$f":"IF(גיליון3!M104=0,0,IF(גיליון3!M104=גיליון2!L104,גיליון3!M104,0))","v":0},{"$f":"IF(גיליון3!M104>0,IF(גיליון3!M104=M104,J104+1,J104),J104)","v":10},null,{"$f":"IF(גיליון3!O104>0,D104/(N104+1),0)","v":31709.272727272728},{"$f":"IF(גיליון3!Q104=0,0,IF(גיליון3!Q104=גיליון2!P104,גיליון3!Q104,0))","v":31709.272727272728},{"$f":"IF(גיליון3!Q104>0,IF(גיליון3!Q104=Q104,N104+1,N104),N104)","v":11},null,{"$f":"IF(גיליון3!S104>0,D104/(R104+1),0)","v":29066.833333333332},{"$f":"IF(גיליון3!U104=0,0,IF(גיליון3!U104=גיליון2!T104,גיליון3!U104,0))","v":0},{"$f":"IF(גיליון3!U104>0,IF(גיליון3!U104=U104,R104+1,R104),R104)","v":11},null,{"$f":"IF(גיליון3!W104>0,D104/(V104+1),0)","v":29066.833333333332},{"$f":"IF(גיליון3!Y104=0,0,IF(גיליון3!Y104=גיליון2!X104,גיליון3!Y104,0))","v":0},{"$f":"IF(גיליון3!Y104>0,IF(גיליון3!Y104=Y104,V104+1,V104),V104)","v":11},null,{"$f":"IF(גיליון3!AA104>0,D104/(Z104+1),0)","v":29066.833333333332},{"$f":"IF(גיליון3!AC104=0,0,IF(גיליון3!AC104=גיליון2!AB104,גיליון3!AC104,0))","v":0},{"$f":"IF(גיליון3!AC104>0,IF(גיליון3!AC104=AC104,Z104+1,Z104),Z104)","v":11},null,{"$f":"IF(גיליון3!AE104>0,D104/(AD104+1),0)","v":0},{"$f":"IF(גיליון3!AG104=0,0,IF(גיליון3!AG104=גיליון2!AF104,גיליון3!AG104,0))","v":0},{"$f":"IF(גיליון3!AG104>0,IF(גיליון3!AG104=AG104,AD104+1,AD104),AD104)","v":11},null,{"$f":"IF(גיליון3!AI104>0,D104/(AH104+1),0)","v":0},{"$f":"IF(גיליון3!AK104=0,0,IF(גיליון3!AK104=גיליון2!AJ104,גיליון3!AK104,0))","v":0},{"$f":"IF(גיליון3!AK104>0,IF(גיליון3!AK104=AK104,AH104+1,AH104),AH104)","v":11},null,{"$f":"IF(גיליון3!AM104>0,D104/(AL104+1),0)","v":0},{"$f":"IF(גיליון3!AO104=0,0,IF(גיליון3!AO104=גיליון2!AN104,גיליון3!AO104,0))","v":0},{"$f":"IF(גיליון3!AO104>0,IF(גיליון3!AO104=AO104,AL104+1,AL104),AL104)","v":11},null,{"$f":"IF(גיליון3!AQ104>0,D104/(AP104+1),0)","v":0},{"$f":"IF(גיליון3!AS104=0,0,IF(גיליון3!AS104=גיליון2!AR104,גיליון3!AS104,0))","v":0},{"$f":"IF(גיליון3!AS104>0,IF(גיליון3!AS104=AS104,AP104+1,AP104),AP104)","v":11}]
[{"$f":"A5","v":"המחנה הציוני"},744673,null,744673,null,23,null,{"$f":"IF(גיליון3!G105>0,D105/(F105+1),0)","v":31028.041666666668},{"$f":"IF(גיליון3!I105=0,0,IF(גיליון3!I105=גיליון2!H105,גיליון3!I105,0))","v":0},{"$f":"IF(גיליון3!I105>0,IF(גיליון3!I105=I105,F105+1,F105),F105)","v":23},null,{"$f":"IF(גיליון3!K105>0,D105/(J105+1),0)","v":31028.041666666668},{"$f":"IF(גיליון3!M105=0,0,IF(גיליון3!M105=גיליון2!L105,גיליון3!M105,0))","v":0},{"$f":"IF(גיליון3!M105>0,IF(גיליון3!M105=M105,J105+1,J105),J105)","v":23},null,{"$f":"IF(גיליון3!O105>0,D105/(N105+1),0)","v":31028.041666666668},{"$f":"IF(גיליון3!Q105=0,0,IF(גיליון3!Q105=גיליון2!P105,גיליון3!Q105,0))","v":0},{"$f":"IF(גיליון3!Q105>0,IF(גיליון3!Q105=Q105,N105+1,N105),N105)","v":23},null,{"$f":"IF(גיליון3!S105>0,D105/(R105+1),0)","v":31028.041666666668},{"$f":"IF(גיליון3!U105=0,0,IF(גיליון3!U105=גיליון2!T105,גיליון3!U105,0))","v":31028.041666666668},{"$f":"IF(גיליון3!U105>0,IF(גיליון3!U105=U105,R105+1,R105),R105)","v":24},null,{"$f":"IF(גיליון3!W105>0,D105/(V105+1),0)","v":29786.92},{"$f":"IF(גיליון3!Y105=0,0,IF(גיליון3!Y105=גיליון2!X105,גיליון3!Y105,0))","v":0},{"$f":"IF(גיליון3!Y105>0,IF(גיליון3!Y105=Y105,V105+1,V105),V105)","v":24},null,{"$f":"IF(גיליון3!AA105>0,D105/(Z105+1),0)","v":29786.92},{"$f":"IF(גיליון3!AC105=0,0,IF(גיליון3!AC105=גיליון2!AB105,גיליון3!AC105,0))","v":0},{"$f":"IF(גיליון3!AC105>0,IF(גיליון3!AC105=AC105,Z105+1,Z105),Z105)","v":24},null,{"$f":"IF(גיליון3!AE105>0,D105/(AD105+1),0)","v":0},{"$f":"IF(גיליון3!AG105=0,0,IF(גיליון3!AG105=גיליון2!AF105,גיליון3!AG105,0))","v":0},{"$f":"IF(גיליון3!AG105>0,IF(גיליון3!AG105=AG105,AD105+1,AD105),AD105)","v":24},null,{"$f":"IF(גיליון3!AI105>0,D105/(AH105+1),0)","v":0},{"$f":"IF(גיליון3!AK105=0,0,IF(גיליון3!AK105=גיליון2!AJ105,גיליון3!AK105,0))","v":0},{"$f":"IF(גיליון3!AK105>0,IF(גיליון3!AK105=AK105,AH105+1,AH105),AH105)","v":24},null,{"$f":"IF(גיליון3!AM105>0,D105/(AL105+1),0)","v":0},{"$f":"IF(גיליון3!AO105=0,0,IF(גיליון3!AO105=גיליון2!AN105,גיליון3!AO105,0))","v":0},{"$f":"IF(גיליון3!AO105>0,IF(גיליון3!AO105=AO105,AL105+1,AL105),AL105)","v":24},null,{"$f":"IF(גיליון3!AQ105>0,D105/(AP105+1),0)","v":0},{"$f":"IF(גיליון3!AS105=0,0,IF(גיליון3!AS105=גיליון2!AR105,גיליון3!AS105,0))","v":0},{"$f":"IF(גיליון3!AS105>0,IF(גיליון3!AS105=AS105,AP105+1,AP105),AP105)","v":24}]
[{"$f":"A6","v":"מרץ"},154648,null,154648,null,4,null,{"$f":"IF(גיליון3!G106>0,D106/(F106+1),0)","v":30929.6},{"$f":"IF(גיליון3!I106=0,0,IF(גיליון3!I106=גיליון2!H106,גיליון3!I106,0))","v":0},{"$f":"IF(גיליון3!I106>0,IF(גיליון3!I106=I106,F106+1,F106),F106)","v":4},null,{"$f":"IF(גיליון3!K106>0,D106/(J106+1),0)","v":30929.6},{"$f":"IF(גיליון3!M106=0,0,IF(גיליון3!M106=גיליון2!L106,גיליון3!M106,0))","v":0},{"$f":"IF(גיליון3!M106>0,IF(גיליון3!M106=M106,J106+1,J106),J106)","v":4},null,{"$f":"IF(גיליון3!O106>0,D106/(N106+1),0)","v":30929.6},{"$f":"IF(גיליון3!Q106=0,0,IF(גיליון3!Q106=גיליון2!P106,גיליון3!Q106,0))","v":0},{"$f":"IF(גיליון3!Q106>0,IF(גיליון3!Q106=Q106,N106+1,N106),N106)","v":4},null,{"$f":"IF(גיליון3!S106>0,D106/(R106+1),0)","v":30929.6},{"$f":"IF(גיליון3!U106=0,0,IF(גיליון3!U106=גיליון2!T106,גיליון3!U106,0))","v":0},{"$f":"IF(גיליון3!U106>0,IF(גיליון3!U106=U106,R106+1,R106),R106)","v":4},null,{"$f":"IF(גיליון3!W106>0,D106/(V106+1),0)","v":30929.6},{"$f":"IF(גיליון3!Y106=0,0,IF(גיליון3!Y106=גיליון2!X106,גיליון3!Y106,0))","v":30929.6},{"$f":"IF(גיליון3!Y106>0,IF(גיליון3!Y106=Y106,V106+1,V106),V106)","v":5},null,{"$f":"IF(גיליון3!AA106>0,D106/(Z106+1),0)","v":25774.666666666668},{"$f":"IF(גיליון3!AC106=0,0,IF(גיליון3!AC106=גיליון2!AB106,גיליון3!AC106,0))","v":0},{"$f":"IF(גיליון3!AC106>0,IF(גיליון3!AC106=AC106,Z106+1,Z106),Z106)","v":5},null,{"$f":"IF(גיליון3!AE106>0,D106/(AD106+1),0)","v":0},{"$f":"IF(גיליון3!AG106=0,0,IF(גיליון3!AG106=גיליון2!AF106,גיליון3!AG106,0))","v":0},{"$f":"IF(גיליון3!AG106>0,IF(גיליון3!AG106=AG106,AD106+1,AD106),AD106)","v":5},null,{"$f":"IF(גיליון3!AI106>0,D106/(AH106+1),0)","v":0},{"$f":"IF(גיליון3!AK106=0,0,IF(גיליון3!AK106=גיליון2!AJ106,גיליון3!AK106,0))","v":0},{"$f":"IF(גיליון3!AK106>0,IF(גיליון3!AK106=AK106,AH106+1,AH106),AH106)","v":5},null,{"$f":"IF(גיליון3!AM106>0,D106/(AL106+1),0)","v":0},{"$f":"IF(גיליון3!AO106=0,0,IF(גיליון3!AO106=גיליון2!AN106,גיליון3!AO106,0))","v":0},{"$f":"IF(גיליון3!AO106>0,IF(גיליון3!AO106=AO106,AL106+1,AL106),AL106)","v":5},null,{"$f":"IF(גיליון3!AQ106>0,D106/(AP106+1),0)","v":0},{"$f":"IF(גיליון3!AS106=0,0,IF(גיליון3!AS106=גיליון2!AR106,גיליון3!AS106,0))","v":0},{"$f":"IF(גיליון3!AS106>0,IF(גיליון3!AS106=AS106,AP106+1,AP106),AP106)","v":5}]
[{"$f":"A7","v":"רעם"},463532,null,463532,null,14,null,{"$f":"IF(גיליון3!G107>0,D107/(F107+1),0)","v":30902.133333333335},{"$f":"IF(גיליון3!I107=0,0,IF(גיליון3!I107=גיליון2!H107,גיליון3!I107,0))","v":0},{"$f":"IF(גיליון3!I107>0,IF(גיליון3!I107=I107,F107+1,F107),F107)","v":14},null,{"$f":"IF(גיליון3!K107>0,D107/(J107+1),0)","v":30902.133333333335},{"$f":"IF(גיליון3!M107=0,0,IF(גיליון3!M107=גיליון2!L107,גיליון3!M107,0))","v":0},{"$f":"IF(גיליון3!M107>0,IF(גיליון3!M107=M107,J107+1,J107),J107)","v":14},null,{"$f":"IF(גיליון3!O107>0,D107/(N107+1),0)","v":30902.133333333335},{"$f":"IF(גיליון3!Q107=0,0,IF(גיליון3!Q107=גיליון2!P107,גיליון3!Q107,0))","v":0},{"$f":"IF(גיליון3!Q107>0,IF(גיליון3!Q107=Q107,N107+1,N107),N107)","v":14},null,{"$f":"IF(גיליון3!S107>0,D107/(R107+1),0)","v":30902.133333333335},{"$f":"IF(גיליון3!U107=0,0,IF(גיליון3!U107=גיליון2!T107,גיליון3!U107,0))","v":0},{"$f":"IF(גיליון3!U107>0,IF(גיליון3!U107=U107,R107+1,R107),R107)","v":14},null,{"$f":"IF(גיליון3!W107>0,D107/(V107+1),0)","v":30902.133333333335},{"$f":"IF(גיליון3!Y107=0,0,IF(גיליון3!Y107=גיליון2!X107,גיליון3!Y107,0))","v":0},{"$f":"IF(גיליון3!Y107>0,IF(גיליון3!Y107=Y107,V107+1,V107),V107)","v":14},null,{"$f":"IF(גיליון3!AA107>0,D107/(Z107+1),0)","v":30902.133333333335},{"$f":"IF(גיליון3!AC107=0,0,IF(גיליון3!AC107=גיליון2!AB107,גיליון3!AC107,0))","v":30902.133333333335},{"$f":"IF(גיליון3!AC107>0,IF(גיליון3!AC107=AC107,Z107+1,Z107),Z107)","v":15},null,{"$f":"IF(גיליון3!AE107>0,D107/(AD107+1),0)","v":0},{"$f":"IF(גיליון3!AG107=0,0,IF(גיליון3!AG107=גיליון2!AF107,גיליון3!AG107,0))","v":0},{"$f":"IF(גיליון3!AG107>0,IF(גיליון3!AG107=AG107,AD107+1,AD107),AD107)","v":15},null,{"$f":"IF(גיליון3!AI107>0,D107/(AH107+1),0)","v":0},{"$f":"IF(גיליון3!AK107=0,0,IF(גיליון3!AK107=גיליון2!AJ107,גיליון3!AK107,0))","v":0},{"$f":"IF(גיליון3!AK107>0,IF(גיליון3!AK107=AK107,AH107+1,AH107),AH107)","v":15},null,{"$f":"IF(גיליון3!AM107>0,D107/(AL107+1),0)","v":0},{"$f":"IF(גיליון3!AO107=0,0,IF(גיליון3!AO107=גיליון2!AN107,גיליון3!AO107,0))","v":0},{"$f":"IF(גיליון3!AO107>0,IF(גיליון3!AO107=AO107,AL107+1,AL107),AL107)","v":15},null,{"$f":"IF(גיליון3!AQ107>0,D107/(AP107+1),0)","v":0},{"$f":"IF(גיליון3!AS107=0,0,IF(גיליון3!AS107=גיליון2!AR107,גיליון3!AS107,0))","v":0},{"$f":"IF(גיליון3!AS107>0,IF(גיליון3!AS107=AS107,AP107+1,AP107),AP107)","v":15}]
[{"$f":"A8","v":"יחד"},118368,null,0,null,0,null,{"$f":"IF(גיליון3!G108>0,D108/(F108+1),0)","v":0},{"$f":"IF(גיליון3!I108=0,0,IF(גיליון3!I108=גיליון2!H108,גיליון3!I108,0))","v":0},{"$f":"IF(גיליון3!I108>0,IF(גיליון3!I108=I108,F108+1,F108),F108)","v":0},null,{"$f":"IF(גיליון3!K108>0,D108/(J108+1),0)","v":0},{"$f":"IF(גיליון3!M108=0,0,IF(גיליון3!M108=גיליון2!L108,גיליון3!M108,0))","v":0},{"$f":"IF(גיליון3!M108>0,IF(גיליון3!M108=M108,J108+1,J108),J108)","v":0},null,{"$f":"IF(גיליון3!O108>0,D108/(N108+1),0)","v":0},{"$f":"IF(גיליון3!Q108=0,0,IF(גיליון3!Q108=גיליון2!P108,גיליון3!Q108,0))","v":0},{"$f":"IF(גיליון3!Q108>0,IF(גיליון3!Q108=Q108,N108+1,N108),N108)","v":0},null,{"$f":"IF(גיליון3!S108>0,D108/(R108+1),0)","v":0},{"$f":"IF(גיליון3!U108=0,0,IF(גיליון3!U108=גיליון2!T108,גיליון3!U108,0))","v":0},{"$f":"IF(גיליון3!U108>0,IF(גיליון3!U108=U108,R108+1,R108),R108)","v":0},null,{"$f":"IF(גיליון3!W108>0,D108/(V108+1),0)","v":0},{"$f":"IF(גיליון3!Y108=0,0,IF(גיליון3!Y108=גיליון2!X108,גיליון3!Y108,0))","v":0},{"$f":"IF(גיליון3!Y108>0,IF(גיליון3!Y108=Y108,V108+1,V108),V108)","v":0},null,{"$f":"IF(גיליון3!AA108>0,D108/(Z108+1),0)","v":0},{"$f":"IF(גיליון3!AC108=0,0,IF(גיליון3!AC108=גיליון2!AB108,גיליון3!AC108,0))","v":0},{"$f":"IF(גיליון3!AC108>0,IF(גיליון3!AC108=AC108,Z108+1,Z108),Z108)","v":0},null,{"$f":"IF(גיליון3!AE108>0,D108/(AD108+1),0)","v":0},{"$f":"IF(גיליון3!AG108=0,0,IF(גיליון3!AG108=גיליון2!AF108,גיליון3!AG108,0))","v":0},{"$f":"IF(גיליון3!AG108>0,IF(גיליון3!AG108=AG108,AD108+1,AD108),AD108)","v":0},null,{"$f":"IF(גיליון3!AI108>0,D108/(AH108+1),0)","v":0},{"$f":"IF(גיליון3!AK108=0,0,IF(גיליון3!AK108=גיליון2!AJ108,גיליון3!AK108,0))","v":0},{"$f":"IF(גיליון3!AK108>0,IF(גיליון3!AK108=AK108,AH108+1,AH108),AH108)","v":0},null,{"$f":"IF(גיליון3!AM108>0,D108/(AL108+1),0)","v":0},{"$f":"IF(גיליון3!AO108=0,0,IF(גיליון3!AO108=גיליון2!AN108,גיליון3!AO108,0))","v":0},{"$f":"IF(גיליון3!AO108>0,IF(גיליון3!AO108=AO108,AL108+1,AL108),AL108)","v":0},null,{"$f":"IF(גיליון3!AQ108>0,D108/(AP108+1),0)","v":0},{"$f":"IF(גיליון3!AS108=0,0,IF(גיליון3!AS108=גיליון2!AR108,גיליון3!AS108,0))","v":0},{"$f":"IF(גיליון3!AS108>0,IF(גיליון3!AS108=AS108,AP108+1,AP108),AP108)","v":0}]
[{"$f":"A9","v":"יהדות התורה"},205551,null,205551,null,6,null,{"$f":"IF(גיליון3!G109>0,D109/(F109+1),0)","v":29364.428571428572},{"$f":"IF(גיליון3!I109=0,0,IF(גיליון3!I109=גיליון2!H109,גיליון3!I109,0))","v":0},{"$f":"IF(גיליון3!I109>0,IF(גיליון3!I109=I109,F109+1,F109),F109)","v":6},null,{"$f":"IF(גיליון3!K109>0,D109/(J109+1),0)","v":29364.428571428572},{"$f":"IF(גיליון3!M109=0,0,IF(גיליון3!M109=גיליון2!L109,גיליון3!M109,0))","v":0},{"$f":"IF(גיליון3!M109>0,IF(גיליון3!M109=M109,J109+1,J109),J109)","v":6},null,{"$f":"IF(גיליון3!O109>0,D109/(N109+1),0)","v":29364.428571428572},{"$f":"IF(גיליון3!Q109=0,0,IF(גיליון3!Q109=גיליון2!P109,גיליון3!Q109,0))","v":0},{"$f":"IF(גיליון3!Q109>0,IF(גיליון3!Q109=Q109,N109+1,N109),N109)","v":6},null,{"$f":"IF(גיליון3!S109>0,D109/(R109+1),0)","v":29364.428571428572},{"$f":"IF(גיליון3!U109=0,0,IF(גיליון3!U109=גיליון2!T109,גיליון3!U109,0))","v":0},{"$f":"IF(גיליון3!U109>0,IF(גיליון3!U109=U109,R109+1,R109),R109)","v":6},null,{"$f":"IF(גיליון3!W109>0,D109/(V109+1),0)","v":29364.428571428572},{"$f":"IF(גיליון3!Y109=0,0,IF(גיליון3!Y109=גיליון2!X109,גיליון3!Y109,0))","v":0},{"$f":"IF(גיליון3!Y109>0,IF(גיליון3!Y109=Y109,V109+1,V109),V109)","v":6},null,{"$f":"IF(גיליון3!AA109>0,D109/(Z109+1),0)","v":29364.428571428572},{"$f":"IF(גיליון3!AC109=0,0,IF(גיליון3!AC109=גיליון2!AB109,גיליון3!AC109,0))","v":0},{"$f":"IF(גיליון3!AC109>0,IF(גיליון3!AC109=AC109,Z109+1,Z109),Z109)","v":6},null,{"$f":"IF(גיליון3!AE109>0,D109/(AD109+1),0)","v":0},{"$f":"IF(גיליון3!AG109=0,0,IF(גיליון3!AG109=גיליון2!AF109,גיליון3!AG109,0))","v":0},{"$f":"IF(גיליון3!AG109>0,IF(גיליון3!AG109=AG109,AD109+1,AD109),AD109)","v":6},null,{"$f":"IF(גיליון3!AI109>0,D109/(AH109+1),0)","v":0},{"$f":"IF(גיליון3!AK109=0,0,IF(גיליון3!AK109=גיליון2!AJ109,גיליון3!AK109,0))","v":0},{"$f":"IF(גיליון3!AK109>0,IF(גיליון3!AK109=AK109,AH109+1,AH109),AH109)","v":6},null,{"$f":"IF(גיליון3!AM109>0,D109/(AL109+1),0)","v":0},{"$f":"IF(גיליון3!AO109=0,0,IF(גיליון3!AO109=גיליון2!AN109,גיליון3!AO109,0))","v":0},{"$f":"IF(גיליון3!AO109>0,IF(גיליון3!AO109=AO109,AL109+1,AL109),AL109)","v":6},null,{"$f":"IF(גיליון3!AQ109>0,D109/(AP109+1),0)","v":0},{"$f":"IF(גיליון3!AS109=0,0,IF(גיליון3!AS109=גיליון2!AR109,גיליון3!AS109,0))","v":0},{"$f":"IF(גיליון3!AS109>0,IF(גיליון3!AS109=AS109,AP109+1,AP109),AP109)","v":6}]
[{"$f":"A10","v":"שס"},230735,null,230735,null,7,null,{"$f":"IF(גיליון3!G110>0,D110/(F110+1),0)","v":28841.875},{"$f":"IF(גיליון3!I110=0,0,IF(גיליון3!I110=גיליון2!H110,גיליון3!I110,0))","v":0},{"$f":"IF(גיליון3!I110>0,IF(גיליון3!I110=I110,F110+1,F110),F110)","v":7},null,{"$f":"IF(גיליון3!K110>0,D110/(J110+1),0)","v":28841.875},{"$f":"IF(גיליון3!M110=0,0,IF(גיליון3!M110=גיליון2!L110,גיליון3!M110,0))","v":0},{"$f":"IF(גיליון3!M110>0,IF(גיליון3!M110=M110,J110+1,J110),J110)","v":7},null,{"$f":"IF(גיליון3!O110>0,D110/(N110+1),0)","v":28841.875},{"$f":"IF(גיליון3!Q110=0,0,IF(גיליון3!Q110=גיליון2!P110,גיליון3!Q110,0))","v":0},{"$f":"IF(גיליון3!Q110>0,IF(גיליון3!Q110=Q110,N110+1,N110),N110)","v":7},null,{"$f":"IF(גיליון3!S110>0,D110/(R110+1),0)","v":28841.875},{"$f":"IF(גיליון3!U110=0,0,IF(גיליון3!U110=גיליון2!T110,גיליון3!U110,0))","v":0},{"$f":"IF(גיליון3!U110>0,IF(גיליון3!U110=U110,R110+1,R110),R110)","v":7},null,{"$f":"IF(גיליון3!W110>0,D110/(V110+1),0)","v":28841.875},{"$f":"IF(גיליון3!Y110=0,0,IF(גיליון3!Y110=גיליון2!X110,גיליון3!Y110,0))","v":0},{"$f":"IF(גיליון3!Y110>0,IF(גיליון3!Y110=Y110,V110+1,V110),V110)","v":7},null,{"$f":"IF(גיליון3!AA110>0,D110/(Z110+1),0)","v":28841.875},{"$f":"IF(גיליון3!AC110=0,0,IF(גיליון3!AC110=גיליון2!AB110,גיליון3!AC110,0))","v":0},{"$f":"IF(גיליון3!AC110>0,IF(גיליון3!AC110=AC110,Z110+1,Z110),Z110)","v":7},null,{"$f":"IF(גיליון3!AE110>0,D110/(AD110+1),0)","v":0},{"$f":"IF(גיליון3!AG110=0,0,IF(גיליון3!AG110=גיליון2!AF110,גיליון3!AG110,0))","v":0},{"$f":"IF(גיליון3!AG110>0,IF(גיליון3!AG110=AG110,AD110+1,AD110),AD110)","v":7},null,{"$f":"IF(גיליון3!AI110>0,D110/(AH110+1),0)","v":0},{"$f":"IF(גיליון3!AK110=0,0,IF(גיליון3!AK110=גיליון2!AJ110,גיליון3!AK110,0))","v":0},{"$f":"IF(גיליון3!AK110>0,IF(גיליון3!AK110=AK110,AH110+1,AH110),AH110)","v":7},null,{"$f":"IF(גיליון3!AM110>0,D110/(AL110+1),0)","v":0},{"$f":"IF(גיליון3!AO110=0,0,IF(גיליון3!AO110=גיליון2!AN110,גיליון3!AO110,0))","v":0},{"$f":"IF(גיליון3!AO110>0,IF(גיליון3!AO110=AO110,AL110+1,AL110),AL110)","v":7},null,{"$f":"IF(גיליון3!AQ110>0,D110/(AP110+1),0)","v":0},{"$f":"IF(גיליון3!AS110=0,0,IF(גיליון3!AS110=גיליון2!AR110,גיליון3!AS110,0))","v":0},{"$f":"IF(גיליון3!AS110>0,IF(גיליון3!AS110=AS110,AP110+1,AP110),AP110)","v":7}]
[{"$f":"A11","v":"כחלון"},294526,null,294526,null,9,null,{"$f":"IF(גיליון3!G111>0,D111/(F111+1),0)","v":29452.6},{"$f":"IF(גיליון3!I111=0,0,IF(גיליון3!I111=גיליון2!H111,גיליון3!I111,0))","v":0},{"$f":"IF(גיליון3!I111>0,IF(גיליון3!I111=I111,F111+1,F111),F111)","v":9},null,{"$f":"IF(גיליון3!K111>0,D111/(J111+1),0)","v":29452.6},{"$f":"IF(גיליון3!M111=0,0,IF(גיליון3!M111=גיליון2!L111,גיליון3!M111,0))","v":0},{"$f":"IF(גיליון3!M111>0,IF(גיליון3!M111=M111,J111+1,J111),J111)","v":9},null,{"$f":"IF(גיליון3!O111>0,D111/(N111+1),0)","v":29452.6},{"$f":"IF(גיליון3!Q111=0,0,IF(גיליון3!Q111=גיליון2!P111,גיליון3!Q111,0))","v":0},{"$f":"IF(גיליון3!Q111>0,IF(גיליון3!Q111=Q111,N111+1,N111),N111)","v":9},null,{"$f":"IF(גיליון3!S111>0,D111/(R111+1),0)","v":29452.6},{"$f":"IF(גיליון3!U111=0,0,IF(גיליון3!U111=גיליון2!T111,גיליון3!U111,0))","v":0},{"$f":"IF(גיליון3!U111>0,IF(גיליון3!U111=U111,R111+1,R111),R111)","v":9},null,{"$f":"IF(גיליון3!W111>0,D111/(V111+1),0)","v":29452.6},{"$f":"IF(גיליון3!Y111=0,0,IF(גיליון3!Y111=גיליון2!X111,גיליון3!Y111,0))","v":0},{"$f":"IF(גיליון3!Y111>0,IF(גיליון3!Y111=Y111,V111+1,V111),V111)","v":9},null,{"$f":"IF(גיליון3!AA111>0,D111/(Z111+1),0)","v":29452.6},{"$f":"IF(גיליון3!AC111=0,0,IF(גיליון3!AC111=גיליון2!AB111,גיליון3!AC111,0))","v":0},{"$f":"IF(גיליון3!AC111>0,IF(גיליון3!AC111=AC111,Z111+1,Z111),Z111)","v":9},null,{"$f":"IF(גיליון3!AE111>0,D111/(AD111+1),0)","v":0},{"$f":"IF(גיליון3!AG111=0,0,IF(גיליון3!AG111=גיליון2!AF111,גיליון3!AG111,0))","v":0},{"$f":"IF(גיליון3!AG111>0,IF(גיליון3!AG111=AG111,AD111+1,AD111),AD111)","v":9},null,{"$f":"IF(גיליון3!AI111>0,D111/(AH111+1),0)","v":0},{"$f":"IF(גיליון3!AK111=0,0,IF(גיליון3!AK111=גיליון2!AJ111,גיליון3!AK111,0))","v":0},{"$f":"IF(גיליון3!AK111>0,IF(גיליון3!AK111=AK111,AH111+1,AH111),AH111)","v":9},null,{"$f":"IF(גיליון3!AM111>0,D111/(AL111+1),0)","v":0},{"$f":"IF(גיליון3!AO111=0,0,IF(גיליון3!AO111=גיליון2!AN111,גיליון3!AO111,0))","v":0},{"$f":"IF(גיליון3!AO111>0,IF(גיליון3!AO111=AO111,AL111+1,AL111),AL111)","v":9},null,{"$f":"IF(גיליון3!AQ111>0,D111/(AP111+1),0)","v":0},{"$f":"IF(גיליון3!AS111=0,0,IF(גיליון3!AS111=גיליון2!AR111,גיליון3!AS111,0))","v":0},{"$f":"IF(גיליון3!AS111>0,IF(גיליון3!AS111=AS111,AP111+1,AP111),AP111)","v":9}]
[{"$f":"A12","v":"ישראל ביתנו"},205619,null,205619,null,6,null,{"$f":"IF(גיליון3!G112>0,D112/(F112+1),0)","v":29374.14285714286},{"$f":"IF(גיליון3!I112=0,0,IF(גיליון3!I112=גיליון2!H112,גיליון3!I112,0))","v":0},{"$f":"IF(גיליון3!I112>0,IF(גיליון3!I112=I112,F112+1,F112),F112)","v":6},null,{"$f":"IF(גיליון3!K112>0,D112/(J112+1),0)","v":29374.14285714286},{"$f":"IF(גיליון3!M112=0,0,IF(גיליון3!M112=גיליון2!L112,גיליון3!M112,0))","v":0},{"$f":"IF(גיליון3!M112>0,IF(גיליון3!M112=M112,J112+1,J112),J112)","v":6},null,{"$f":"IF(גיליון3!O112>0,D112/(N112+1),0)","v":29374.14285714286},{"$f":"IF(גיליון3!Q112=0,0,IF(גיליון3!Q112=גיליון2!P112,גיליון3!Q112,0))","v":0},{"$f":"IF(גיליון3!Q112>0,IF(גיליון3!Q112=Q112,N112+1,N112),N112)","v":6},null,{"$f":"IF(גיליון3!S112>0,D112/(R112+1),0)","v":29374.14285714286},{"$f":"IF(גיליון3!U112=0,0,IF(גיליון3!U112=גיליון2!T112,גיליון3!U112,0))","v":0},{"$f":"IF(גיליון3!U112>0,IF(גיליון3!U112=U112,R112+1,R112),R112)","v":6},null,{"$f":"IF(גיליון3!W112>0,D112/(V112+1),0)","v":29374.14285714286},{"$f":"IF(גיליון3!Y112=0,0,IF(גיליון3!Y112=גיליון2!X112,גיליון3!Y112,0))","v":0},{"$f":"IF(גיליון3!Y112>0,IF(גיליון3!Y112=Y112,V112+1,V112),V112)","v":6},null,{"$f":"IF(גיליון3!AA112>0,D112/(Z112+1),0)","v":29374.14285714286},{"$f":"IF(גיליון3!AC112=0,0,IF(גיליון3!AC112=גיליון2!AB112,גיליון3!AC112,0))","v":0},{"$f":"IF(גיליון3!AC112>0,IF(גיליון3!AC112=AC112,Z112+1,Z112),Z112)","v":6},null,{"$f":"IF(גיליון3!AE112>0,D112/(AD112+1),0)","v":0},{"$f":"IF(גיליון3!AG112=0,0,IF(גיליון3!AG112=גיליון2!AF112,גיליון3!AG112,0))","v":0},{"$f":"IF(גיליון3!AG112>0,IF(גיליון3!AG112=AG112,AD112+1,AD112),AD112)","v":6},null,{"$f":"IF(גיליון3!AI112>0,D112/(AH112+1),0)","v":0},{"$f":"IF(גיליון3!AK112=0,0,IF(גיליון3!AK112=גיליון2!AJ112,גיליון3!AK112,0))","v":0},{"$f":"IF(גיליון3!AK112>0,IF(גיליון3!AK112=AK112,AH112+1,AH112),AH112)","v":6},null,{"$f":"IF(גיליון3!AM112>0,D112/(AL112+1),0)","v":0},{"$f":"IF(גיליון3!AO112=0,0,IF(גיליון3!AO112=גיליון2!AN112,גיליון3!AO112,0))","v":0},{"$f":"IF(גיליון3!AO112>0,IF(גיליון3!AO112=AO112,AL112+1,AL112),AL112)","v":6},null,{"$f":"IF(גיליון3!AQ112>0,D112/(AP112+1),0)","v":0},{"$f":"IF(גיליון3!AS112=0,0,IF(גיליון3!AS112=גיליון2!AR112,גיליון3!AS112,0))","v":0},{"$f":"IF(גיליון3!AS112>0,IF(גיליון3!AS112=AS112,AP112+1,AP112),AP112)","v":6}]
[{"$f":"A13","v":"עלה ירוק - הרשימה הליברלית"},38624,null,0,null,0,null,{"$f":"IF(גיליון3!G113>0,D113/(F113+1),0)","v":0},{"$f":"IF(גיליון3!I113=0,0,IF(גיליון3!I113=גיליון2!H113,גיליון3!I113,0))","v":0},{"$f":"IF(גיליון3!I113>0,IF(גיליון3!I113=I113,F113+1,F113),F113)","v":0},null,{"$f":"IF(גיליון3!K113>0,D113/(J113+1),0)","v":0},{"$f":"IF(גיליון3!M113=0,0,IF(גיליון3!M113=גיליון2!L113,גיליון3!M113,0))","v":0},{"$f":"IF(גיליון3!M113>0,IF(גיליון3!M113=M113,J113+1,J113),J113)","v":0},null,{"$f":"IF(גיליון3!O113>0,D113/(N113+1),0)","v":0},{"$f":"IF(גיליון3!Q113=0,0,IF(גיליון3!Q113=גיליון2!P113,גיליון3!Q113,0))","v":0},{"$f":"IF(גיליון3!Q113>0,IF(גיליון3!Q113=Q113,N113+1,N113),N113)","v":0},null,{"$f":"IF(גיליון3!S113>0,D113/(R113+1),0)","v":0},{"$f":"IF(גיליון3!U113=0,0,IF(גיליון3!U113=גיליון2!T113,גיליון3!U113,0))","v":0},{"$f":"IF(גיליון3!U113>0,IF(גיליון3!U113=U113,R113+1,R113),R113)","v":0},null,{"$f":"IF(גיליון3!W113>0,D113/(V113+1),0)","v":0},{"$f":"IF(גיליון3!Y113=0,0,IF(גיליון3!Y113=גיליון2!X113,גיליון3!Y113,0))","v":0},{"$f":"IF(גיליון3!Y113>0,IF(גיליון3!Y113=Y113,V113+1,V113),V113)","v":0},null,{"$f":"IF(גיליון3!AA113>0,D113/(Z113+1),0)","v":0},{"$f":"IF(גיליון3!AC113=0,0,IF(גיליון3!AC113=גיליון2!AB113,גיליון3!AC113,0))","v":0},{"$f":"IF(גיליון3!AC113>0,IF(גיליון3!AC113=AC113,Z113+1,Z113),Z113)","v":0},null,{"$f":"IF(גיליון3!AE113>0,D113/(AD113+1),0)","v":0},{"$f":"IF(גיליון3!AG113=0,0,IF(גיליון3!AG113=גיליון2!AF113,גיליון3!AG113,0))","v":0},{"$f":"IF(גיליון3!AG113>0,IF(גיליון3!AG113=AG113,AD113+1,AD113),AD113)","v":0},null,{"$f":"IF(גיליון3!AI113>0,D113/(AH113+1),0)","v":0},{"$f":"IF(גיליון3!AK113=0,0,IF(גיליון3!AK113=גיליון2!AJ113,גיליון3!AK113,0))","v":0},{"$f":"IF(גיליון3!AK113>0,IF(גיליון3!AK113=AK113,AH113+1,AH113),AH113)","v":0},null,{"$f":"IF(גיליון3!AM113>0,D113/(AL113+1),0)","v":0},{"$f":"IF(גיליון3!AO113=0,0,IF(גיליון3!AO113=גיליון2!AN113,גיליון3!AO113,0))","v":0},{"$f":"IF(גיליון3!AO113>0,IF(גיליון3!AO113=AO113,AL113+1,AL113),AL113)","v":0},null,{"$f":"IF(גיליון3!AQ113>0,D113/(AP113+1),0)","v":0},{"$f":"IF(גיליון3!AS113=0,0,IF(גיליון3!AS113=גיליון2!AR113,גיליון3!AS113,0))","v":0},{"$f":"IF(גיליון3!AS113>0,IF(גיליון3!AS113=AS113,AP113+1,AP113),AP113)","v":0}]
[{"$f":"A14","v":{"$error":"#REF!"}},2348,null,0,null,0,null,{"$f":"IF(גיליון3!G114>0,D114/(F114+1),0)","v":0},{"$f":"IF(גיליון3!I114=0,0,IF(גיליון3!I114=גיליון2!H114,גיליון3!I114,0))","v":0},{"$f":"IF(גיליון3!I114>0,IF(גיליון3!I114=I114,F114+1,F114),F114)","v":0},null,{"$f":"IF(גיליון3!K114>0,D114/(J114+1),0)","v":0},{"$f":"IF(גיליון3!M114=0,0,IF(גיליון3!M114=גיליון2!L114,גיליון3!M114,0))","v":0},{"$f":"IF(גיליון3!M114>0,IF(גיליון3!M114=M114,J114+1,J114),J114)","v":0},null,{"$f":"IF(גיליון3!O114>0,D114/(N114+1),0)","v":0},{"$f":"IF(גיליון3!Q114=0,0,IF(גיליון3!Q114=גיליון2!P114,גיליון3!Q114,0))","v":0},{"$f":"IF(גיליון3!Q114>0,IF(גיליון3!Q114=Q114,N114+1,N114),N114)","v":0},null,{"$f":"IF(גיליון3!S114>0,D114/(R114+1),0)","v":0},{"$f":"IF(גיליון3!U114=0,0,IF(גיליון3!U114=גיליון2!T114,גיליון3!U114,0))","v":0},{"$f":"IF(גיליון3!U114>0,IF(גיליון3!U114=U114,R114+1,R114),R114)","v":0},null,{"$f":"IF(גיליון3!W114>0,D114/(V114+1),0)","v":0},{"$f":"IF(גיליון3!Y114=0,0,IF(גיליון3!Y114=גיליון2!X114,גיליון3!Y114,0))","v":0},{"$f":"IF(גיליון3!Y114>0,IF(גיליון3!Y114=Y114,V114+1,V114),V114)","v":0},null,{"$f":"IF(גיליון3!AA114>0,D114/(Z114+1),0)","v":0},{"$f":"IF(גיליון3!AC114=0,0,IF(גיליון3!AC114=גיליון2!AB114,גיליון3!AC114,0))","v":0},{"$f":"IF(גיליון3!AC114>0,IF(גיליון3!AC114=AC114,Z114+1,Z114),Z114)","v":0},null,{"$f":"IF(גיליון3!AE114>0,D114/(AD114+1),0)","v":0},{"$f":"IF(גיליון3!AG114=0,0,IF(גיליון3!AG114=גיליון2!AF114,גיליון3!AG114,0))","v":0},{"$f":"IF(גיליון3!AG114>0,IF(גיליון3!AG114=AG114,AD114+1,AD114),AD114)","v":0},null,{"$f":"IF(גיליון3!AI114>0,D114/(AH114+1),0)","v":0},{"$f":"IF(גיליון3!AK114=0,0,IF(גיליון3!AK114=גיליון2!AJ114,גיליון3!AK114,0))","v":0},{"$f":"IF(גיליון3!AK114>0,IF(גיליון3!AK114=AK114,AH114+1,AH114),AH114)","v":0},null,{"$f":"IF(גיליון3!AM114>0,D114/(AL114+1),0)","v":0},{"$f":"IF(גיליון3!AO114=0,0,IF(גיליון3!AO114=גיליון2!AN114,גיליון3!AO114,0))","v":0},{"$f":"IF(גיליון3!AO114>0,IF(גיליון3!AO114=AO114,AL114+1,AL114),AL114)","v":0},null,{"$f":"IF(גיליון3!AQ114>0,D114/(AP114+1),0)","v":0},{"$f":"IF(גיליון3!AS114=0,0,IF(גיליון3!AS114=גיליון2!AR114,גיליון3!AS114,0))","v":0},{"$f":"IF(גיליון3!AS114>0,IF(גיליון3!AS114=AS114,AP114+1,AP114),AP114)","v":0}]
[{"$f":"A15","v":0},0,null,0,null,0,null,{"$f":"IF(גיליון3!G115>0,D115/(F115+1),0)","v":0},{"$f":"IF(גיליון3!I115=0,0,IF(גיליון3!I115=גיליון2!H115,גיליון3!I115,0))","v":0},{"$f":"IF(גיליון3!I115>0,IF(גיליון3!I115=I115,F115+1,F115),F115)","v":0},null,{"$f":"IF(גיליון3!K115>0,D115/(J115+1),0)","v":0},{"$f":"IF(גיליון3!M115=0,0,IF(גיליון3!M115=גיליון2!L115,גיליון3!M115,0))","v":0},{"$f":"IF(גיליון3!M115>0,IF(גיליון3!M115=M115,J115+1,J115),J115)","v":0},null,{"$f":"IF(גיליון3!O115>0,D115/(N115+1),0)","v":0},{"$f":"IF(גיליון3!Q115=0,0,IF(גיליון3!Q115=גיליון2!P115,גיליון3!Q115,0))","v":0},{"$f":"IF(גיליון3!Q115>0,IF(גיליון3!Q115=Q115,N115+1,N115),N115)","v":0},null,{"$f":"IF(גיליון3!S115>0,D115/(R115+1),0)","v":0},{"$f":"IF(גיליון3!U115=0,0,IF(גיליון3!U115=גיליון2!T115,גיליון3!U115,0))","v":0},{"$f":"IF(גיליון3!U115>0,IF(גיליון3!U115=U115,R115+1,R115),R115)","v":0},null,{"$f":"IF(גיליון3!W115>0,D115/(V115+1),0)","v":0},{"$f":"IF(גיליון3!Y115=0,0,IF(גיליון3!Y115=גיליון2!X115,גיליון3!Y115,0))","v":0},{"$f":"IF(גיליון3!Y115>0,IF(גיליון3!Y115=Y115,V115+1,V115),V115)","v":0},null,{"$f":"IF(גיליון3!AA115>0,D115/(Z115+1),0)","v":0},{"$f":"IF(גיליון3!AC115=0,0,IF(גיליון3!AC115=גיליון2!AB115,גיליון3!AC115,0))","v":0},{"$f":"IF(גיליון3!AC115>0,IF(גיליון3!AC115=AC115,Z115+1,Z115),Z115)","v":0},null,{"$f":"IF(גיליון3!AE115>0,D115/(AD115+1),0)","v":0},{"$f":"IF(גיליון3!AG115=0,0,IF(גיליון3!AG115=גיליון2!AF115,גיליון3!AG115,0))","v":0},{"$f":"IF(גיליון3!AG115>0,IF(גיליון3!AG115=AG115,AD115+1,AD115),AD115)","v":0},null,{"$f":"IF(גיליון3!AI115>0,D115/(AH115+1),0)","v":0},{"$f":"IF(גיליון3!AK115=0,0,IF(גיליון3!AK115=גיליון2!AJ115,גיליון3!AK115,0))","v":0},{"$f":"IF(גיליון3!AK115>0,IF(גיליון3!AK115=AK115,AH115+1,AH115),AH115)","v":0},null,{"$f":"IF(גיליון3!AM115>0,D115/(AL115+1),0)","v":0},{"$f":"IF(גיליון3!AO115=0,0,IF(גיליון3!AO115=גיליון2!AN115,גיליון3!AO115,0))","v":0},{"$f":"IF(גיליון3!AO115>0,IF(גיליון3!AO115=AO115,AL115+1,AL115),AL115)","v":0},null,{"$f":"IF(גיליון3!AQ115>0,D115/(AP115+1),0)","v":0},{"$f":"IF(גיליון3!AS115=0,0,IF(גיליון3!AS115=גיליון2!AR115,גיליון3!AS115,0))","v":0},{"$f":"IF(גיליון3!AS115>0,IF(גיליון3!AS115=AS115,AP115+1,AP115),AP115)","v":0}]
[{"$f":"A16","v":0},0,null,0,null,0,null,{"$f":"IF(גיליון3!G116>0,D116/(F116+1),0)","v":0},{"$f":"IF(גיליון3!I116=0,0,IF(גיליון3!I116=גיליון2!H116,גיליון3!I116,0))","v":0},{"$f":"IF(גיליון3!I116>0,IF(גיליון3!I116=I116,F116+1,F116),F116)","v":0},null,{"$f":"IF(גיליון3!K116>0,D116/(J116+1),0)","v":0},{"$f":"IF(גיליון3!M116=0,0,IF(גיליון3!M116=גיליון2!L116,גיליון3!M116,0))","v":0},{"$f":"IF(גיליון3!M116>0,IF(גיליון3!M116=M116,J116+1,J116),J116)","v":0},null,{"$f":"IF(גיליון3!O116>0,D116/(N116+1),0)","v":0},{"$f":"IF(גיליון3!Q116=0,0,IF(גיליון3!Q116=גיליון2!P116,גיליון3!Q116,0))","v":0},{"$f":"IF(גיליון3!Q116>0,IF(גיליון3!Q116=Q116,N116+1,N116),N116)","v":0},null,{"$f":"IF(גיליון3!S116>0,D116/(R116+1),0)","v":0},{"$f":"IF(גיליון3!U116=0,0,IF(גיליון3!U116=גיליון2!T116,גיליון3!U116,0))","v":0},{"$f":"IF(גיליון3!U116>0,IF(גיליון3!U116=U116,R116+1,R116),R116)","v":0},null,{"$f":"IF(גיליון3!W116>0,D116/(V116+1),0)","v":0},{"$f":"IF(גיליון3!Y116=0,0,IF(גיליון3!Y116=גיליון2!X116,גיליון3!Y116,0))","v":0},{"$f":"IF(גיליון3!Y116>0,IF(גיליון3!Y116=Y116,V116+1,V116),V116)","v":0},null,{"$f":"IF(גיליון3!AA116>0,D116/(Z116+1),0)","v":0},{"$f":"IF(גיליון3!AC116=0,0,IF(גיליון3!AC116=גיליון2!AB116,גיליון3!AC116,0))","v":0},{"$f":"IF(גיליון3!AC116>0,IF(גיליון3!AC116=AC116,Z116+1,Z116),Z116)","v":0},null,{"$f":"IF(גיליון3!AE116>0,D116/(AD116+1),0)","v":0},{"$f":"IF(גיליון3!AG116=0,0,IF(גיליון3!AG116=גיליון2!AF116,גיליון3!AG116,0))","v":0},{"$f":"IF(גיליון3!AG116>0,IF(גיליון3!AG116=AG116,AD116+1,AD116),AD116)","v":0},null,{"$f":"IF(גיליון3!AI116>0,D116/(AH116+1),0)","v":0},{"$f":"IF(גיליון3!AK116=0,0,IF(גיליון3!AK116=גיליון2!AJ116,גיליון3!AK116,0))","v":0},{"$f":"IF(גיליון3!AK116>0,IF(גיליון3!AK116=AK116,AH116+1,AH116),AH116)","v":0},null,{"$f":"IF(גיליון3!AM116>0,D116/(AL116+1),0)","v":0},{"$f":"IF(גיליון3!AO116=0,0,IF(גיליון3!AO116=גיליון2!AN116,גיליון3!AO116,0))","v":0},{"$f":"IF(גיליון3!AO116>0,IF(גיליון3!AO116=AO116,AL116+1,AL116),AL116)","v":0},null,{"$f":"IF(גיליון3!AQ116>0,D116/(AP116+1),0)","v":0},{"$f":"IF(גיליון3!AS116=0,0,IF(גיליון3!AS116=גיליון2!AR116,גיליון3!AS116,0))","v":0},{"$f":"IF(גיליון3!AS116>0,IF(גיליון3!AS116=AS116,AP116+1,AP116),AP116)","v":0}]
[{"$f":"A17","v":0},0,null,0,null,0,null,{"$f":"IF(גיליון3!G117>0,D117/(F117+1),0)","v":0},{"$f":"IF(גיליון3!I117=0,0,IF(גיליון3!I117=גיליון2!H117,גיליון3!I117,0))","v":0},{"$f":"IF(גיליון3!I117>0,IF(גיליון3!I117=I117,F117+1,F117),F117)","v":0},null,{"$f":"IF(גיליון3!K117>0,D117/(J117+1),0)","v":0},{"$f":"IF(גיליון3!M117=0,0,IF(גיליון3!M117=גיליון2!L117,גיליון3!M117,0))","v":0},{"$f":"IF(גיליון3!M117>0,IF(גיליון3!M117=M117,J117+1,J117),J117)","v":0},null,{"$f":"IF(גיליון3!O117>0,D117/(N117+1),0)","v":0},{"$f":"IF(גיליון3!Q117=0,0,IF(גיליון3!Q117=גיליון2!P117,גיליון3!Q117,0))","v":0},{"$f":"IF(גיליון3!Q117>0,IF(גיליון3!Q117=Q117,N117+1,N117),N117)","v":0},null,{"$f":"IF(גיליון3!S117>0,D117/(R117+1),0)","v":0},{"$f":"IF(גיליון3!U117=0,0,IF(גיליון3!U117=גיליון2!T117,גיליון3!U117,0))","v":0},{"$f":"IF(גיליון3!U117>0,IF(גיליון3!U117=U117,R117+1,R117),R117)","v":0},null,{"$f":"IF(גיליון3!W117>0,D117/(V117+1),0)","v":0},{"$f":"IF(גיליון3!Y117=0,0,IF(גיליון3!Y117=גיליון2!X117,גיליון3!Y117,0))","v":0},{"$f":"IF(גיליון3!Y117>0,IF(גיליון3!Y117=Y117,V117+1,V117),V117)","v":0},null,{"$f":"IF(גיליון3!AA117>0,D117/(Z117+1),0)","v":0},{"$f":"IF(גיליון3!AC117=0,0,IF(גיליון3!AC117=גיליון2!AB117,גיליון3!AC117,0))","v":0},{"$f":"IF(גיליון3!AC117>0,IF(גיליון3!AC117=AC117,Z117+1,Z117),Z117)","v":0},null,{"$f":"IF(גיליון3!AE117>0,D117/(AD117+1),0)","v":0},{"$f":"IF(גיליון3!AG117=0,0,IF(גיליון3!AG117=גיליון2!AF117,גיליון3!AG117,0))","v":0},{"$f":"IF(גיליון3!AG117>0,IF(גיליון3!AG117=AG117,AD117+1,AD117),AD117)","v":0},null,{"$f":"IF(גיליון3!AI117>0,D117/(AH117+1),0)","v":0},{"$f":"IF(גיליון3!AK117=0,0,IF(גיליון3!AK117=גיליון2!AJ117,גיליון3!AK117,0))","v":0},{"$f":"IF(גיליון3!AK117>0,IF(גיליון3!AK117=AK117,AH117+1,AH117),AH117)","v":0},null,{"$f":"IF(גיליון3!AM117>0,D117/(AL117+1),0)","v":0},{"$f":"IF(גיליון3!AO117=0,0,IF(גיליון3!AO117=גיליון2!AN117,גיליון3!AO117,0))","v":0},{"$f":"IF(גיליון3!AO117>0,IF(גיליון3!AO117=AO117,AL117+1,AL117),AL117)","v":0},null,{"$f":"IF(גיליון3!AQ117>0,D117/(AP117+1),0)","v":0},{"$f":"IF(גיליון3!AS117=0,0,IF(גיליון3!AS117=גיליון2!AR117,גיליון3!AS117,0))","v":0},{"$f":"IF(גיליון3!AS117>0,IF(גיליון3!AS117=AS117,AP117+1,AP117),AP117)","v":0}]
[{"$f":"A18","v":0},0,null,0,null,0,null,{"$f":"IF(גיליון3!G118>0,D118/(F118+1),0)","v":0},{"$f":"IF(גיליון3!I118=0,0,IF(גיליון3!I118=גיליון2!H118,גיליון3!I118,0))","v":0},{"$f":"IF(גיליון3!I118>0,IF(גיליון3!I118=I118,F118+1,F118),F118)","v":0},null,{"$f":"IF(גיליון3!K118>0,D118/(J118+1),0)","v":0},{"$f":"IF(גיליון3!M118=0,0,IF(גיליון3!M118=גיליון2!L118,גיליון3!M118,0))","v":0},{"$f":"IF(גיליון3!M118>0,IF(גיליון3!M118=M118,J118+1,J118),J118)","v":0},null,{"$f":"IF(גיליון3!O118>0,D118/(N118+1),0)","v":0},{"$f":"IF(גיליון3!Q118=0,0,IF(גיליון3!Q118=גיליון2!P118,גיליון3!Q118,0))","v":0},{"$f":"IF(גיליון3!Q118>0,IF(גיליון3!Q118=Q118,N118+1,N118),N118)","v":0},null,{"$f":"IF(גיליון3!S118>0,D118/(R118+1),0)","v":0},{"$f":"IF(גיליון3!U118=0,0,IF(גיליון3!U118=גיליון2!T118,גיליון3!U118,0))","v":0},{"$f":"IF(גיליון3!U118>0,IF(גיליון3!U118=U118,R118+1,R118),R118)","v":0},null,{"$f":"IF(גיליון3!W118>0,D118/(V118+1),0)","v":0},{"$f":"IF(גיליון3!Y118=0,0,IF(גיליון3!Y118=גיליון2!X118,גיליון3!Y118,0))","v":0},{"$f":"IF(גיליון3!Y118>0,IF(גיליון3!Y118=Y118,V118+1,V118),V118)","v":0},null,{"$f":"IF(גיליון3!AA118>0,D118/(Z118+1),0)","v":0},{"$f":"IF(גיליון3!AC118=0,0,IF(גיליון3!AC118=גיליון2!AB118,גיליון3!AC118,0))","v":0},{"$f":"IF(גיליון3!AC118>0,IF(גיליון3!AC118=AC118,Z118+1,Z118),Z118)","v":0},null,{"$f":"IF(גיליון3!AE118>0,D118/(AD118+1),0)","v":0},{"$f":"IF(גיליון3!AG118=0,0,IF(גיליון3!AG118=גיליון2!AF118,גיליון3!AG118,0))","v":0},{"$f":"IF(גיליון3!AG118>0,IF(גיליון3!AG118=AG118,AD118+1,AD118),AD118)","v":0},null,{"$f":"IF(גיליון3!AI118>0,D118/(AH118+1),0)","v":0},{"$f":"IF(גיליון3!AK118=0,0,IF(גיליון3!AK118=גיליון2!AJ118,גיליון3!AK118,0))","v":0},{"$f":"IF(גיליון3!AK118>0,IF(גיליון3!AK118=AK118,AH118+1,AH118),AH118)","v":0},null,{"$f":"IF(גיליון3!AM118>0,D118/(AL118+1),0)","v":0},{"$f":"IF(גיליון3!AO118=0,0,IF(גיליון3!AO118=גיליון2!AN118,גיליון3!AO118,0))","v":0},{"$f":"IF(גיליון3!AO118>0,IF(גיליון3!AO118=AO118,AL118+1,AL118),AL118)","v":0},null,{"$f":"IF(גיליון3!AQ118>0,D118/(AP118+1),0)","v":0},{"$f":"IF(גיליון3!AS118=0,0,IF(גיליון3!AS118=גיליון2!AR118,גיליון3!AS118,0))","v":0},{"$f":"IF(גיליון3!AS118>0,IF(גיליון3!AS118=AS118,AP118+1,AP118),AP118)","v":0}]
[{"$f":"A19","v":0},0,null,0,null,0,null,{"$f":"IF(גיליון3!G119>0,D119/(F119+1),0)","v":0},{"$f":"IF(גיליון3!I119=0,0,IF(גיליון3!I119=גיליון2!H119,גיליון3!I119,0))","v":0},{"$f":"IF(גיליון3!I119>0,IF(גיליון3!I119=I119,F119+1,F119),F119)","v":0},null,{"$f":"IF(גיליון3!K119>0,D119/(J119+1),0)","v":0},{"$f":"IF(גיליון3!M119=0,0,IF(גיליון3!M119=גיליון2!L119,גיליון3!M119,0))","v":0},{"$f":"IF(גיליון3!M119>0,IF(גיליון3!M119=M119,J119+1,J119),J119)","v":0},null,{"$f":"IF(גיליון3!O119>0,D119/(N119+1),0)","v":0},{"$f":"IF(גיליון3!Q119=0,0,IF(גיליון3!Q119=גיליון2!P119,גיליון3!Q119,0))","v":0},{"$f":"IF(גיליון3!Q119>0,IF(גיליון3!Q119=Q119,N119+1,N119),N119)","v":0},null,{"$f":"IF(גיליון3!S119>0,D119/(R119+1),0)","v":0},{"$f":"IF(גיליון3!U119=0,0,IF(גיליון3!U119=גיליון2!T119,גיליון3!U119,0))","v":0},{"$f":"IF(גיליון3!U119>0,IF(גיליון3!U119=U119,R119+1,R119),R119)","v":0},null,{"$f":"IF(גיליון3!W119>0,D119/(V119+1),0)","v":0},{"$f":"IF(גיליון3!Y119=0,0,IF(גיליון3!Y119=גיליון2!X119,גיליון3!Y119,0))","v":0},{"$f":"IF(גיליון3!Y119>0,IF(גיליון3!Y119=Y119,V119+1,V119),V119)","v":0},null,{"$f":"IF(גיליון3!AA119>0,D119/(Z119+1),0)","v":0},{"$f":"IF(גיליון3!AC119=0,0,IF(גיליון3!AC119=גיליון2!AB119,גיליון3!AC119,0))","v":0},{"$f":"IF(גיליון3!AC119>0,IF(גיליון3!AC119=AC119,Z119+1,Z119),Z119)","v":0},null,{"$f":"IF(גיליון3!AE119>0,D119/(AD119+1),0)","v":0},{"$f":"IF(גיליון3!AG119=0,0,IF(גיליון3!AG119=גיליון2!AF119,גיליון3!AG119,0))","v":0},{"$f":"IF(גיליון3!AG119>0,IF(גיליון3!AG119=AG119,AD119+1,AD119),AD119)","v":0},null,{"$f":"IF(גיליון3!AI119>0,D119/(AH119+1),0)","v":0},{"$f":"IF(גיליון3!AK119=0,0,IF(גיליון3!AK119=גיליון2!AJ119,גיליון3!AK119,0))","v":0},{"$f":"IF(גיליון3!AK119>0,IF(גיליון3!AK119=AK119,AH119+1,AH119),AH119)","v":0},null,{"$f":"IF(גיליון3!AM119>0,D119/(AL119+1),0)","v":0},{"$f":"IF(גיליון3!AO119=0,0,IF(גיליון3!AO119=גיליון2!AN119,גיליון3!AO119,0))","v":0},{"$f":"IF(גיליון3!AO119>0,IF(גיליון3!AO119=AO119,AL119+1,AL119),AL119)","v":0},null,{"$f":"IF(גיליון3!AQ119>0,D119/(AP119+1),0)","v":0},{"$f":"IF(גיליון3!AS119=0,0,IF(גיליון3!AS119=גיליון2!AR119,גיליון3!AS119,0))","v":0},{"$f":"IF(גיליון3!AS119>0,IF(גיליון3!AS119=AS119,AP119+1,AP119),AP119)","v":0}]
[{"$f":"A20","v":0},0,null,0,null,0,null,{"$f":"IF(גיליון3!G120>0,D120/(F120+1),0)","v":0},{"$f":"IF(גיליון3!I120=0,0,IF(גיליון3!I120=גיליון2!H120,גיליון3!I120,0))","v":0},{"$f":"IF(גיליון3!I120>0,IF(גיליון3!I120=I120,F120+1,F120),F120)","v":0},null,{"$f":"IF(גיליון3!K120>0,D120/(J120+1),0)","v":0},{"$f":"IF(גיליון3!M120=0,0,IF(גיליון3!M120=גיליון2!L120,גיליון3!M120,0))","v":0},{"$f":"IF(גיליון3!M120>0,IF(גיליון3!M120=M120,J120+1,J120),J120)","v":0},null,{"$f":"IF(גיליון3!O120>0,D120/(N120+1),0)","v":0},{"$f":"IF(גיליון3!Q120=0,0,IF(גיליון3!Q120=גיליון2!P120,גיליון3!Q120,0))","v":0},{"$f":"IF(גיליון3!Q120>0,IF(גיליון3!Q120=Q120,N120+1,N120),N120)","v":0},null,{"$f":"IF(גיליון3!S120>0,D120/(R120+1),0)","v":0},{"$f":"IF(גיליון3!U120=0,0,IF(גיליון3!U120=גיליון2!T120,גיליון3!U120,0))","v":0},{"$f":"IF(גיליון3!U120>0,IF(גיליון3!U120=U120,R120+1,R120),R120)","v":0},null,{"$f":"IF(גיליון3!W120>0,D120/(V120+1),0)","v":0},{"$f":"IF(גיליון3!Y120=0,0,IF(גיליון3!Y120=גיליון2!X120,גיליון3!Y120,0))","v":0},{"$f":"IF(גיליון3!Y120>0,IF(גיליון3!Y120=Y120,V120+1,V120),V120)","v":0},null,{"$f":"IF(גיליון3!AA120>0,D120/(Z120+1),0)","v":0},{"$f":"IF(גיליון3!AC120=0,0,IF(גיליון3!AC120=גיליון2!AB120,גיליון3!AC120,0))","v":0},{"$f":"IF(גיליון3!AC120>0,IF(גיליון3!AC120=AC120,Z120+1,Z120),Z120)","v":0},null,{"$f":"IF(גיליון3!AE120>0,D120/(AD120+1),0)","v":0},{"$f":"IF(גיליון3!AG120=0,0,IF(גיליון3!AG120=גיליון2!AF120,גיליון3!AG120,0))","v":0},{"$f":"IF(גיליון3!AG120>0,IF(גיליון3!AG120=AG120,AD120+1,AD120),AD120)","v":0},null,{"$f":"IF(גיליון3!AI120>0,D120/(AH120+1),0)","v":0},{"$f":"IF(גיליון3!AK120=0,0,IF(גיליון3!AK120=גיליון2!AJ120,גיליון3!AK120,0))","v":0},{"$f":"IF(גיליון3!AK120>0,IF(גיליון3!AK120=AK120,AH120+1,AH120),AH120)","v":0},null,{"$f":"IF(גיליון3!AM120>0,D120/(AL120+1),0)","v":0},{"$f":"IF(גיליון3!AO120=0,0,IF(גיליון3!AO120=גיליון2!AN120,גיליון3!AO120,0))","v":0},{"$f":"IF(גיליון3!AO120>0,IF(גיליון3!AO120=AO120,AL120+1,AL120),AL120)","v":0},null,{"$f":"IF(גיליון3!AQ120>0,D120/(AP120+1),0)","v":0},{"$f":"IF(גיליון3!AS120=0,0,IF(גיליון3!AS120=גיליון2!AR120,גיליון3!AS120,0))","v":0},{"$f":"IF(גיליון3!AS120>0,IF(גיליון3!AS120=AS120,AP120+1,AP120),AP120)","v":0}]
[{"$f":"A21","v":0},0,null,0,null,0,null,{"$f":"IF(גיליון3!G121>0,D121/(F121+1),0)","v":0},{"$f":"IF(גיליון3!I121=0,0,IF(גיליון3!I121=גיליון2!H121,גיליון3!I121,0))","v":0},{"$f":"IF(גיליון3!I121>0,IF(גיליון3!I121=I121,F121+1,F121),F121)","v":0},null,{"$f":"IF(גיליון3!K121>0,D121/(J121+1),0)","v":0},{"$f":"IF(גיליון3!M121=0,0,IF(גיליון3!M121=גיליון2!L121,גיליון3!M121,0))","v":0},{"$f":"IF(גיליון3!M121>0,IF(גיליון3!M121=M121,J121+1,J121),J121)","v":0},null,{"$f":"IF(גיליון3!O121>0,D121/(N121+1),0)","v":0},{"$f":"IF(גיליון3!Q121=0,0,IF(גיליון3!Q121=גיליון2!P121,גיליון3!Q121,0))","v":0},{"$f":"IF(גיליון3!Q121>0,IF(גיליון3!Q121=Q121,N121+1,N121),N121)","v":0},null,{"$f":"IF(גיליון3!S121>0,D121/(R121+1),0)","v":0},{"$f":"IF(גיליון3!U121=0,0,IF(גיליון3!U121=גיליון2!T121,גיליון3!U121,0))","v":0},{"$f":"IF(גיליון3!U121>0,IF(גיליון3!U121=U121,R121+1,R121),R121)","v":0},null,{"$f":"IF(גיליון3!W121>0,D121/(V121+1),0)","v":0},{"$f":"IF(גיליון3!Y121=0,0,IF(גיליון3!Y121=גיליון2!X121,גיליון3!Y121,0))","v":0},{"$f":"IF(גיליון3!Y121>0,IF(גיליון3!Y121=Y121,V121+1,V121),V121)","v":0},null,{"$f":"IF(גיליון3!AA121>0,D121/(Z121+1),0)","v":0},{"$f":"IF(גיליון3!AC121=0,0,IF(גיליון3!AC121=גיליון2!AB121,גיליון3!AC121,0))","v":0},{"$f":"IF(גיליון3!AC121>0,IF(גיליון3!AC121=AC121,Z121+1,Z121),Z121)","v":0},null,{"$f":"IF(גיליון3!AE121>0,D121/(AD121+1),0)","v":0},{"$f":"IF(גיליון3!AG121=0,0,IF(גיליון3!AG121=גיליון2!AF121,גיליון3!AG121,0))","v":0},{"$f":"IF(גיליון3!AG121>0,IF(גיליון3!AG121=AG121,AD121+1,AD121),AD121)","v":0},null,{"$f":"IF(גיליון3!AI121>0,D121/(AH121+1),0)","v":0},{"$f":"IF(גיליון3!AK121=0,0,IF(גיליון3!AK121=גיליון2!AJ121,גיליון3!AK121,0))","v":0},{"$f":"IF(גיליון3!AK121>0,IF(גיליון3!AK121=AK121,AH121+1,AH121),AH121)","v":0},null,{"$f":"IF(גיליון3!AM121>0,D121/(AL121+1),0)","v":0},{"$f":"IF(גיליון3!AO121=0,0,IF(גיליון3!AO121=גיליון2!AN121,גיליון3!AO121,0))","v":0},{"$f":"IF(גיליון3!AO121>0,IF(גיליון3!AO121=AO121,AL121+1,AL121),AL121)","v":0},null,{"$f":"IF(גיליון3!AQ121>0,D121/(AP121+1),0)","v":0},{"$f":"IF(גיליון3!AS121=0,0,IF(גיליון3!AS121=גיליון2!AR121,גיליון3!AS121,0))","v":0},{"$f":"IF(גיליון3!AS121>0,IF(גיליון3!AS121=AS121,AP121+1,AP121),AP121)","v":0}]
[{"$f":"A22","v":0},0,null,0,null,0,null,{"$f":"IF(גיליון3!G122>0,D122/(F122+1),0)","v":0},{"$f":"IF(גיליון3!I122=0,0,IF(גיליון3!I122=גיליון2!H122,גיליון3!I122,0))","v":0},{"$f":"IF(גיליון3!I122>0,IF(גיליון3!I122=I122,F122+1,F122),F122)","v":0},null,{"$f":"IF(גיליון3!K122>0,D122/(J122+1),0)","v":0},{"$f":"IF(גיליון3!M122=0,0,IF(גיליון3!M122=גיליון2!L122,גיליון3!M122,0))","v":0},{"$f":"IF(גיליון3!M122>0,IF(גיליון3!M122=M122,J122+1,J122),J122)","v":0},null,{"$f":"IF(גיליון3!O122>0,D122/(N122+1),0)","v":0},{"$f":"IF(גיליון3!Q122=0,0,IF(גיליון3!Q122=גיליון2!P122,גיליון3!Q122,0))","v":0},{"$f":"IF(גיליון3!Q122>0,IF(גיליון3!Q122=Q122,N122+1,N122),N122)","v":0},null,{"$f":"IF(גיליון3!S122>0,D122/(R122+1),0)","v":0},{"$f":"IF(גיליון3!U122=0,0,IF(גיליון3!U122=גיליון2!T122,גיליון3!U122,0))","v":0},{"$f":"IF(גיליון3!U122>0,IF(גיליון3!U122=U122,R122+1,R122),R122)","v":0},null,{"$f":"IF(גיליון3!W122>0,D122/(V122+1),0)","v":0},{"$f":"IF(גיליון3!Y122=0,0,IF(גיליון3!Y122=גיליון2!X122,גיליון3!Y122,0))","v":0},{"$f":"IF(גיליון3!Y122>0,IF(גיליון3!Y122=Y122,V122+1,V122),V122)","v":0},null,{"$f":"IF(גיליון3!AA122>0,D122/(Z122+1),0)","v":0},{"$f":"IF(גיליון3!AC122=0,0,IF(גיליון3!AC122=גיליון2!AB122,גיליון3!AC122,0))","v":0},{"$f":"IF(גיליון3!AC122>0,IF(גיליון3!AC122=AC122,Z122+1,Z122),Z122)","v":0},null,{"$f":"IF(גיליון3!AE122>0,D122/(AD122+1),0)","v":0},{"$f":"IF(גיליון3!AG122=0,0,IF(גיליון3!AG122=גיליון2!AF122,גיליון3!AG122,0))","v":0},{"$f":"IF(גיליון3!AG122>0,IF(גיליון3!AG122=AG122,AD122+1,AD122),AD122)","v":0},null,{"$f":"IF(גיליון3!AI122>0,D122/(AH122+1),0)","v":0},{"$f":"IF(גיליון3!AK122=0,0,IF(גיליון3!AK122=גיליון2!AJ122,גיליון3!AK122,0))","v":0},{"$f":"IF(גיליון3!AK122>0,IF(גיליון3!AK122=AK122,AH122+1,AH122),AH122)","v":0},null,{"$f":"IF(גיליון3!AM122>0,D122/(AL122+1),0)","v":0},{"$f":"IF(גיליון3!AO122=0,0,IF(גיליון3!AO122=גיליון2!AN122,גיליון3!AO122,0))","v":0},{"$f":"IF(גיליון3!AO122>0,IF(גיליון3!AO122=AO122,AL122+1,AL122),AL122)","v":0},null,{"$f":"IF(גיליון3!AQ122>0,D122/(AP122+1),0)","v":0},{"$f":"IF(גיליון3!AS122=0,0,IF(גיליון3!AS122=גיליון2!AR122,גיליון3!AS122,0))","v":0},{"$f":"IF(גיליון3!AS122>0,IF(גיליון3!AS122=AS122,AP122+1,AP122),AP122)","v":0}]
[{"$f":"A23","v":0},0,null,0,null,0,null,{"$f":"IF(גיליון3!G123>0,D123/(F123+1),0)","v":0},{"$f":"IF(גיליון3!I123=0,0,IF(גיליון3!I123=גיליון2!H123,גיליון3!I123,0))","v":0},{"$f":"IF(גיליון3!I123>0,IF(גיליון3!I123=I123,F123+1,F123),F123)","v":0},null,{"$f":"IF(גיליון3!K123>0,D123/(J123+1),0)","v":0},{"$f":"IF(גיליון3!M123=0,0,IF(גיליון3!M123=גיליון2!L123,גיליון3!M123,0))","v":0},{"$f":"IF(גיליון3!M123>0,IF(גיליון3!M123=M123,J123+1,J123),J123)","v":0},null,{"$f":"IF(גיליון3!O123>0,D123/(N123+1),0)","v":0},{"$f":"IF(גיליון3!Q123=0,0,IF(גיליון3!Q123=גיליון2!P123,גיליון3!Q123,0))","v":0},{"$f":"IF(גיליון3!Q123>0,IF(גיליון3!Q123=Q123,N123+1,N123),N123)","v":0},null,{"$f":"IF(גיליון3!S123>0,D123/(R123+1),0)","v":0},{"$f":"IF(גיליון3!U123=0,0,IF(גיליון3!U123=גיליון2!T123,גיליון3!U123,0))","v":0},{"$f":"IF(גיליון3!U123>0,IF(גיליון3!U123=U123,R123+1,R123),R123)","v":0},null,{"$f":"IF(גיליון3!W123>0,D123/(V123+1),0)","v":0},{"$f":"IF(גיליון3!Y123=0,0,IF(גיליון3!Y123=גיליון2!X123,גיליון3!Y123,0))","v":0},{"$f":"IF(גיליון3!Y123>0,IF(גיליון3!Y123=Y123,V123+1,V123),V123)","v":0},null,{"$f":"IF(גיליון3!AA123>0,D123/(Z123+1),0)","v":0},{"$f":"IF(גיליון3!AC123=0,0,IF(גיליון3!AC123=גיליון2!AB123,גיליון3!AC123,0))","v":0},{"$f":"IF(גיליון3!AC123>0,IF(גיליון3!AC123=AC123,Z123+1,Z123),Z123)","v":0},null,{"$f":"IF(גיליון3!AE123>0,D123/(AD123+1),0)","v":0},{"$f":"IF(גיליון3!AG123=0,0,IF(גיליון3!AG123=גיליון2!AF123,גיליון3!AG123,0))","v":0},{"$f":"IF(גיליון3!AG123>0,IF(גיליון3!AG123=AG123,AD123+1,AD123),AD123)","v":0},null,{"$f":"IF(גיליון3!AI123>0,D123/(AH123+1),0)","v":0},{"$f":"IF(גיליון3!AK123=0,0,IF(גיליון3!AK123=גיליון2!AJ123,גיליון3!AK123,0))","v":0},{"$f":"IF(גיליון3!AK123>0,IF(גיליון3!AK123=AK123,AH123+1,AH123),AH123)","v":0},null,{"$f":"IF(גיליון3!AM123>0,D123/(AL123+1),0)","v":0},{"$f":"IF(גיליון3!AO123=0,0,IF(גיליון3!AO123=גיליון2!AN123,גיליון3!AO123,0))","v":0},{"$f":"IF(גיליון3!AO123>0,IF(גיליון3!AO123=AO123,AL123+1,AL123),AL123)","v":0},null,{"$f":"IF(גיליון3!AQ123>0,D123/(AP123+1),0)","v":0},{"$f":"IF(גיליון3!AS123=0,0,IF(גיליון3!AS123=גיליון2!AR123,גיליון3!AS123,0))","v":0},{"$f":"IF(גיליון3!AS123>0,IF(גיליון3!AS123=AS123,AP123+1,AP123),AP123)","v":0}]
[{"$f":"A24","v":0},0,null,0,null,0,null,{"$f":"IF(גיליון3!G124>0,D124/(F124+1),0)","v":0},{"$f":"IF(גיליון3!I124=0,0,IF(גיליון3!I124=גיליון2!H124,גיליון3!I124,0))","v":0},{"$f":"IF(גיליון3!I124>0,IF(גיליון3!I124=I124,F124+1,F124),F124)","v":0},null,{"$f":"IF(גיליון3!K124>0,D124/(J124+1),0)","v":0},{"$f":"IF(גיליון3!M124=0,0,IF(גיליון3!M124=גיליון2!L124,גיליון3!M124,0))","v":0},{"$f":"IF(גיליון3!M124>0,IF(גיליון3!M124=M124,J124+1,J124),J124)","v":0},null,{"$f":"IF(גיליון3!O124>0,D124/(N124+1),0)","v":0},{"$f":"IF(גיליון3!Q124=0,0,IF(גיליון3!Q124=גיליון2!P124,גיליון3!Q124,0))","v":0},{"$f":"IF(גיליון3!Q124>0,IF(גיליון3!Q124=Q124,N124+1,N124),N124)","v":0},null,{"$f":"IF(גיליון3!S124>0,D124/(R124+1),0)","v":0},{"$f":"IF(גיליון3!U124=0,0,IF(גיליון3!U124=גיליון2!T124,גיליון3!U124,0))","v":0},{"$f":"IF(גיליון3!U124>0,IF(גיליון3!U124=U124,R124+1,R124),R124)","v":0},null,{"$f":"IF(גיליון3!W124>0,D124/(V124+1),0)","v":0},{"$f":"IF(גיליון3!Y124=0,0,IF(גיליון3!Y124=גיליון2!X124,גיליון3!Y124,0))","v":0},{"$f":"IF(גיליון3!Y124>0,IF(גיליון3!Y124=Y124,V124+1,V124),V124)","v":0},null,{"$f":"IF(גיליון3!AA124>0,D124/(Z124+1),0)","v":0},{"$f":"IF(גיליון3!AC124=0,0,IF(גיליון3!AC124=גיליון2!AB124,גיליון3!AC124,0))","v":0},{"$f":"IF(גיליון3!AC124>0,IF(גיליון3!AC124=AC124,Z124+1,Z124),Z124)","v":0},null,{"$f":"IF(גיליון3!AE124>0,D124/(AD124+1),0)","v":0},{"$f":"IF(גיליון3!AG124=0,0,IF(גיליון3!AG124=גיליון2!AF124,גיליון3!AG124,0))","v":0},{"$f":"IF(גיליון3!AG124>0,IF(גיליון3!AG124=AG124,AD124+1,AD124),AD124)","v":0},null,{"$f":"IF(גיליון3!AI124>0,D124/(AH124+1),0)","v":0},{"$f":"IF(גיליון3!AK124=0,0,IF(גיליון3!AK124=גיליון2!AJ124,גיליון3!AK124,0))","v":0},{"$f":"IF(גיליון3!AK124>0,IF(גיליון3!AK124=AK124,AH124+1,AH124),AH124)","v":0},null,{"$f":"IF(גיליון3!AM124>0,D124/(AL124+1),0)","v":0},{"$f":"IF(גיליון3!AO124=0,0,IF(גיליון3!AO124=גיליון2!AN124,גיליון3!AO124,0))","v":0},{"$f":"IF(גיליון3!AO124>0,IF(גיליון3!AO124=AO124,AL124+1,AL124),AL124)","v":0},null,{"$f":"IF(גיליון3!AQ124>0,D124/(AP124+1),0)","v":0},{"$f":"IF(גיליון3!AS124=0,0,IF(גיליון3!AS124=גיליון2!AR124,גיליון3!AS124,0))","v":0},{"$f":"IF(גיליון3!AS124>0,IF(גיליון3!AS124=AS124,AP124+1,AP124),AP124)","v":0}]
[{"$f":"A25","v":0},0,null,0,null,0,null,{"$f":"IF(גיליון3!G125>0,D125/(F125+1),0)","v":0},{"$f":"IF(גיליון3!I125=0,0,IF(גיליון3!I125=גיליון2!H125,גיליון3!I125,0))","v":0},{"$f":"IF(גיליון3!I125>0,IF(גיליון3!I125=I125,F125+1,F125),F125)","v":0},null,{"$f":"IF(גיליון3!K125>0,D125/(J125+1),0)","v":0},{"$f":"IF(גיליון3!M125=0,0,IF(גיליון3!M125=גיליון2!L125,גיליון3!M125,0))","v":0},{"$f":"IF(גיליון3!M125>0,IF(גיליון3!M125=M125,J125+1,J125),J125)","v":0},null,{"$f":"IF(גיליון3!O125>0,D125/(N125+1),0)","v":0},{"$f":"IF(גיליון3!Q125=0,0,IF(גיליון3!Q125=גיליון2!P125,גיליון3!Q125,0))","v":0},{"$f":"IF(גיליון3!Q125>0,IF(גיליון3!Q125=Q125,N125+1,N125),N125)","v":0},null,{"$f":"IF(גיליון3!S125>0,D125/(R125+1),0)","v":0},{"$f":"IF(גיליון3!U125=0,0,IF(גיליון3!U125=גיליון2!T125,גיליון3!U125,0))","v":0},{"$f":"IF(גיליון3!U125>0,IF(גיליון3!U125=U125,R125+1,R125),R125)","v":0},null,{"$f":"IF(גיליון3!W125>0,D125/(V125+1),0)","v":0},{"$f":"IF(גיליון3!Y125=0,0,IF(גיליון3!Y125=גיליון2!X125,גיליון3!Y125,0))","v":0},{"$f":"IF(גיליון3!Y125>0,IF(גיליון3!Y125=Y125,V125+1,V125),V125)","v":0},null,{"$f":"IF(גיליון3!AA125>0,D125/(Z125+1),0)","v":0},{"$f":"IF(גיליון3!AC125=0,0,IF(גיליון3!AC125=גיליון2!AB125,גיליון3!AC125,0))","v":0},{"$f":"IF(גיליון3!AC125>0,IF(גיליון3!AC125=AC125,Z125+1,Z125),Z125)","v":0},null,{"$f":"IF(גיליון3!AE125>0,D125/(AD125+1),0)","v":0},{"$f":"IF(גיליון3!AG125=0,0,IF(גיליון3!AG125=גיליון2!AF125,גיליון3!AG125,0))","v":0},{"$f":"IF(גיליון3!AG125>0,IF(גיליון3!AG125=AG125,AD125+1,AD125),AD125)","v":0},null,{"$f":"IF(גיליון3!AI125>0,D125/(AH125+1),0)","v":0},{"$f":"IF(גיליון3!AK125=0,0,IF(גיליון3!AK125=גיליון2!AJ125,גיליון3!AK125,0))","v":0},{"$f":"IF(גיליון3!AK125>0,IF(גיליון3!AK125=AK125,AH125+1,AH125),AH125)","v":0},null,{"$f":"IF(גיליון3!AM125>0,D125/(AL125+1),0)","v":0},{"$f":"IF(גיליון3!AO125=0,0,IF(גיליון3!AO125=גיליון2!AN125,גיליון3!AO125,0))","v":0},{"$f":"IF(גיליון3!AO125>0,IF(גיליון3!AO125=AO125,AL125+1,AL125),AL125)","v":0},null,{"$f":"IF(גיליון3!AQ125>0,D125/(AP125+1),0)","v":0},{"$f":"IF(גיליון3!AS125=0,0,IF(גיליון3!AS125=גיליון2!AR125,גיליון3!AS125,0))","v":0},{"$f":"IF(גיליון3!AS125>0,IF(גיליון3!AS125=AS125,AP125+1,AP125),AP125)","v":0}]
[{"$f":"A26","v":0},0,null,0,null,0,null,{"$f":"IF(גיליון3!G126>0,D126/(F126+1),0)","v":0},{"$f":"IF(גיליון3!I126=0,0,IF(גיליון3!I126=גיליון2!H126,גיליון3!I126,0))","v":0},{"$f":"IF(גיליון3!I126>0,IF(גיליון3!I126=I126,F126+1,F126),F126)","v":0},null,{"$f":"IF(גיליון3!K126>0,D126/(J126+1),0)","v":0},{"$f":"IF(גיליון3!M126=0,0,IF(גיליון3!M126=גיליון2!L126,גיליון3!M126,0))","v":0},{"$f":"IF(גיליון3!M126>0,IF(גיליון3!M126=M126,J126+1,J126),J126)","v":0},null,{"$f":"IF(גיליון3!O126>0,D126/(N126+1),0)","v":0},{"$f":"IF(גיליון3!Q126=0,0,IF(גיליון3!Q126=גיליון2!P126,גיליון3!Q126,0))","v":0},{"$f":"IF(גיליון3!Q126>0,IF(גיליון3!Q126=Q126,N126+1,N126),N126)","v":0},null,{"$f":"IF(גיליון3!S126>0,D126/(R126+1),0)","v":0},{"$f":"IF(גיליון3!U126=0,0,IF(גיליון3!U126=גיליון2!T126,גיליון3!U126,0))","v":0},{"$f":"IF(גיליון3!U126>0,IF(גיליון3!U126=U126,R126+1,R126),R126)","v":0},null,{"$f":"IF(גיליון3!W126>0,D126/(V126+1),0)","v":0},{"$f":"IF(גיליון3!Y126=0,0,IF(גיליון3!Y126=גיליון2!X126,גיליון3!Y126,0))","v":0},{"$f":"IF(גיליון3!Y126>0,IF(גיליון3!Y126=Y126,V126+1,V126),V126)","v":0},null,{"$f":"IF(גיליון3!AA126>0,D126/(Z126+1),0)","v":0},{"$f":"IF(גיליון3!AC126=0,0,IF(גיליון3!AC126=גיליון2!AB126,גיליון3!AC126,0))","v":0},{"$f":"IF(גיליון3!AC126>0,IF(גיליון3!AC126=AC126,Z126+1,Z126),Z126)","v":0},null,{"$f":"IF(גיליון3!AE126>0,D126/(AD126+1),0)","v":0},{"$f":"IF(גיליון3!AG126=0,0,IF(גיליון3!AG126=גיליון2!AF126,גיליון3!AG126,0))","v":0},{"$f":"IF(גיליון3!AG126>0,IF(גיליון3!AG126=AG126,AD126+1,AD126),AD126)","v":0},null,{"$f":"IF(גיליון3!AI126>0,D126/(AH126+1),0)","v":0},{"$f":"IF(גיליון3!AK126=0,0,IF(גיליון3!AK126=גיליון2!AJ126,גיליון3!AK126,0))","v":0},{"$f":"IF(גיליון3!AK126>0,IF(גיליון3!AK126=AK126,AH126+1,AH126),AH126)","v":0},null,{"$f":"IF(גיליון3!AM126>0,D126/(AL126+1),0)","v":0},{"$f":"IF(גיליון3!AO126=0,0,IF(גיליון3!AO126=גיליון2!AN126,גיליון3!AO126,0))","v":0},{"$f":"IF(גיליון3!AO126>0,IF(גיליון3!AO126=AO126,AL126+1,AL126),AL126)","v":0},null,{"$f":"IF(גיליון3!AQ126>0,D126/(AP126+1),0)","v":0},{"$f":"IF(גיליון3!AS126=0,0,IF(גיליון3!AS126=גיליון2!AR126,גיליון3!AS126,0))","v":0},{"$f":"IF(גיליון3!AS126>0,IF(גיליון3!AS126=AS126,AP126+1,AP126),AP126)","v":0}]
[{"$f":"A27","v":0},0,null,0,null,0,null,{"$f":"IF(גיליון3!G127>0,D127/(F127+1),0)","v":0},{"$f":"IF(גיליון3!I127=0,0,IF(גיליון3!I127=גיליון2!H127,גיליון3!I127,0))","v":0},{"$f":"IF(גיליון3!I127>0,IF(גיליון3!I127=I127,F127+1,F127),F127)","v":0},null,{"$f":"IF(גיליון3!K127>0,D127/(J127+1),0)","v":0},{"$f":"IF(גיליון3!M127=0,0,IF(גיליון3!M127=גיליון2!L127,גיליון3!M127,0))","v":0},{"$f":"IF(גיליון3!M127>0,IF(גיליון3!M127=M127,J127+1,J127),J127)","v":0},null,{"$f":"IF(גיליון3!O127>0,D127/(N127+1),0)","v":0},{"$f":"IF(גיליון3!Q127=0,0,IF(גיליון3!Q127=גיליון2!P127,גיליון3!Q127,0))","v":0},{"$f":"IF(גיליון3!Q127>0,IF(גיליון3!Q127=Q127,N127+1,N127),N127)","v":0},null,{"$f":"IF(גיליון3!S127>0,D127/(R127+1),0)","v":0},{"$f":"IF(גיליון3!U127=0,0,IF(גיליון3!U127=גיליון2!T127,גיליון3!U127,0))","v":0},{"$f":"IF(גיליון3!U127>0,IF(גיליון3!U127=U127,R127+1,R127),R127)","v":0},null,{"$f":"IF(גיליון3!W127>0,D127/(V127+1),0)","v":0},{"$f":"IF(גיליון3!Y127=0,0,IF(גיליון3!Y127=גיליון2!X127,גיליון3!Y127,0))","v":0},{"$f":"IF(גיליון3!Y127>0,IF(גיליון3!Y127=Y127,V127+1,V127),V127)","v":0},null,{"$f":"IF(גיליון3!AA127>0,D127/(Z127+1),0)","v":0},{"$f":"IF(גיליון3!AC127=0,0,IF(גיליון3!AC127=גיליון2!AB127,גיליון3!AC127,0))","v":0},{"$f":"IF(גיליון3!AC127>0,IF(גיליון3!AC127=AC127,Z127+1,Z127),Z127)","v":0},null,{"$f":"IF(גיליון3!AE127>0,D127/(AD127+1),0)","v":0},{"$f":"IF(גיליון3!AG127=0,0,IF(גיליון3!AG127=גיליון2!AF127,גיליון3!AG127,0))","v":0},{"$f":"IF(גיליון3!AG127>0,IF(גיליון3!AG127=AG127,AD127+1,AD127),AD127)","v":0},null,{"$f":"IF(גיליון3!AI127>0,D127/(AH127+1),0)","v":0},{"$f":"IF(גיליון3!AK127=0,0,IF(גיליון3!AK127=גיליון2!AJ127,גיליון3!AK127,0))","v":0},{"$f":"IF(גיליון3!AK127>0,IF(גיליון3!AK127=AK127,AH127+1,AH127),AH127)","v":0},null,{"$f":"IF(גיליון3!AM127>0,D127/(AL127+1),0)","v":0},{"$f":"IF(גיליון3!AO127=0,0,IF(גיליון3!AO127=גיליון2!AN127,גיליון3!AO127,0))","v":0},{"$f":"IF(גיליון3!AO127>0,IF(גיליון3!AO127=AO127,AL127+1,AL127),AL127)","v":0},null,{"$f":"IF(גיליון3!AQ127>0,D127/(AP127+1),0)","v":0},{"$f":"IF(גיליון3!AS127=0,0,IF(גיליון3!AS127=גיליון2!AR127,גיליון3!AS127,0))","v":0},{"$f":"IF(גיליון3!AS127>0,IF(גיליון3!AS127=AS127,AP127+1,AP127),AP127)","v":0}]
[{"$f":"A28","v":"כולנו חברים נ נח"},0,null,0,null,0,null,{"$f":"IF(גיליון3!G128>0,D128/(F128+1),0)","v":0},{"$f":"IF(גיליון3!I128=0,0,IF(גיליון3!I128=גיליון2!H128,גיליון3!I128,0))","v":0},{"$f":"IF(גיליון3!I128>0,IF(גיליון3!I128=I128,F128+1,F128),F128)","v":0},null,{"$f":"IF(גיליון3!K128>0,D128/(J128+1),0)","v":0},{"$f":"IF(גיליון3!M128=0,0,IF(גיליון3!M128=גיליון2!L128,גיליון3!M128,0))","v":0},{"$f":"IF(גיליון3!M128>0,IF(גיליון3!M128=M128,J128+1,J128),J128)","v":0},null,{"$f":"IF(גיליון3!O128>0,D128/(N128+1),0)","v":0},{"$f":"IF(גיליון3!Q128=0,0,IF(גיליון3!Q128=גיליון2!P128,גיליון3!Q128,0))","v":0},{"$f":"IF(גיליון3!Q128>0,IF(גיליון3!Q128=Q128,N128+1,N128),N128)","v":0},null,{"$f":"IF(גיליון3!S128>0,D128/(R128+1),0)","v":0},{"$f":"IF(גיליון3!U128=0,0,IF(גיליון3!U128=גיליון2!T128,גיליון3!U128,0))","v":0},{"$f":"IF(גיליון3!U128>0,IF(גיליון3!U128=U128,R128+1,R128),R128)","v":0},null,{"$f":"IF(גיליון3!W128>0,D128/(V128+1),0)","v":0},{"$f":"IF(גיליון3!Y128=0,0,IF(גיליון3!Y128=גיליון2!X128,גיליון3!Y128,0))","v":0},{"$f":"IF(גיליון3!Y128>0,IF(גיליון3!Y128=Y128,V128+1,V128),V128)","v":0},null,{"$f":"IF(גיליון3!AA128>0,D128/(Z128+1),0)","v":0},{"$f":"IF(גיליון3!AC128=0,0,IF(גיליון3!AC128=גיליון2!AB128,גיליון3!AC128,0))","v":0},{"$f":"IF(גיליון3!AC128>0,IF(גיליון3!AC128=AC128,Z128+1,Z128),Z128)","v":0},null,{"$f":"IF(גיליון3!AE128>0,D128/(AD128+1),0)","v":0},{"$f":"IF(גיליון3!AG128=0,0,IF(גיליון3!AG128=גיליון2!AF128,גיליון3!AG128,0))","v":0},{"$f":"IF(גיליון3!AG128>0,IF(גיליון3!AG128=AG128,AD128+1,AD128),AD128)","v":0},null,{"$f":"IF(גיליון3!AI128>0,D128/(AH128+1),0)","v":0},{"$f":"IF(גיליון3!AK128=0,0,IF(גיליון3!AK128=גיליון2!AJ128,גיליון3!AK128,0))","v":0},{"$f":"IF(גיליון3!AK128>0,IF(גיליון3!AK128=AK128,AH128+1,AH128),AH128)","v":0},null,{"$f":"IF(גיליון3!AM128>0,D128/(AL128+1),0)","v":0},{"$f":"IF(גיליון3!AO128=0,0,IF(גיליון3!AO128=גיליון2!AN128,גיליון3!AO128,0))","v":0},{"$f":"IF(גיליון3!AO128>0,IF(גיליון3!AO128=AO128,AL128+1,AL128),AL128)","v":0},null,{"$f":"IF(גיליון3!AQ128>0,D128/(AP128+1),0)","v":0},{"$f":"IF(גיליון3!AS128=0,0,IF(גיליון3!AS128=גיליון2!AR128,גיליון3!AS128,0))","v":0},{"$f":"IF(גיליון3!AS128>0,IF(גיליון3!AS128=AS128,AP128+1,AP128),AP128)","v":0}]
[{"$f":"A29","v":0},0,null,0,null,0,null,{"$f":"IF(גיליון3!G129>0,D129/(F129+1),0)","v":0},{"$f":"IF(גיליון3!I129=0,0,IF(גיליון3!I129=גיליון2!H129,גיליון3!I129,0))","v":0},{"$f":"IF(גיליון3!I129>0,IF(גיליון3!I129=I129,F129+1,F129),F129)","v":0},null,{"$f":"IF(גיליון3!K129>0,D129/(J129+1),0)","v":0},{"$f":"IF(גיליון3!M129=0,0,IF(גיליון3!M129=גיליון2!L129,גיליון3!M129,0))","v":0},{"$f":"IF(גיליון3!M129>0,IF(גיליון3!M129=M129,J129+1,J129),J129)","v":0},null,{"$f":"IF(גיליון3!O129>0,D129/(N129+1),0)","v":0},{"$f":"IF(גיליון3!Q129=0,0,IF(גיליון3!Q129=גיליון2!P129,גיליון3!Q129,0))","v":0},{"$f":"IF(גיליון3!Q129>0,IF(גיליון3!Q129=Q129,N129+1,N129),N129)","v":0},null,{"$f":"IF(גיליון3!S129>0,D129/(R129+1),0)","v":0},{"$f":"IF(גיליון3!U129=0,0,IF(גיליון3!U129=גיליון2!T129,גיליון3!U129,0))","v":0},{"$f":"IF(גיליון3!U129>0,IF(גיליון3!U129=U129,R129+1,R129),R129)","v":0},null,{"$f":"IF(גיליון3!W129>0,D129/(V129+1),0)","v":0},{"$f":"IF(גיליון3!Y129=0,0,IF(גיליון3!Y129=גיליון2!X129,גיליון3!Y129,0))","v":0},{"$f":"IF(גיליון3!Y129>0,IF(גיליון3!Y129=Y129,V129+1,V129),V129)","v":0},null,{"$f":"IF(גיליון3!AA129>0,D129/(Z129+1),0)","v":0},{"$f":"IF(גיליון3!AC129=0,0,IF(גיליון3!AC129=גיליון2!AB129,גיליון3!AC129,0))","v":0},{"$f":"IF(גיליון3!AC129>0,IF(גיליון3!AC129=AC129,Z129+1,Z129),Z129)","v":0},null,{"$f":"IF(גיליון3!AE129>0,D129/(AD129+1),0)","v":0},{"$f":"IF(גיליון3!AG129=0,0,IF(גיליון3!AG129=גיליון2!AF129,גיליון3!AG129,0))","v":0},{"$f":"IF(גיליון3!AG129>0,IF(גיליון3!AG129=AG129,AD129+1,AD129),AD129)","v":0},null,{"$f":"IF(גיליון3!AI129>0,D129/(AH129+1),0)","v":0},{"$f":"IF(גיליון3!AK129=0,0,IF(גיליון3!AK129=גיליון2!AJ129,גיליון3!AK129,0))","v":0},{"$f":"IF(גיליון3!AK129>0,IF(גיליון3!AK129=AK129,AH129+1,AH129),AH129)","v":0},null,{"$f":"IF(גיליון3!AM129>0,D129/(AL129+1),0)","v":0},{"$f":"IF(גיליון3!AO129=0,0,IF(גיליון3!AO129=גיליון2!AN129,גיליון3!AO129,0))","v":0},{"$f":"IF(גיליון3!AO129>0,IF(גיליון3!AO129=AO129,AL129+1,AL129),AL129)","v":0},null,{"$f":"IF(גיליון3!AQ129>0,D129/(AP129+1),0)","v":0},{"$f":"IF(גיליון3!AS129=0,0,IF(גיליון3!AS129=גיליון2!AR129,גיליון3!AS129,0))","v":0},{"$f":"IF(גיליון3!AS129>0,IF(גיליון3!AS129=AS129,AP129+1,AP129),AP129)","v":0}]
[{"$f":"A30","v":0},0,null,0,null,0,null,{"$f":"IF(גיליון3!G130>0,D130/(F130+1),0)","v":0},{"$f":"IF(גיליון3!I130=0,0,IF(גיליון3!I130=גיליון2!H130,גיליון3!I130,0))","v":0},{"$f":"IF(גיליון3!I130>0,IF(גיליון3!I130=I130,F130+1,F130),F130)","v":0},null,{"$f":"IF(גיליון3!K130>0,D130/(J130+1),0)","v":0},{"$f":"IF(גיליון3!M130=0,0,IF(גיליון3!M130=גיליון2!L130,גיליון3!M130,0))","v":0},{"$f":"IF(גיליון3!M130>0,IF(גיליון3!M130=M130,J130+1,J130),J130)","v":0},null,{"$f":"IF(גיליון3!O130>0,D130/(N130+1),0)","v":0},{"$f":"IF(גיליון3!Q130=0,0,IF(גיליון3!Q130=גיליון2!P130,גיליון3!Q130,0))","v":0},{"$f":"IF(גיליון3!Q130>0,IF(גיליון3!Q130=Q130,N130+1,N130),N130)","v":0},null,{"$f":"IF(גיליון3!S130>0,D130/(R130+1),0)","v":0},{"$f":"IF(גיליון3!U130=0,0,IF(גיליון3!U130=גיליון2!T130,גיליון3!U130,0))","v":0},{"$f":"IF(גיליון3!U130>0,IF(גיליון3!U130=U130,R130+1,R130),R130)","v":0},null,{"$f":"IF(גיליון3!W130>0,D130/(V130+1),0)","v":0},{"$f":"IF(גיליון3!Y130=0,0,IF(גיליון3!Y130=גיליון2!X130,גיליון3!Y130,0))","v":0},{"$f":"IF(גיליון3!Y130>0,IF(גיליון3!Y130=Y130,V130+1,V130),V130)","v":0},null,{"$f":"IF(גיליון3!AA130>0,D130/(Z130+1),0)","v":0},{"$f":"IF(גיליון3!AC130=0,0,IF(גיליון3!AC130=גיליון2!AB130,גיליון3!AC130,0))","v":0},{"$f":"IF(גיליון3!AC130>0,IF(גיליון3!AC130=AC130,Z130+1,Z130),Z130)","v":0},null,{"$f":"IF(גיליון3!AE130>0,D130/(AD130+1),0)","v":0},{"$f":"IF(גיליון3!AG130=0,0,IF(גיליון3!AG130=גיליון2!AF130,גיליון3!AG130,0))","v":0},{"$f":"IF(גיליון3!AG130>0,IF(גיליון3!AG130=AG130,AD130+1,AD130),AD130)","v":0},null,{"$f":"IF(גיליון3!AI130>0,D130/(AH130+1),0)","v":0},{"$f":"IF(גיליון3!AK130=0,0,IF(גיליון3!AK130=גיליון2!AJ130,גיליון3!AK130,0))","v":0},{"$f":"IF(גיליון3!AK130>0,IF(גיליון3!AK130=AK130,AH130+1,AH130),AH130)","v":0},null,{"$f":"IF(גיליון3!AM130>0,D130/(AL130+1),0)","v":0},{"$f":"IF(גיליון3!AO130=0,0,IF(גיליון3!AO130=גיליון2!AN130,גיליון3!AO130,0))","v":0},{"$f":"IF(גיליון3!AO130>0,IF(גיליון3!AO130=AO130,AL130+1,AL130),AL130)","v":0},null,{"$f":"IF(גיליון3!AQ130>0,D130/(AP130+1),0)","v":0},{"$f":"IF(גיליון3!AS130=0,0,IF(גיליון3!AS130=גיליון2!AR130,גיליון3!AS130,0))","v":0},{"$f":"IF(גיליון3!AS130>0,IF(גיליון3!AS130=AS130,AP130+1,AP130),AP130)","v":0}]
[{"$f":"A31","v":0},0,null,0,null,0,null,{"$f":"IF(גיליון3!G131>0,D131/(F131+1),0)","v":0},{"$f":"IF(גיליון3!I131=0,0,IF(גיליון3!I131=גיליון2!H131,גיליון3!I131,0))","v":0},{"$f":"IF(גיליון3!I131>0,IF(גיליון3!I131=I131,F131+1,F131),F131)","v":0},null,{"$f":"IF(גיליון3!K131>0,D131/(J131+1),0)","v":0},{"$f":"IF(גיליון3!M131=0,0,IF(גיליון3!M131=גיליון2!L131,גיליון3!M131,0))","v":0},{"$f":"IF(גיליון3!M131>0,IF(גיליון3!M131=M131,J131+1,J131),J131)","v":0},null,{"$f":"IF(גיליון3!O131>0,D131/(N131+1),0)","v":0},{"$f":"IF(גיליון3!Q131=0,0,IF(גיליון3!Q131=גיליון2!P131,גיליון3!Q131,0))","v":0},{"$f":"IF(גיליון3!Q131>0,IF(גיליון3!Q131=Q131,N131+1,N131),N131)","v":0},null,{"$f":"IF(גיליון3!S131>0,D131/(R131+1),0)","v":0},{"$f":"IF(גיליון3!U131=0,0,IF(גיליון3!U131=גיליון2!T131,גיליון3!U131,0))","v":0},{"$f":"IF(גיליון3!U131>0,IF(גיליון3!U131=U131,R131+1,R131),R131)","v":0},null,{"$f":"IF(גיליון3!W131>0,D131/(V131+1),0)","v":0},{"$f":"IF(גיליון3!Y131=0,0,IF(גיליון3!Y131=גיליון2!X131,גיליון3!Y131,0))","v":0},{"$f":"IF(גיליון3!Y131>0,IF(גיליון3!Y131=Y131,V131+1,V131),V131)","v":0},null,{"$f":"IF(גיליון3!AA131>0,D131/(Z131+1),0)","v":0},{"$f":"IF(גיליון3!AC131=0,0,IF(גיליון3!AC131=גיליון2!AB131,גיליון3!AC131,0))","v":0},{"$f":"IF(גיליון3!AC131>0,IF(גיליון3!AC131=AC131,Z131+1,Z131),Z131)","v":0},null,{"$f":"IF(גיליון3!AE131>0,D131/(AD131+1),0)","v":0},{"$f":"IF(גיליון3!AG131=0,0,IF(גיליון3!AG131=גיליון2!AF131,גיליון3!AG131,0))","v":0},{"$f":"IF(גיליון3!AG131>0,IF(גיליון3!AG131=AG131,AD131+1,AD131),AD131)","v":0},null,{"$f":"IF(גיליון3!AI131>0,D131/(AH131+1),0)","v":0},{"$f":"IF(גיליון3!AK131=0,0,IF(גיליון3!AK131=גיליון2!AJ131,גיליון3!AK131,0))","v":0},{"$f":"IF(גיליון3!AK131>0,IF(גיליון3!AK131=AK131,AH131+1,AH131),AH131)","v":0},null,{"$f":"IF(גיליון3!AM131>0,D131/(AL131+1),0)","v":0},{"$f":"IF(גיליון3!AO131=0,0,IF(גיליון3!AO131=גיליון2!AN131,גיליון3!AO131,0))","v":0},{"$f":"IF(גיליון3!AO131>0,IF(גיליון3!AO131=AO131,AL131+1,AL131),AL131)","v":0},null,{"$f":"IF(גיליון3!AQ131>0,D131/(AP131+1),0)","v":0},{"$f":"IF(גיליון3!AS131=0,0,IF(גיליון3!AS131=גיליון2!AR131,גיליון3!AS131,0))","v":0},{"$f":"IF(גיליון3!AS131>0,IF(גיליון3!AS131=AS131,AP131+1,AP131),AP131)","v":0}]
[{"$f":"A32","v":0},0,null,0,null,0,null,{"$f":"IF(גיליון3!G132>0,D132/(F132+1),0)","v":0},{"$f":"IF(גיליון3!I132=0,0,IF(גיליון3!I132=גיליון2!H132,גיליון3!I132,0))","v":0},{"$f":"IF(גיליון3!I132>0,IF(גיליון3!I132=I132,F132+1,F132),F132)","v":0},null,{"$f":"IF(גיליון3!K132>0,D132/(J132+1),0)","v":0},{"$f":"IF(גיליון3!M132=0,0,IF(גיליון3!M132=גיליון2!L132,גיליון3!M132,0))","v":0},{"$f":"IF(גיליון3!M132>0,IF(גיליון3!M132=M132,J132+1,J132),J132)","v":0},null,{"$f":"IF(גיליון3!O132>0,D132/(N132+1),0)","v":0},{"$f":"IF(גיליון3!Q132=0,0,IF(גיליון3!Q132=גיליון2!P132,גיליון3!Q132,0))","v":0},{"$f":"IF(גיליון3!Q132>0,IF(גיליון3!Q132=Q132,N132+1,N132),N132)","v":0},null,{"$f":"IF(גיליון3!S132>0,D132/(R132+1),0)","v":0},{"$f":"IF(גיליון3!U132=0,0,IF(גיליון3!U132=גיליון2!T132,גיליון3!U132,0))","v":0},{"$f":"IF(גיליון3!U132>0,IF(גיליון3!U132=U132,R132+1,R132),R132)","v":0},null,{"$f":"IF(גיליון3!W132>0,D132/(V132+1),0)","v":0},{"$f":"IF(גיליון3!Y132=0,0,IF(גיליון3!Y132=גיליון2!X132,גיליון3!Y132,0))","v":0},{"$f":"IF(גיליון3!Y132>0,IF(גיליון3!Y132=Y132,V132+1,V132),V132)","v":0},null,{"$f":"IF(גיליון3!AA132>0,D132/(Z132+1),0)","v":0},{"$f":"IF(גיליון3!AC132=0,0,IF(גיליון3!AC132=גיליון2!AB132,גיליון3!AC132,0))","v":0},{"$f":"IF(גיליון3!AC132>0,IF(גיליון3!AC132=AC132,Z132+1,Z132),Z132)","v":0},null,{"$f":"IF(גיליון3!AE132>0,D132/(AD132+1),0)","v":0},{"$f":"IF(גיליון3!AG132=0,0,IF(גיליון3!AG132=גיליון2!AF132,גיליון3!AG132,0))","v":0},{"$f":"IF(גיליון3!AG132>0,IF(גיליון3!AG132=AG132,AD132+1,AD132),AD132)","v":0},null,{"$f":"IF(גיליון3!AI132>0,D132/(AH132+1),0)","v":0},{"$f":"IF(גיליון3!AK132=0,0,IF(גיליון3!AK132=גיליון2!AJ132,גיליון3!AK132,0))","v":0},{"$f":"IF(גיליון3!AK132>0,IF(גיליון3!AK132=AK132,AH132+1,AH132),AH132)","v":0},null,{"$f":"IF(גיליון3!AM132>0,D132/(AL132+1),0)","v":0},{"$f":"IF(גיליון3!AO132=0,0,IF(גיליון3!AO132=גיליון2!AN132,גיליון3!AO132,0))","v":0},{"$f":"IF(גיליון3!AO132>0,IF(גיליון3!AO132=AO132,AL132+1,AL132),AL132)","v":0},null,{"$f":"IF(גיליון3!AQ132>0,D132/(AP132+1),0)","v":0},{"$f":"IF(גיליון3!AS132=0,0,IF(גיליון3!AS132=גיליון2!AR132,גיליון3!AS132,0))","v":0},{"$f":"IF(גיליון3!AS132>0,IF(גיליון3!AS132=AS132,AP132+1,AP132),AP132)","v":0}]
[{"$f":"A33","v":0},0,null,0,null,0,null,{"$f":"IF(גיליון3!G133>0,D133/(F133+1),0)","v":0},{"$f":"IF(גיליון3!I133=0,0,IF(גיליון3!I133=גיליון2!H133,גיליון3!I133,0))","v":0},{"$f":"IF(גיליון3!I133>0,IF(גיליון3!I133=I133,F133+1,F133),F133)","v":0},null,{"$f":"IF(גיליון3!K133>0,D133/(J133+1),0)","v":0},{"$f":"IF(גיליון3!M133=0,0,IF(גיליון3!M133=גיליון2!L133,גיליון3!M133,0))","v":0},{"$f":"IF(גיליון3!M133>0,IF(גיליון3!M133=M133,J133+1,J133),J133)","v":0},null,{"$f":"IF(גיליון3!O133>0,D133/(N133+1),0)","v":0},{"$f":"IF(גיליון3!Q133=0,0,IF(גיליון3!Q133=גיליון2!P133,גיליון3!Q133,0))","v":0},{"$f":"IF(גיליון3!Q133>0,IF(גיליון3!Q133=Q133,N133+1,N133),N133)","v":0},null,{"$f":"IF(גיליון3!S133>0,D133/(R133+1),0)","v":0},{"$f":"IF(גיליון3!U133=0,0,IF(גיליון3!U133=גיליון2!T133,גיליון3!U133,0))","v":0},{"$f":"IF(גיליון3!U133>0,IF(גיליון3!U133=U133,R133+1,R133),R133)","v":0},null,{"$f":"IF(גיליון3!W133>0,D133/(V133+1),0)","v":0},{"$f":"IF(גיליון3!Y133=0,0,IF(גיליון3!Y133=גיליון2!X133,גיליון3!Y133,0))","v":0},{"$f":"IF(גיליון3!Y133>0,IF(גיליון3!Y133=Y133,V133+1,V133),V133)","v":0},null,{"$f":"IF(גיליון3!AA133>0,D133/(Z133+1),0)","v":0},{"$f":"IF(גיליון3!AC133=0,0,IF(גיליון3!AC133=גיליון2!AB133,גיליון3!AC133,0))","v":0},{"$f":"IF(גיליון3!AC133>0,IF(גיליון3!AC133=AC133,Z133+1,Z133),Z133)","v":0},null,{"$f":"IF(גיליון3!AE133>0,D133/(AD133+1),0)","v":0},{"$f":"IF(גיליון3!AG133=0,0,IF(גיליון3!AG133=גיליון2!AF133,גיליון3!AG133,0))","v":0},{"$f":"IF(גיליון3!AG133>0,IF(גיליון3!AG133=AG133,AD133+1,AD133),AD133)","v":0},null,{"$f":"IF(גיליון3!AI133>0,D133/(AH133+1),0)","v":0},{"$f":"IF(גיליון3!AK133=0,0,IF(גיליון3!AK133=גיליון2!AJ133,גיליון3!AK133,0))","v":0},{"$f":"IF(גיליון3!AK133>0,IF(גיליון3!AK133=AK133,AH133+1,AH133),AH133)","v":0},null,{"$f":"IF(גיליון3!AM133>0,D133/(AL133+1),0)","v":0},{"$f":"IF(גיליון3!AO133=0,0,IF(גיליון3!AO133=גיליון2!AN133,גיליון3!AO133,0))","v":0},{"$f":"IF(גיליון3!AO133>0,IF(גיליון3!AO133=AO133,AL133+1,AL133),AL133)","v":0},null,{"$f":"IF(גיליון3!AQ133>0,D133/(AP133+1),0)","v":0},{"$f":"IF(גיליון3!AS133=0,0,IF(גיליון3!AS133=גיליון2!AR133,גיליון3!AS133,0))","v":0},{"$f":"IF(גיליון3!AS133>0,IF(גיליון3!AS133=AS133,AP133+1,AP133),AP133)","v":0}]
[{"$f":"A34","v":0},0,null,0,null,0,null,{"$f":"IF(גיליון3!G134>0,D134/(F134+1),0)","v":0},{"$f":"IF(גיליון3!I134=0,0,IF(גיליון3!I134=גיליון2!H134,גיליון3!I134,0))","v":0},{"$f":"IF(גיליון3!I134>0,IF(גיליון3!I134=I134,F134+1,F134),F134)","v":0},null,{"$f":"IF(גיליון3!K134>0,D134/(J134+1),0)","v":0},{"$f":"IF(גיליון3!M134=0,0,IF(גיליון3!M134=גיליון2!L134,גיליון3!M134,0))","v":0},{"$f":"IF(גיליון3!M134>0,IF(גיליון3!M134=M134,J134+1,J134),J134)","v":0},null,{"$f":"IF(גיליון3!O134>0,D134/(N134+1),0)","v":0},{"$f":"IF(גיליון3!Q134=0,0,IF(גיליון3!Q134=גיליון2!P134,גיליון3!Q134,0))","v":0},{"$f":"IF(גיליון3!Q134>0,IF(גיליון3!Q134=Q134,N134+1,N134),N134)","v":0},null,{"$f":"IF(גיליון3!S134>0,D134/(R134+1),0)","v":0},{"$f":"IF(גיליון3!U134=0,0,IF(גיליון3!U134=גיליון2!T134,גיליון3!U134,0))","v":0},{"$f":"IF(גיליון3!U134>0,IF(גיליון3!U134=U134,R134+1,R134),R134)","v":0},null,{"$f":"IF(גיליון3!W134>0,D134/(V134+1),0)","v":0},{"$f":"IF(גיליון3!Y134=0,0,IF(גיליון3!Y134=גיליון2!X134,גיליון3!Y134,0))","v":0},{"$f":"IF(גיליון3!Y134>0,IF(גיליון3!Y134=Y134,V134+1,V134),V134)","v":0},null,{"$f":"IF(גיליון3!AA134>0,D134/(Z134+1),0)","v":0},{"$f":"IF(גיליון3!AC134=0,0,IF(גיליון3!AC134=גיליון2!AB134,גיליון3!AC134,0))","v":0},{"$f":"IF(גיליון3!AC134>0,IF(גיליון3!AC134=AC134,Z134+1,Z134),Z134)","v":0},null,{"$f":"IF(גיליון3!AE134>0,D134/(AD134+1),0)","v":0},{"$f":"IF(גיליון3!AG134=0,0,IF(גיליון3!AG134=גיליון2!AF134,גיליון3!AG134,0))","v":0},{"$f":"IF(גיליון3!AG134>0,IF(גיליון3!AG134=AG134,AD134+1,AD134),AD134)","v":0},null,{"$f":"IF(גיליון3!AI134>0,D134/(AH134+1),0)","v":0},{"$f":"IF(גיליון3!AK134=0,0,IF(גיליון3!AK134=גיליון2!AJ134,גיליון3!AK134,0))","v":0},{"$f":"IF(גיליון3!AK134>0,IF(גיליון3!AK134=AK134,AH134+1,AH134),AH134)","v":0},null,{"$f":"IF(גיליון3!AM134>0,D134/(AL134+1),0)","v":0},{"$f":"IF(גיליון3!AO134=0,0,IF(גיליון3!AO134=גיליון2!AN134,גיליון3!AO134,0))","v":0},{"$f":"IF(גיליון3!AO134>0,IF(גיליון3!AO134=AO134,AL134+1,AL134),AL134)","v":0},null,{"$f":"IF(גיליון3!AQ134>0,D134/(AP134+1),0)","v":0},{"$f":"IF(גיליון3!AS134=0,0,IF(גיליון3!AS134=גיליון2!AR134,גיליון3!AS134,0))","v":0},{"$f":"IF(גיליון3!AS134>0,IF(גיליון3!AS134=AS134,AP134+1,AP134),AP134)","v":0}]
[{"$f":"A35","v":0},0,null,0,null,0,null,{"$f":"IF(גיליון3!G135>0,D135/(F135+1),0)","v":0},{"$f":"IF(גיליון3!I135=0,0,IF(גיליון3!I135=גיליון2!H135,גיליון3!I135,0))","v":0},{"$f":"IF(גיליון3!I135>0,IF(גיליון3!I135=I135,F135+1,F135),F135)","v":0},null,{"$f":"IF(גיליון3!K135>0,D135/(J135+1),0)","v":0},{"$f":"IF(גיליון3!M135=0,0,IF(גיליון3!M135=גיליון2!L135,גיליון3!M135,0))","v":0},{"$f":"IF(גיליון3!M135>0,IF(גיליון3!M135=M135,J135+1,J135),J135)","v":0},null,{"$f":"IF(גיליון3!O135>0,D135/(N135+1),0)","v":0},{"$f":"IF(גיליון3!Q135=0,0,IF(גיליון3!Q135=גיליון2!P135,גיליון3!Q135,0))","v":0},{"$f":"IF(גיליון3!Q135>0,IF(גיליון3!Q135=Q135,N135+1,N135),N135)","v":0},null,{"$f":"IF(גיליון3!S135>0,D135/(R135+1),0)","v":0},{"$f":"IF(גיליון3!U135=0,0,IF(גיליון3!U135=גיליון2!T135,גיליון3!U135,0))","v":0},{"$f":"IF(גיליון3!U135>0,IF(גיליון3!U135=U135,R135+1,R135),R135)","v":0},null,{"$f":"IF(גיליון3!W135>0,D135/(V135+1),0)","v":0},{"$f":"IF(גיליון3!Y135=0,0,IF(גיליון3!Y135=גיליון2!X135,גיליון3!Y135,0))","v":0},{"$f":"IF(גיליון3!Y135>0,IF(גיליון3!Y135=Y135,V135+1,V135),V135)","v":0},null,{"$f":"IF(גיליון3!AA135>0,D135/(Z135+1),0)","v":0},{"$f":"IF(גיליון3!AC135=0,0,IF(גיליון3!AC135=גיליון2!AB135,גיליון3!AC135,0))","v":0},{"$f":"IF(גיליון3!AC135>0,IF(גיליון3!AC135=AC135,Z135+1,Z135),Z135)","v":0},null,{"$f":"IF(גיליון3!AE135>0,D135/(AD135+1),0)","v":0},{"$f":"IF(גיליון3!AG135=0,0,IF(גיליון3!AG135=גיליון2!AF135,גיליון3!AG135,0))","v":0},{"$f":"IF(גיליון3!AG135>0,IF(גיליון3!AG135=AG135,AD135+1,AD135),AD135)","v":0},null,{"$f":"IF(גיליון3!AI135>0,D135/(AH135+1),0)","v":0},{"$f":"IF(גיליון3!AK135=0,0,IF(גיליון3!AK135=גיליון2!AJ135,גיליון3!AK135,0))","v":0},{"$f":"IF(גיליון3!AK135>0,IF(גיליון3!AK135=AK135,AH135+1,AH135),AH135)","v":0},null,{"$f":"IF(גיליון3!AM135>0,D135/(AL135+1),0)","v":0},{"$f":"IF(גיליון3!AO135=0,0,IF(גיליון3!AO135=גיליון2!AN135,גיליון3!AO135,0))","v":0},{"$f":"IF(גיליון3!AO135>0,IF(גיליון3!AO135=AO135,AL135+1,AL135),AL135)","v":0},null,{"$f":"IF(גיליון3!AQ135>0,D135/(AP135+1),0)","v":0},{"$f":"IF(גיליון3!AS135=0,0,IF(גיליון3!AS135=גיליון2!AR135,גיליון3!AS135,0))","v":0},{"$f":"IF(גיליון3!AS135>0,IF(גיליון3!AS135=AS135,AP135+1,AP135),AP135)","v":0}]
[{"$f":"A36","v":0},0,null,0,null,0,null,{"$f":"IF(גיליון3!G136>0,D136/(F136+1),0)","v":0},{"$f":"IF(גיליון3!I136=0,0,IF(גיליון3!I136=גיליון2!H136,גיליון3!I136,0))","v":0},{"$f":"IF(גיליון3!I136>0,IF(גיליון3!I136=I136,F136+1,F136),F136)","v":0},null,{"$f":"IF(גיליון3!K136>0,D136/(J136+1),0)","v":0},{"$f":"IF(גיליון3!M136=0,0,IF(גיליון3!M136=גיליון2!L136,גיליון3!M136,0))","v":0},{"$f":"IF(גיליון3!M136>0,IF(גיליון3!M136=M136,J136+1,J136),J136)","v":0},null,{"$f":"IF(גיליון3!O136>0,D136/(N136+1),0)","v":0},{"$f":"IF(גיליון3!Q136=0,0,IF(גיליון3!Q136=גיליון2!P136,גיליון3!Q136,0))","v":0},{"$f":"IF(גיליון3!Q136>0,IF(גיליון3!Q136=Q136,N136+1,N136),N136)","v":0},null,{"$f":"IF(גיליון3!S136>0,D136/(R136+1),0)","v":0},{"$f":"IF(גיליון3!U136=0,0,IF(גיליון3!U136=גיליון2!T136,גיליון3!U136,0))","v":0},{"$f":"IF(גיליון3!U136>0,IF(גיליון3!U136=U136,R136+1,R136),R136)","v":0},null,{"$f":"IF(גיליון3!W136>0,D136/(V136+1),0)","v":0},{"$f":"IF(גיליון3!Y136=0,0,IF(גיליון3!Y136=גיליון2!X136,גיליון3!Y136,0))","v":0},{"$f":"IF(גיליון3!Y136>0,IF(גיליון3!Y136=Y136,V136+1,V136),V136)","v":0},null,{"$f":"IF(גיליון3!AA136>0,D136/(Z136+1),0)","v":0},{"$f":"IF(גיליון3!AC136=0,0,IF(גיליון3!AC136=גיליון2!AB136,גיליון3!AC136,0))","v":0},{"$f":"IF(גיליון3!AC136>0,IF(גיליון3!AC136=AC136,Z136+1,Z136),Z136)","v":0},null,{"$f":"IF(גיליון3!AE136>0,D136/(AD136+1),0)","v":0},{"$f":"IF(גיליון3!AG136=0,0,IF(גיליון3!AG136=גיליון2!AF136,גיליון3!AG136,0))","v":0},{"$f":"IF(גיליון3!AG136>0,IF(גיליון3!AG136=AG136,AD136+1,AD136),AD136)","v":0},null,{"$f":"IF(גיליון3!AI136>0,D136/(AH136+1),0)","v":0},{"$f":"IF(גיליון3!AK136=0,0,IF(גיליון3!AK136=גיליון2!AJ136,גיליון3!AK136,0))","v":0},{"$f":"IF(גיליון3!AK136>0,IF(גיליון3!AK136=AK136,AH136+1,AH136),AH136)","v":0},null,{"$f":"IF(גיליון3!AM136>0,D136/(AL136+1),0)","v":0},{"$f":"IF(גיליון3!AO136=0,0,IF(גיליון3!AO136=גיליון2!AN136,גיליון3!AO136,0))","v":0},{"$f":"IF(גיליון3!AO136>0,IF(גיליון3!AO136=AO136,AL136+1,AL136),AL136)","v":0},null,{"$f":"IF(גיליון3!AQ136>0,D136/(AP136+1),0)","v":0},{"$f":"IF(גיליון3!AS136=0,0,IF(גיליון3!AS136=גיליון2!AR136,גיליון3!AS136,0))","v":0},{"$f":"IF(גיליון3!AS136>0,IF(גיליון3!AS136=AS136,AP136+1,AP136),AP136)","v":0}]
[{"$f":"A37","v":0},0,null,0,null,0,null,{"$f":"IF(גיליון3!G137>0,D137/(F137+1),0)","v":0},{"$f":"IF(גיליון3!I137=0,0,IF(גיליון3!I137=גיליון2!H137,גיליון3!I137,0))","v":0},{"$f":"IF(גיליון3!I137>0,IF(גיליון3!I137=I137,F137+1,F137),F137)","v":0},null,{"$f":"IF(גיליון3!K137>0,D137/(J137+1),0)","v":0},{"$f":"IF(גיליון3!M137=0,0,IF(גיליון3!M137=גיליון2!L137,גיליון3!M137,0))","v":0},{"$f":"IF(גיליון3!M137>0,IF(גיליון3!M137=M137,J137+1,J137),J137)","v":0},null,{"$f":"IF(גיליון3!O137>0,D137/(N137+1),0)","v":0},{"$f":"IF(גיליון3!Q137=0,0,IF(גיליון3!Q137=גיליון2!P137,גיליון3!Q137,0))","v":0},{"$f":"IF(גיליון3!Q137>0,IF(גיליון3!Q137=Q137,N137+1,N137),N137)","v":0},null,{"$f":"IF(גיליון3!S137>0,D137/(R137+1),0)","v":0},{"$f":"IF(גיליון3!U137=0,0,IF(גיליון3!U137=גיליון2!T137,גיליון3!U137,0))","v":0},{"$f":"IF(גיליון3!U137>0,IF(גיליון3!U137=U137,R137+1,R137),R137)","v":0},null,{"$f":"IF(גיליון3!W137>0,D137/(V137+1),0)","v":0},{"$f":"IF(גיליון3!Y137=0,0,IF(גיליון3!Y137=גיליון2!X137,גיליון3!Y137,0))","v":0},{"$f":"IF(גיליון3!Y137>0,IF(גיליון3!Y137=Y137,V137+1,V137),V137)","v":0},null,{"$f":"IF(גיליון3!AA137>0,D137/(Z137+1),0)","v":0},{"$f":"IF(גיליון3!AC137=0,0,IF(גיליון3!AC137=גיליון2!AB137,גיליון3!AC137,0))","v":0},{"$f":"IF(גיליון3!AC137>0,IF(גיליון3!AC137=AC137,Z137+1,Z137),Z137)","v":0},null,{"$f":"IF(גיליון3!AE137>0,D137/(AD137+1),0)","v":0},{"$f":"IF(גיליון3!AG137=0,0,IF(גיליון3!AG137=גיליון2!AF137,גיליון3!AG137,0))","v":0},{"$f":"IF(גיליון3!AG137>0,IF(גיליון3!AG137=AG137,AD137+1,AD137),AD137)","v":0},null,{"$f":"IF(גיליון3!AI137>0,D137/(AH137+1),0)","v":0},{"$f":"IF(גיליון3!AK137=0,0,IF(גיליון3!AK137=גיליון2!AJ137,גיליון3!AK137,0))","v":0},{"$f":"IF(גיליון3!AK137>0,IF(גיליון3!AK137=AK137,AH137+1,AH137),AH137)","v":0},null,{"$f":"IF(גיליון3!AM137>0,D137/(AL137+1),0)","v":0},{"$f":"IF(גיליון3!AO137=0,0,IF(גיליון3!AO137=גיליון2!AN137,גיליון3!AO137,0))","v":0},{"$f":"IF(גיליון3!AO137>0,IF(גיליון3!AO137=AO137,AL137+1,AL137),AL137)","v":0},null,{"$f":"IF(גיליון3!AQ137>0,D137/(AP137+1),0)","v":0},{"$f":"IF(גיליון3!AS137=0,0,IF(גיליון3!AS137=גיליון2!AR137,גיליון3!AS137,0))","v":0},{"$f":"IF(גיליון3!AS137>0,IF(גיליון3!AS137=AS137,AP137+1,AP137),AP137)","v":0}]
[{"$f":"A38","v":0},0,null,0,null,0,null,{"$f":"IF(גיליון3!G138>0,D138/(F138+1),0)","v":0},{"$f":"IF(גיליון3!I138=0,0,IF(גיליון3!I138=גיליון2!H138,גיליון3!I138,0))","v":0},{"$f":"IF(גיליון3!I138>0,IF(גיליון3!I138=I138,F138+1,F138),F138)","v":0},null,{"$f":"IF(גיליון3!K138>0,D138/(J138+1),0)","v":0},{"$f":"IF(גיליון3!M138=0,0,IF(גיליון3!M138=גיליון2!L138,גיליון3!M138,0))","v":0},{"$f":"IF(גיליון3!M138>0,IF(גיליון3!M138=M138,J138+1,J138),J138)","v":0},null,{"$f":"IF(גיליון3!O138>0,D138/(N138+1),0)","v":0},{"$f":"IF(גיליון3!Q138=0,0,IF(גיליון3!Q138=גיליון2!P138,גיליון3!Q138,0))","v":0},{"$f":"IF(גיליון3!Q138>0,IF(גיליון3!Q138=Q138,N138+1,N138),N138)","v":0},null,{"$f":"IF(גיליון3!S138>0,D138/(R138+1),0)","v":0},{"$f":"IF(גיליון3!U138=0,0,IF(גיליון3!U138=גיליון2!T138,גיליון3!U138,0))","v":0},{"$f":"IF(גיליון3!U138>0,IF(גיליון3!U138=U138,R138+1,R138),R138)","v":0},null,{"$f":"IF(גיליון3!W138>0,D138/(V138+1),0)","v":0},{"$f":"IF(גיליון3!Y138=0,0,IF(גיליון3!Y138=גיליון2!X138,גיליון3!Y138,0))","v":0},{"$f":"IF(גיליון3!Y138>0,IF(גיליון3!Y138=Y138,V138+1,V138),V138)","v":0},null,{"$f":"IF(גיליון3!AA138>0,D138/(Z138+1),0)","v":0},{"$f":"IF(גיליון3!AC138=0,0,IF(גיליון3!AC138=גיליון2!AB138,גיליון3!AC138,0))","v":0},{"$f":"IF(גיליון3!AC138>0,IF(גיליון3!AC138=AC138,Z138+1,Z138),Z138)","v":0},null,{"$f":"IF(גיליון3!AE138>0,D138/(AD138+1),0)","v":0},{"$f":"IF(גיליון3!AG138=0,0,IF(גיליון3!AG138=גיליון2!AF138,גיליון3!AG138,0))","v":0},{"$f":"IF(גיליון3!AG138>0,IF(גיליון3!AG138=AG138,AD138+1,AD138),AD138)","v":0},null,{"$f":"IF(גיליון3!AI138>0,D138/(AH138+1),0)","v":0},{"$f":"IF(גיליון3!AK138=0,0,IF(גיליון3!AK138=גיליון2!AJ138,גיליון3!AK138,0))","v":0},{"$f":"IF(גיליון3!AK138>0,IF(גיליון3!AK138=AK138,AH138+1,AH138),AH138)","v":0},null,{"$f":"IF(גיליון3!AM138>0,D138/(AL138+1),0)","v":0},{"$f":"IF(גיליון3!AO138=0,0,IF(גיליון3!AO138=גיליון2!AN138,גיליון3!AO138,0))","v":0},{"$f":"IF(גיליון3!AO138>0,IF(גיליון3!AO138=AO138,AL138+1,AL138),AL138)","v":0},null,{"$f":"IF(גיליון3!AQ138>0,D138/(AP138+1),0)","v":0},{"$f":"IF(גיליון3!AS138=0,0,IF(גיליון3!AS138=גיליון2!AR138,גיליון3!AS138,0))","v":0},{"$f":"IF(גיליון3!AS138>0,IF(גיליון3!AS138=AS138,AP138+1,AP138),AP138)","v":0}]
[{"$f":"A39","v":0},0,null,0,null,0,null,{"$f":"IF(גיליון3!G139>0,D139/(F139+1),0)","v":0},{"$f":"IF(גיליון3!I139=0,0,IF(גיליון3!I139=גיליון2!H139,גיליון3!I139,0))","v":0},{"$f":"IF(גיליון3!I139>0,IF(גיליון3!I139=I139,F139+1,F139),F139)","v":0},null,{"$f":"IF(גיליון3!K139>0,D139/(J139+1),0)","v":0},{"$f":"IF(גיליון3!M139=0,0,IF(גיליון3!M139=גיליון2!L139,גיליון3!M139,0))","v":0},{"$f":"IF(גיליון3!M139>0,IF(גיליון3!M139=M139,J139+1,J139),J139)","v":0},null,{"$f":"IF(גיליון3!O139>0,D139/(N139+1),0)","v":0},{"$f":"IF(גיליון3!Q139=0,0,IF(גיליון3!Q139=גיליון2!P139,גיליון3!Q139,0))","v":0},{"$f":"IF(גיליון3!Q139>0,IF(גיליון3!Q139=Q139,N139+1,N139),N139)","v":0},null,{"$f":"IF(גיליון3!S139>0,D139/(R139+1),0)","v":0},{"$f":"IF(גיליון3!U139=0,0,IF(גיליון3!U139=גיליון2!T139,גיליון3!U139,0))","v":0},{"$f":"IF(גיליון3!U139>0,IF(גיליון3!U139=U139,R139+1,R139),R139)","v":0},null,{"$f":"IF(גיליון3!W139>0,D139/(V139+1),0)","v":0},{"$f":"IF(גיליון3!Y139=0,0,IF(גיליון3!Y139=גיליון2!X139,גיליון3!Y139,0))","v":0},{"$f":"IF(גיליון3!Y139>0,IF(גיליון3!Y139=Y139,V139+1,V139),V139)","v":0},null,{"$f":"IF(גיליון3!AA139>0,D139/(Z139+1),0)","v":0},{"$f":"IF(גיליון3!AC139=0,0,IF(גיליון3!AC139=גיליון2!AB139,גיליון3!AC139,0))","v":0},{"$f":"IF(גיליון3!AC139>0,IF(גיליון3!AC139=AC139,Z139+1,Z139),Z139)","v":0},null,{"$f":"IF(גיליון3!AE139>0,D139/(AD139+1),0)","v":0},{"$f":"IF(גיליון3!AG139=0,0,IF(גיליון3!AG139=גיליון2!AF139,גיליון3!AG139,0))","v":0},{"$f":"IF(גיליון3!AG139>0,IF(גיליון3!AG139=AG139,AD139+1,AD139),AD139)","v":0},null,{"$f":"IF(גיליון3!AI139>0,D139/(AH139+1),0)","v":0},{"$f":"IF(גיליון3!AK139=0,0,IF(גיליון3!AK139=גיליון2!AJ139,גיליון3!AK139,0))","v":0},{"$f":"IF(גיליון3!AK139>0,IF(גיליון3!AK139=AK139,AH139+1,AH139),AH139)","v":0},null,{"$f":"IF(גיליון3!AM139>0,D139/(AL139+1),0)","v":0},{"$f":"IF(גיליון3!AO139=0,0,IF(גיליון3!AO139=גיליון2!AN139,גיליון3!AO139,0))","v":0},{"$f":"IF(גיליון3!AO139>0,IF(גיליון3!AO139=AO139,AL139+1,AL139),AL139)","v":0},null,{"$f":"IF(גיליון3!AQ139>0,D139/(AP139+1),0)","v":0},{"$f":"IF(גיליון3!AS139=0,0,IF(גיליון3!AS139=גיליון2!AR139,גיליון3!AS139,0))","v":0},{"$f":"IF(גיליון3!AS139>0,IF(גיליון3!AS139=AS139,AP139+1,AP139),AP139)","v":0}]
[{"$f":"A40","v":"סה\"כ"},3986855,null,3827515,null,{"$f":"SUM(F102:F139)","v":114},{"$nulls":3},{"$f":"SUM(J102:J139)","v":115},{"$nulls":3},{"$f":"SUM(N102:N139)","v":116},{"$nulls":3},{"$f":"SUM(R102:R139)","v":117},{"$nulls":3},{"$f":"SUM(V102:V139)","v":118},{"$nulls":3},{"$f":"SUM(Z102:Z139)","v":119},{"$nulls":3},{"$f":"SUM(AD102:AD139)","v":120},{"$nulls":3},{"$f":"SUM(AH102:AH139)","v":120},{"$nulls":3},{"$f":"SUM(AL102:AL139)","v":120},{"$nulls":3},{"$f":"SUM(AP102:AP139)","v":120},{"$nulls":3},{"$f":"SUM(AT102:AT139)","v":120}]

{"sheet":"גיליון3","index":2,"n_rows":139,"n_cols":48,"rows_kept":139}
[]
[{"$nulls":3},{"$f":"גיליון2!C3","v":129572.7875},{"$nulls":3},{"$f":"גיליון2!E2","v":31895.958333333332},null,{"$f":"גיליון1!H2-גיליון2!I40","v":6},null,{"$f":"MAX(גיליון2!K2:K39)","v":32761.916666666668},null,{"$f":"גיליון1!H2-גיליון2!M40","v":5},null,{"$f":"MAX(גיליון2!O2:O39)","v":32118.60714285714},null,{"$f":"גיליון1!H2-גיליון2!Q40","v":4},null,{"$f":"MAX(גיליון2!S2:S39)","v":31876.45945945946},null,{"$f":"גיליון1!H2-גיליון2!U40","v":3},null,{"$f":"MAX(גיליון2!W2:W39)","v":31709.272727272728},null,{"$f":"גיליון1!H2-גיליון2!Y40","v":2},null,{"$f":"MAX(גיליון2!AA2:AA39)","v":31259.0625},null,{"$f":"גיליון1!H2-גיליון2!AC40","v":1},null,{"$f":"MAX(גיליון2!AE2:AE39)","v":31163.285714285714},null,{"$f":"גיליון1!H2-גיליון2!AG40","v":0},null,{"$f":"MAX(גיליון2!AI2:AI39)","v":0},null,{"$f":"גיליון1!H2-גיליון2!AK40","v":0},null,{"$f":"MAX(גיליון2!AM2:AM39)","v":0},null,{"$f":"גיליון1!H2-גיליון2!AO40","v":0},null,{"$f":"MAX(גיליון2!AQ2:AQ39)","v":0},null,{"$f":"גיליון1!H2-גיליון2!AS40","v":0},null,{"$f":"MAX(גיליון2!AU2:AU39)","v":0}]
[{"$nulls":3},{"$f":"D2","v":129572.7875},{"$nulls":3},{"$f":"H2","v":31895.958333333332},null,{"$f":"J2","v":6},null,{"$f":"L2","v":32761.916666666668},null,{"$f":"N2","v":5},null,{"$f":"P2","v":32118.60714285714},null,{"$f":"R2","v":4},null,{"$f":"T2","v":31876.45945945946},null,{"$f":"V2","v":3},null,{"$f":"X2","v":31709.272727272728},null,{"$f":"Z2","v":2},null,{"$f":"AB2","v":31259.0625},null,{"$f":"AD2","v":1},null,{"$f":"AF2","v":31163.285714285714},null,{"$f":"AH2","v":0},null,{"$f":"AJ2","v":0},null,{"$f":"AL2","v":0},null,{"$f":"AN2","v":0},null,{"$f":"AP2","v":0},null,{"$f":"AR2","v":0},null,{"$f":"AT2","v":0},null,{"$f":"AV2","v":0}]
[{"$nulls":3},129572.7875,{"$nulls":3},31895.958333333332,null,6,null,32761.916666666668,null,5,null,32118.60714285714,null,4,null,31876.45945945946,null,3,null,31709.272727272728,null,2,null,31259.0625,null,1,null,31163.285714285714,null,0,null,0,null,0,null,0,null,0,null,0,null,0,null,0]
[{"$nulls":3},129572.7875,{"$nulls":3},31895.958333333332,null,6,null,32761.916666666668,null,5,null,32118.60714285714,null,4,null,31876.45945945946,null,3,null,31709.272727272728,null,2,null,31259.0625,null,1,null,31163.285714285714,null,0,null,0,null,0,null,0,null,0,null,0,null,0,null,0]
[{"$nulls":3},129572.7875,{"$nulls":3},31895.958333333332,null,6,null,32761.916666666668,null,5,null,32118.60714285714,null,4,null,31876.45945945946,null,3,null,31709.272727272728,null,2,null,31259.0625,null,1,null,31163.285714285714,null,0,null,0,null,0,null,0,null,0,null,0,null,0,null,0]
[{"$nulls":3},129572.7875,{"$nulls":3},31895.958333333332,null,6,null,32761.916666666668,null,5,null,32118.60714285714,null,4,null,31876.45945945946,null,3,null,31709.272727272728,null,2,null,31259.0625,null,1,null,31163.285714285714,null,0,null,0,null,0,null,0,null,0,null,0,null,0,null,0]
[{"$nulls":3},129572.7875,{"$nulls":3},31895.958333333332,null,6,null,32761.916666666668,null,5,null,32118.60714285714,null,4,null,31876.45945945946,null,3,null,31709.272727272728,null,2,null,31259.0625,null,1,null,31163.285714285714,null,0,null,0,null,0,null,0,null,0,null,0,null,0,null,0]
[{"$nulls":3},129572.7875,{"$nulls":3},31895.958333333332,null,6,null,32761.916666666668,null,5,null,32118.60714285714,null,4,null,31876.45945945946,null,3,null,31709.272727272728,null,2,null,31259.0625,null,1,null,31163.285714285714,null,0,null,0,null,0,null,0,null,0,null,0,null,0,null,0]
[{"$nulls":3},129572.7875,{"$nulls":3},31895.958333333332,null,6,null,32761.916666666668,null,5,null,32118.60714285714,null,4,null,31876.45945945946,null,3,null,31709.272727272728,null,2,null,31259.0625,null,1,null,31163.285714285714,null,0,null,0,null,0,null,0,null,0,null,0,null,0,null,0]
[{"$nulls":3},129572.7875,{"$nulls":3},31895.958333333332,null,6,null,32761.916666666668,null,5,null,32118.60714285714,null,4,null,31876.45945945946,null,3,null,31709.272727272728,null,2,null,31259.0625,null,1,null,31163.285714285714,null,0,null,0,null,0,null,0,null,0,null,0,null,0,null,0]
[{"$nulls":3},129572.7875,{"$nulls":3},31895.958333333332,null,6,null,32761.916666666668,null,5,null,32118.60714285714,null,4,null,31876.45945945946,null,3,null,31709.272727272728,null,2,null,31259.0625,null,1,null,31163.285714285714,null,0,null,0,null,0,null,0,null,0,null,0,null,0,null,0]
[{"$nulls":3},129572.7875,{"$nulls":3},31895.958333333332,null,6,null,32761.916666666668,null,5,null,32118.60714285714,null,4,null,31876.45945945946,null,3,null,31709.272727272728,null,2,null,31259.0625,null,1,null,31163.285714285714,null,0,null,0,null,0,null,0,null,0,null,0,null,0,null,0]
[{"$nulls":3},129572.7875,{"$nulls":3},31895.958333333332,null,6,null,32761.916666666668,null,5,null,32118.60714285714,null,4,null,31876.45945945946,null,3,null,31709.272727272728,null,2,null,31259.0625,null,1,null,31163.285714285714,null,0,null,0,null,0,null,0,null,0,null,0,null,0,null,0]
[{"$nulls":3},129572.7875,{"$nulls":3},31895.958333333332,null,6,null,32761.916666666668,null,5,null,32118.60714285714,null,4,null,31876.45945945946,null,3,null,31709.272727272728,null,2,null,31259.0625,null,1,null,31163.285714285714,null,0,null,0,null,0,null,0,null,0,null,0,null,0,null,0]
[{"$nulls":3},129572.7875,{"$nulls":3},31895.958333333332,null,6,null,32761.916666666668,null,5,null,32118.60714285714,null,4,null,31876.45945945946,null,3,null,31709.272727272728,null,2,null,31259.0625,null,1,null,31163.285714285714,null,0,null,0,null,0,null,0,null,0,null,0,null,0,null,0]
[{"$nulls":3},129572.7875,{"$nulls":3},31895.958333333332,null,6,null,32761.916666666668,null,5,null,32118.60714285714,null,4,null,31876.45945945946,null,3,null,31709.272727272728,null,2,null,31259.0625,null,1,null,31163.285714285714,null,0,null,0,null,0,null,0,null,0,null,0,null,0,null,0]
[{"$nulls":3},129572.7875,{"$nulls":3},31895.958333333332,null,6,null,32761.916666666668,null,5,null,32118.60714285714,null,4,null,31876.45945945946,null,3,null,31709.272727272728,null,2,null,31259.0625,null,1,null,31163.285714285714,null,0,null,0,null,0,null,0,null,0,null,0,null,0,null,0]
[{"$nulls":3},129572.7875,{"$nulls":3},31895.958333333332,null,6,null,32761.916666666668,null,5,null,32118.60714285714,null,4,null,31876.45945945946,null,3,null,31709.272727272728,null,2,null,31259.0625,null,1,null,31163.285714285714,null,0,null,0,null,0,null,0,null,0,null,0,null,0,null,0]
[{"$nulls":3},129572.7875,{"$nulls":3},31895.958333333332,null,6,null,32761.916666666668,null,5,null,32118.60714285714,null,4,null,31876.45945945946,null,3,null,31709.272727272728,null,2,null,31259.0625,null,1,null,31163.285714285714,null,0,null,0,null,0,null,0,null,0,null,0,null,0,null,0]
[{"$nulls":3},129572.7875,{"$nulls":3},31895.958333333332,null,6,null,32761.916666666668,null,5,null,32118.60714285714,null,4,null,31876.45945945946,null,3,null,31709.272727272728,null,2,null,31259.0625,null,1,null,31163.285714285714,null,0,null,0,null,0,null,0,null,0,null,0,null,0,null,0]
[{"$nulls":3},129572.7875,{"$nulls":3},31895.958333333332,null,6,null,32761.916666666668,null,5,null,32118.60714285714,null,4,null,31876.45945945946,null,3,null,31709.272727272728,null,2,null,31259.0625,null,1,null,31163.285714285714,null,0,null,0,null,0,null,0,null,0,null,0,null,0,null,0]
[{"$nulls":3},129572.7875,{"$nulls":3},31895.958333333332,null,6,null,32761.916666666668,null,5,null,32118.60714285714,null,4,null,31876.45945945946,null,3,null,31709.272727272728,null,2,null,31259.0625,null,1,null,31163.285714285714,null,0,null,0,null,0,null,0,null,0,null,0,null,0,null,0]
[{"$nulls":3},129572.7875,{"$nulls":3},31895.958333333332,null,6,null,32761.916666666668,null,5,null,32118.60714285714,null,4,null,31876.45945945946,null,3,null,31709.272727272728,null,2,null,31259.0625,null,1,null,31163.285714285714,null,0,null,0,null,0,null,0,null,0,null,0,null,0,null,0]
[{"$nulls":3},129572.7875,{"$nulls":3},31895.958333333332,null,6,null,32761.916666666668,null,5,null,32118.60714285714,null,4,null,31876.45945945946,null,3,null,31709.272727272728,null,2,null,31259.0625,null,1,null,31163.285714285714,null,0,null,0,null,0,null,0,null,0,null,0,null,0,null,0]
[{"$nulls":3},129572.7875,{"$nulls":3},31895.958333333332,null,6,null,32761.916666666668,null,5,null,32118.60714285714,null,4,null,31876.45945945946,null,3,null,31709.272727272728,null,2,null,31259.0625,null,1,null,31163.285714285714,null,0,null,0,null,0,null,0,null,0,null,0,null,0,null,0]
[{"$nulls":3},129572.7875,{"$nulls":3},31895.958333333332,null,6,null,32761.916666666668,null,5,null,32118.60714285714,null,4,null,31876.45945945946,null,3,null,31709.272727272728,null,2,null,31259.0625,null,1,null,31163.285714285714,null,0,null,0,null,0,null,0,null,0,null,0,null,0,null,0]
[{"$nulls":3},129572.7875,{"$nulls":3},31895.958333333332,null,6,null,32761.916666666668,null,5,null,32118.60714285714,null,4,null,31876.45945945946,null,3,null,31709.272727272728,null,2,null,31259.0625,null,1,null,31163.285714285714,null,0,null,0,null,0,null,0,null,0,null,0,null,0,null,0]
[{"$nulls":3},129572.7875,{"$nulls":3},31895.958333333332,null,6,null,32761.916666666668,null,5,null,32118.60714285714,null,4,null,31876.45945945946,null,3,null,31709.272727272728,null,2,null,31259.0625,null,1,null,31163.285714285714,null,0,null,0,null,0,null,0,null,0,null,0,null,0,null,0]
[{"$nulls":3},129572.7875,{"$nulls":3},31895.958333333332,null,6,null,32761.916666666668,null,5,null,32118.60714285714,null,4,null,31876.45945945946,null,3,null,31709.272727272728,null,2,null,31259.0625,null,1,null,31163.285714285714,null,0,null,0,null,0,null,0,null,0,null,0,null,0,null,0]
[{"$nulls":3},129572.7875,{"$nulls":3},31895.958333333332,null,6,null,32761.916666666668,null,5,null,32118.60714285714,null,4,null,31876.45945945946,null,3,null,31709.272727272728,null,2,null,31259.0625,null,1,null,31163.285714285714,null,0,null,0,null,0,null,0,null,0,null,0,null,0,null,0]
[{"$nulls":3},129572.7875,{"$nulls":3},31895.958333333332,null,6,null,32761.916666666668,null,5,null,32118.60714285714,null,4,null,31876.45945945946,null,3,null,31709.272727272728,null,2,null,31259.0625,null,1,null,31163.285714285714,null,0,null,0,null,0,null,0,null,0,null,0,null,0,null,0]
[{"$nulls":3},129572.7875,{"$nulls":3},31895.958333333332,null,6,null,32761.916666666668,null,5,null,32118.60714285714,null,4,null,31876.45945945946,null,3,null,31709.272727272728,null,2,null,31259.0625,null,1,null,31163.285714285714,null,0,null,0,null,0,null,0,null,0,null,0,null,0,null,0]
[{"$nulls":3},129572.7875,{"$nulls":3},31895.958333333332,null,6,null,32761.916666666668,null,5,null,32118.60714285714,null,4,null,31876.45945945946,null,3,null,31709.272727272728,null,2,null,31259.0625,null,1,null,31163.285714285714,null,0,null,0,null,0,null,0,null,0,null,0,null,0,null,0]
[{"$nulls":3},129572.7875,{"$nulls":3},31895.958333333332,null,6,null,32761.916666666668,null,5,null,32118.60714285714,null,4,null,31876.45945945946,null,3,null,31709.272727272728,null,2,null,31259.0625,null,1,null,31163.285714285714,null,0,null,0,null,0,null,0,null,0,null,0,null,0,null,0]
[{"$nulls":3},129572.7875,{"$nulls":3},31895.958333333332,null,6,null,32761.916666666668,null,5,null,32118.60714285714,null,4,null,31876.45945945946,null,3,null,31709.272727272728,null,2,null,31259.0625,null,1,null,31163.285714285714,null,0,null,0,null,0,null,0,null,0,null,0,null,0,null,0]
[{"$nulls":3},129572.7875,{"$nulls":3},31895.958333333332,null,6,null,32761.916666666668,null,5,null,32118.60714285714,null,4,null,31876.45945945946,null,3,null,31709.272727272728,null,2,null,31259.0625,null,1,null,31163.285714285714,null,0,null,0,null,0,null,0,null,0,null,0,null,0,null,0]
[{"$nulls":3},129572.7875,{"$nulls":3},31895.958333333332,null,6,null,32761.916666666668,null,5,null,32118.60714285714,null,4,null,31876.45945945946,null,3,null,31709.272727272728,null,2,null,31259.0625,null,1,null,31163.285714285714,null,0,null,0,null,0,null,0,null,0,null,0,null,0,null,0]
[{"$nulls":3},129572.7875,{"$nulls":3},31895.958333333332,null,6,null,32761.916666666668,null,5,null,32118.60714285714,null,4,null,31876.45945945946,null,3,null,31709.272727272728,null,2,null,31259.0625,null,1,null,31163.285714285714,null,0,null,0,null,0,null,0,null,0,null,0,null,0,null,0]
{"$rows_empty":12}
[{"$nulls":6},{"$f":"גיליון2!G52","v":6},null,{"$f":"MAX(גיליון2!H52:H89)","v":0.993203161842608},null,{"$f":"גיליון2!K52","v":5},null,{"$f":"MAX(גיליון2!L52:L89)","v":0.9841777236666616},null,{"$f":"גיליון2!O52","v":4},null,{"$f":"MAX(גיליון2!P52:P89)","v":0.9356174959471097},null,{"$f":"גיליון2!S52","v":3},null,{"$f":"MAX(גיליון2!T52:T89)","v":0.8485139836160016},null,{"$f":"גיליון2!W52","v":2},null,{"$f":"MAX(גיליון2!X52:X89)","v":0.5326249537885559},null,{"$f":"גיליון2!AA52","v":1},null,{"$f":"MAX(גיליון2!AB52:AB89)","v":0.44655344263837016},null,{"$f":"גיליון2!AE52","v":0},null,{"$f":"MAX(גיליון2!AF52:AF89)","v":0},null,{"$f":"גיליון2!AI52","v":0},null,{"$f":"MAX(גיליון2!AJ52:AJ89)","v":0},null,{"$f":"גיליון2!AM52","v":0},null,{"$f":"MAX(גיליון2!AN52:AN89)","v":0},null,{"$f":"גיליון2!AQ52","v":0},null,{"$f":"MAX(גיליון2!AR52:AR89)","v":0},null,{"$f":"גיליון2!AU52","v":0}]
[{"$nulls":6},{"$f":"G52","v":6},null,{"$f":"I52","v":0.993203161842608},null,{"$f":"K52","v":5},null,{"$f":"M52","v":0.9841777236666616},null,{"$f":"O52","v":4},null,{"$f":"Q52","v":0.9356174959471097},null,{"$f":"S52","v":3},null,{"$f":"U52","v":0.8485139836160016},null,{"$f":"W52","v":2},null,{"$f":"Y52","v":0.5326249537885559},null,{"$f":"AA52","v":1},null,{"$f":"AC52","v":0.44655344263837016},null,{"$f":"AE52","v":0},null,{"$f":"AG52","v":0},null,{"$f":"AI52","v":0},null,{"$f":"AK52","v":0},null,{"$f":"AM52","v":0},null,{"$f":"AO52","v":0},null,{"$f":"AQ52","v":0},null,{"$f":"AS52","v":0},null,{"$f":"AU52","v":0}]
[{"$nulls":6},6,null,0.993203161842608,null,5,null,0.9841777236666616,null,4,null,0.9356174959471097,null,3,null,0.8485139836160016,null,2,null,0.5326249537885559,null,1,null,0.44655344263837016,null,0,null,0,null,0,null,0,null,0,null,0,null,0,null,0,null,0]
[{"$nulls":6},6,null,0.993203161842608,null,5,null,0.9841777236666616,null,4,null,0.9356174959471097,null,3,null,0.8485139836160016,null,2,null,0.5326249537885559,null,1,null,0.44655344263837016,null,0,null,0,null,0,null,0,null,0,null,0,null,0,null,0,null,0]
[{"$nulls":6},6,null,0.993203161842608,null,5,null,0.9841777236666616,null,4,null,0.9356174959471097,null,3,null,0.8485139836160016,null,2,null,0.5326249537885559,null,1,null,0.44655344263837016,null,0,null,0,null,0,null,0,null,0,null,0,null,0,null,0,null,0]
[{"$nulls":6},6,null,0.993203161842608,null,5,null,0.9841777236666616,null,4,null,0.9356174959471097,null,3,null,0.8485139836160016,null,2,null,0.5326249537885559,null,1,null,0.44655344263837016,null,0,null,0,null,0,null,0,null,0,null,0,null,0,null,0,null,0]
[{"$nulls":6},6,null,0.993203161842608,null,5,null,0.9841777236666616,null,4,null,0.9356174959471097,null,3,null,0.8485139836160016,null,2,null,0.5326249537885559,null,1,null,0.44655344263837016,null,0,null,0,null,0,null,0,null,0,null,0,null,0,null,0,null,0]
[{"$nulls":6},6,null,0.993203161842608,null,5,null,0.9841777236666616,null,4,null,0.9356174959471097,null,3,null,0.8485139836160016,null,2,null,0.5326249537885559,null,1,null,0.44655344263837016,null,0,null,0,null,0,null,0,null,0,null,0,null,0,null,0,null,0]
[{"$nulls":6},6,null,0.993203161842608,null,5,null,0.9841777236666616,null,4,null,0.9356174959471097,null,3,null,0.8485139836160016,null,2,null,0.5326249537885559,null,1,null,0.44655344263837016,null,0,null,0,null,0,null,0,null,0,null,0,null,0,null,0,null,0]
[{"$nulls":6},6,null,0.993203161842608,null,5,null,0.9841777236666616,null,4,null,0.9356174959471097,null,3,null,0.8485139836160016,null,2,null,0.5326249537885559,null,1,null,0.44655344263837016,null,0,null,0,null,0,null,0,null,0,null,0,null,0,null,0,null,0]
[{"$nulls":6},6,null,0.993203161842608,null,5,null,0.9841777236666616,null,4,null,0.9356174959471097,null,3,null,0.8485139836160016,null,2,null,0.5326249537885559,null,1,null,0.44655344263837016,null,0,null,0,null,0,null,0,null,0,null,0,null,0,null,0,null,0]
[{"$nulls":6},6,null,0.993203161842608,null,5,null,0.9841777236666616,null,4,null,0.9356174959471097,null,3,null,0.8485139836160016,null,2,null,0.5326249537885559,null,1,null,0.44655344263837016,null,0,null,0,null,0,null,0,null,0,null,0,null,0,null,0,null,0]
[{"$nulls":6},6,null,0.993203161842608,null,5,null,0.9841777236666616,null,4,null,0.9356174959471097,null,3,null,0.8485139836160016,null,2,null,0.5326249537885559,null,1,null,0.44655344263837016,null,0,null,0,null,0,null,0,null,0,null,0,null,0,null,0,null,0]
[{"$nulls":6},6,null,0.993203161842608,null,5,null,0.9841777236666616,null,4,null,0.9356174959471097,null,3,null,0.8485139836160016,null,2,null,0.5326249537885559,null,1,null,0.44655344263837016,null,0,null,0,null,0,null,0,null,0,null,0,null,0,null,0,null,0]
[{"$nulls":6},6,null,0.993203161842608,null,5,null,0.9841777236666616,null,4,null,0.9356174959471097,null,3,null,0.8485139836160016,null,2,null,0.5326249537885559,null,1,null,0.44655344263837016,null,0,null,0,null,0,null,0,null,0,null,0,null,0,null,0,null,0]
[{"$nulls":6},6,null,0.993203161842608,null,5,null,0.9841777236666616,null,4,null,0.9356174959471097,null,3,null,0.8485139836160016,null,2,null,0.5326249537885559,null,1,null,0.44655344263837016,null,0,null,0,null,0,null,0,null,0,null,0,null,0,null,0,null,0]
[{"$nulls":6},6,null,0.993203161842608,null,5,null,0.9841777236666616,null,4,null,0.9356174959471097,null,3,null,0.8485139836160016,null,2,null,0.5326249537885559,null,1,null,0.44655344263837016,null,0,null,0,null,0,null,0,null,0,null,0,null,0,null,0,null,0]
[{"$nulls":6},6,null,0.993203161842608,null,5,null,0.9841777236666616,null,4,null,0.9356174959471097,null,3,null,0.8485139836160016,null,2,null,0.5326249537885559,null,1,null,0.44655344263837016,null,0,null,0,null,0,null,0,null,0,null,0,null,0,null,0,null,0]
[{"$nulls":6},6,null,0.993203161842608,null,5,null,0.9841777236666616,null,4,null,0.9356174959471097,null,3,null,0.8485139836160016,null,2,null,0.5326249537885559,null,1,null,0.44655344263837016,null,0,null,0,null,0,null,0,null,0,null,0,null,0,null,0,null,0]
[{"$nulls":6},6,null,0.993203161842608,null,5,null,0.9841777236666616,null,4,null,0.9356174959471097,null,3,null,0.8485139836160016,null,2,null,0.5326249537885559,null,1,null,0.44655344263837016,null,0,null,0,null,0,null,0,null,0,null,0,null,0,null,0,null,0]
[{"$nulls":6},6,null,0.993203161842608,null,5,null,0.9841777236666616,null,4,null,0.9356174959471097,null,3,null,0.8485139836160016,null,2,null,0.5326249537885559,null,1,null,0.44655344263837016,null,0,null,0,null,0,null,0,null,0,null,0,null,0,null,0,null,0]
[{"$nulls":6},6,null,0.993203161842608,null,5,null,0.9841777236666616,null,4,null,0.9356174959471097,null,3,null,0.8485139836160016,null,2,null,0.5326249537885559,null,1,null,0.44655344263837016,null,0,null,0,null,0,null,0,null,0,null,0,null,0,null,0,null,0]
[{"$nulls":6},6,null,0.993203161842608,null,5,null,0.9841777236666616,null,4,null,0.9356174959471097,null,3,null,0.8485139836160016,null,2,null,0.5326249537885559,null,1,null,0.44655344263837016,null,0,null,0,null,0,null,0,null,0,null,0,null,0,null,0,null,0]
[{"$nulls":6},6,null,0.993203161842608,null,5,null,0.9841777236666616,null,4,null,0.9356174959471097,null,3,null,0.8485139836160016,null,2,null,0.5326249537885559,null,1,null,0.44655344263837016,null,0,null,0,null,0,null,0,null,0,null,0,null,0,null,0,null,0]
[{"$nulls":6},6,null,0.993203161842608,null,5,null,0.9841777236666616,null,4,null,0.9356174959471097,null,3,null,0.8485139836160016,null,2,null,0.5326249537885559,null,1,null,0.44655344263837016,null,0,null,0,null,0,null,0,null,0,null,0,null,0,null,0,null,0]
[{"$nulls":6},6,null,0.993203161842608,null,5,null,0.9841777236666616,null,4,null,0.9356174959471097,null,3,null,0.8485139836160016,null,2,null,0.5326249537885559,null,1,null,0.44655344263837016,null,0,null,0,null,0,null,0,null,0,null,0,null,0,null,0,null,0]
[{"$nulls":6},6,null,0.993203161842608,null,5,null,0.9841777236666616,null,4,null,0.9356174959471097,null,3,null,0.8485139836160016,null,2,null,0.5326249537885559,null,1,null,0.44655344263837016,null,0,null,0,null,0,null,0,null,0,null,0,null,0,null,0,null,0]
[{"$nulls":6},6,null,0.993203161842608,null,5,null,0.9841777236666616,null,4,null,0.9356174959471097,null,3,null,0.8485139836160016,null,2,null,0.5326249537885559,null,1,null,0.44655344263837016,null,0,null,0,null,0,null,0,null,0,null,0,null,0,null,0,null,0]
[{"$nulls":6},6,null,0.993203161842608,null,5,null,0.9841777236666616,null,4,null,0.9356174959471097,null,3,null,0.8485139836160016,null,2,null,0.5326249537885559,null,1,null,0.44655344263837016,null,0,null,0,null,0,null,0,null,0,null,0,null,0,null,0,null,0]
[{"$nulls":6},6,null,0.993203161842608,null,5,null,0.9841777236666616,null,4,null,0.9356174959471097,null,3,null,0.8485139836160016,null,2,null,0.5326249537885559,null,1,null,0.44655344263837016,null,0,null,0,null,0,null,0,null,0,null,0,null,0,null,0,null,0]
[{"$nulls":6},6,null,0.993203161842608,null,5,null,0.9841777236666616,null,4,null,0.9356174959471097,null,3,null,0.8485139836160016,null,2,null,0.5326249537885559,null,1,null,0.44655344263837016,null,0,null,0,null,0,null,0,null,0,null,0,null,0,null,0,null,0]
[{"$nulls":6},6,null,0.993203161842608,null,5,null,0.9841777236666616,null,4,null,0.9356174959471097,null,3,null,0.8485139836160016,null,2,null,0.5326249537885559,null,1,null,0.44655344263837016,null,0,null,0,null,0,null,0,null,0,null,0,null,0,null,0,null,0]
[{"$nulls":6},6,null,0.993203161842608,null,5,null,0.9841777236666616,null,4,null,0.9356174959471097,null,3,null,0.8485139836160016,null,2,null,0.5326249537885559,null,1,null,0.44655344263837016,null,0,null,0,null,0,null,0,null,0,null,0,null,0,null,0,null,0]
[{"$nulls":6},6,null,0.993203161842608,null,5,null,0.9841777236666616,null,4,null,0.9356174959471097,null,3,null,0.8485139836160016,null,2,null,0.5326249537885559,null,1,null,0.44655344263837016,null,0,null,0,null,0,null,0,null,0,null,0,null,0,null,0,null,0]
[{"$nulls":6},6,null,0.993203161842608,null,5,null,0.9841777236666616,null,4,null,0.9356174959471097,null,3,null,0.8485139836160016,null,2,null,0.5326249537885559,null,1,null,0.44655344263837016,null,0,null,0,null,0,null,0,null,0,null,0,null,0,null,0,null,0]
[{"$nulls":6},6,null,0.993203161842608,null,5,null,0.9841777236666616,null,4,null,0.9356174959471097,null,3,null,0.8485139836160016,null,2,null,0.5326249537885559,null,1,null,0.44655344263837016,null,0,null,0,null,0,null,0,null,0,null,0,null,0,null,0,null,0]
[{"$nulls":6},6,null,0.993203161842608,null,5,null,0.9841777236666616,null,4,null,0.9356174959471097,null,3,null,0.8485139836160016,null,2,null,0.5326249537885559,null,1,null,0.44655344263837016,null,0,null,0,null,0,null,0,null,0,null,0,null,0,null,0,null,0]
[{"$nulls":6},6,null,0.993203161842608,null,5,null,0.9841777236666616,null,4,null,0.9356174959471097,null,3,null,0.8485139836160016,null,2,null,0.5326249537885559,null,1,null,0.44655344263837016,null,0,null,0,null,0,null,0,null,0,null,0,null,0,null,0,null,0]
{"$rows_empty":12}
[{"$nulls":6},{"$f":"גיליון2!G102","v":6},null,{"$f":"MAX(גיליון2!H102:H139)","v":31888.48275862069},null,{"$f":"גיליון2!K102","v":5},null,{"$f":"MAX(גיליון2!L102:L139)","v":31832.875},null,{"$f":"גיליון2!O102","v":4},null,{"$f":"MAX(גיליון2!P102:P139)","v":31709.272727272728},null,{"$f":"גיליון2!S102","v":3},null,{"$f":"MAX(גיליון2!T102:T139)","v":31028.041666666668},null,{"$f":"גיליון2!W102","v":2},null,{"$f":"MAX(גיליון2!X102:X139)","v":30929.6},null,{"$f":"גיליון2!AA102","v":1},null,{"$f":"MAX(גיליון2!AB102:AB139)","v":30902.133333333335},null,{"$f":"גיליון2!AE102","v":0},null,{"$f":"MAX(גיליון2!AF102:AF139)","v":0},null,{"$f":"גיליון2!AI102","v":0},null,{"$f":"MAX(גיליון2!AJ102:AJ139)","v":0},null,{"$f":"גיליון2!AM102","v":0},null,{"$f":"MAX(גיליון2!AN102:AN139)","v":0},null,{"$f":"גיליון2!AQ102","v":0},null,{"$f":"MAX(גיליון2!AR102:AR139)","v":0}]
[{"$nulls":6},{"$f":"G102","v":6},null,{"$f":"I102","v":31888.48275862069},null,{"$f":"K102","v":5},null,{"$f":"M102","v":31832.875},null,{"$f":"O102","v":4},null,{"$f":"Q102","v":31709.272727272728},null,{"$f":"S102","v":3},null,{"$f":"U102","v":31028.041666666668},null,{"$f":"W102","v":2},null,{"$f":"Y102","v":30929.6},null,{"$f":"AA102","v":1},null,{"$f":"AC102","v":30902.133333333335},null,{"$f":"AE102","v":0},null,{"$f":"AG102","v":0},null,{"$f":"AI102","v":0},null,{"$f":"AK102","v":0},null,{"$f":"AM102","v":0},null,{"$f":"AO102","v":0},null,{"$f":"AQ102","v":0},null,{"$f":"AS102","v":0}]
[{"$nulls":6},6,null,31888.48275862069,null,5,null,31832.875,null,4,null,31709.272727272728,null,3,null,31028.041666666668,null,2,null,30929.6,null,1,null,30902.133333333335,null,0,null,0,null,0,null,0,null,0,null,0,null,0,null,0]
[{"$nulls":6},6,null,31888.48275862069,null,5,null,31832.875,null,4,null,31709.272727272728,null,3,null,31028.041666666668,null,2,null,30929.6,null,1,null,30902.133333333335,null,0,null,0,null,0,null,0,null,0,null,0,null,0,null,0]
[{"$nulls":6},6,null,31888.48275862069,null,5,null,31832.875,null,4,null,31709.272727272728,null,3,null,31028.041666666668,null,2,null,30929.6,null,1,null,30902.133333333335,null,0,null,0,null,0,null,0,null,0,null,0,null,0,null,0]
[{"$nulls":6},6,null,31888.48275862069,null,5,null,31832.875,null,4,null,31709.272727272728,null,3,null,31028.041666666668,null,2,null,30929.6,null,1,null,30902.133333333335,null,0,null,0,null,0,null,0,null,0,null,0,null,0,null,0]
[{"$nulls":6},6,null,31888.48275862069,null,5,null,31832.875,null,4,null,31709.272727272728,null,3,null,31028.041666666668,null,2,null,30929.6,null,1,null,30902.133333333335,null,0,null,0,null,0,null,0,null,0,null,0,null,0,null,0]
[{"$nulls":6},6,null,31888.48275862069,null,5,null,31832.875,null,4,null,31709.272727272728,null,3,null,31028.041666666668,null,2,null,30929.6,null,1,null,30902.133333333335,null,0,null,0,null,0,null,0,null,0,null,0,null,0,null,0]
[{"$nulls":6},6,null,31888.48275862069,null,5,null,31832.875,null,4,null,31709.272727272728,null,3,null,31028.041666666668,null,2,null,30929.6,null,1,null,30902.133333333335,null,0,null,0,null,0,null,0,null,0,null,0,null,0,null,0]
[{"$nulls":6},6,null,31888.48275862069,null,5,null,31832.875,null,4,null,31709.272727272728,null,3,null,31028.041666666668,null,2,null,30929.6,null,1,null,30902.133333333335,null,0,null,0,null,0,null,0,null,0,null,0,null,0,null,0]
[{"$nulls":6},6,null,31888.48275862069,null,5,null,31832.875,null,4,null,31709.272727272728,null,3,null,31028.041666666668,null,2,null,30929.6,null,1,null,30902.133333333335,null,0,null,0,null,0,null,0,null,0,null,0,null,0,null,0]
[{"$nulls":6},6,null,31888.48275862069,null,5,null,31832.875,null,4,null,31709.272727272728,null,3,null,31028.041666666668,null,2,null,30929.6,null,1,null,30902.133333333335,null,0,null,0,null,0,null,0,null,0,null,0,null,0,null,0]
[{"$nulls":6},6,null,31888.48275862069,null,5,null,31832.875,null,4,null,31709.272727272728,null,3,null,31028.041666666668,null,2,null,30929.6,null,1,null,30902.133333333335,null,0,null,0,null,0,null,0,null,0,null,0,null,0,null,0]
[{"$nulls":6},6,null,31888.48275862069,null,5,null,31832.875,null,4,null,31709.272727272728,null,3,null,31028.041666666668,null,2,null,30929.6,null,1,null,30902.133333333335,null,0,null,0,null,0,null,0,null,0,null,0,null,0,null,0]
[{"$nulls":6},6,null,31888.48275862069,null,5,null,31832.875,null,4,null,31709.272727272728,null,3,null,31028.041666666668,null,2,null,30929.6,null,1,null,30902.133333333335,null,0,null,0,null,0,null,0,null,0,null,0,null,0,null,0]
[{"$nulls":6},6,null,31888.48275862069,null,5,null,31832.875,null,4,null,31709.272727272728,null,3,null,31028.041666666668,null,2,null,30929.6,null,1,null,30902.133333333335,null,0,null,0,null,0,null,0,null,0,null,0,null,0,null,0]
[{"$nulls":6},6,null,31888.48275862069,null,5,null,31832.875,null,4,null,31709.272727272728,null,3,null,31028.041666666668,null,2,null,30929.6,null,1,null,30902.133333333335,null,0,null,0,null,0,null,0,null,0,null,0,null,0,null,0]
[{"$nulls":6},6,null,31888.48275862069,null,5,null,31832.875,null,4,null,31709.272727272728,null,3,null,31028.041666666668,null,2,null,30929.6,null,1,null,30902.133333333335,null,0,null,0,null,0,null,0,null,0,null,0,null,0,null,0]
[{"$nulls":6},6,null,31888.48275862069,null,5,null,31832.875,null,4,null,31709.272727272728,null,3,null,31028.041666666668,null,2,null,30929.6,null,1,null,30902.133333333335,null,0,null,0,null,0,null,0,null,0,null,0,null,0,null,0]
[{"$nulls":6},6,null,31888.48275862069,null,5,null,31832.875,null,4,null,31709.272727272728,null,3,null,31028.041666666668,null,2,null,30929.6,null,1,null,30902.133333333335,null,0,null,0,null,0,null,0,null,0,null,0,null,0,null,0]
[{"$nulls":6},6,null,31888.48275862069,null,5,null,31832.875,null,4,null,31709.272727272728,null,3,null,31028.041666666668,null,2,null,30929.6,null,1,null,30902.133333333335,null,0,null,0,null,0,null,0,null,0,null,0,null,0,null,0]
[{"$nulls":6},6,null,31888.48275862069,null,5,null,31832.875,null,4,null,31709.272727272728,null,3,null,31028.041666666668,null,2,null,30929.6,null,1,null,30902.133333333335,null,0,null,0,null,0,null,0,null,0,null,0,null,0,null,0]
[{"$nulls":6},6,null,31888.48275862069,null,5,null,31832.875,null,4,null,31709.272727272728,null,3,null,31028.041666666668,null,2,null,30929.6,null,1,null,30902.133333333335,null,0,null,0,null,0,null,0,null,0,null,0,null,0,null,0]
[{"$nulls":6},6,null,31888.48275862069,null,5,null,31832.875,null,4,null,31709.272727272728,null,3,null,31028.041666666668,null,2,null,30929.6,null,1,null,30902.133333333335,null,0,null,0,null,0,null,0,null,0,null,0,null,0,null,0]
[{"$nulls":6},6,null,31888.48275862069,null,5,null,31832.875,null,4,null,31709.272727272728,null,3,null,31028.041666666668,null,2,null,30929.6,null,1,null,30902.133333333335,null,0,null,0,null,0,null,0,null,0,null,0,null,0,null,0]
[{"$nulls":6},6,null,31888.48275862069,null,5,null,31832.875,null,4,null,31709.272727272728,null,3,null,31028.041666666668,null,2,null,30929.6,null,1,null,30902.133333333335,null,0,null,0,null,0,null,0,null,0,null,0,null,0,null,0]
[{"$nulls":6},6,null,31888.48275862069,null,5,null,31832.875,null,4,null,31709.272727272728,null,3,null,31028.041666666668,null,2,null,30929.6,null,1,null,30902.133333333335,null,0,null,0,null,0,null,0,null,0,null,0,null,0,null,0]
[{"$nulls":6},6,null,31888.48275862069,null,5,null,31832.875,null,4,null,31709.272727272728,null,3,null,31028.041666666668,null,2,null,30929.6,null,1,null,30902.133333333335,null,0,null,0,null,0,null,0,null,0,null,0,null,0,null,0]
[{"$nulls":6},6,null,31888.48275862069,null,5,null,31832.875,null,4,null,31709.272727272728,null,3,null,31028.041666666668,null,2,null,30929.6,null,1,null,30902.133333333335,null,0,null,0,null,0,null,0,null,0,null,0,null,0,null,0]
[{"$nulls":6},6,null,31888.48275862069,null,5,null,31832.875,null,4,null,31709.272727272728,null,3,null,31028.041666666668,null,2,null,30929.6,null,1,null,30902.133333333335,null,0,null,0,null,0,null,0,null,0,null,0,null,0,null,0]
[{"$nulls":6},6,null,31888.48275862069,null,5,null,31832.875,null,4,null,31709.272727272728,null,3,null,31028.041666666668,null,2,null,30929.6,null,1,null,30902.133333333335,null,0,null,0,null,0,null,0,null,0,null,0,null,0,null,0]
[{"$nulls":6},6,null,31888.48275862069,null,5,null,31832.875,null,4,null,31709.272727272728,null,3,null,31028.041666666668,null,2,null,30929.6,null,1,null,30902.133333333335,null,0,null,0,null,0,null,0,null,0,null,0,null,0,null,0]
[{"$nulls":6},6,null,31888.48275862069,null,5,null,31832.875,null,4,null,31709.272727272728,null,3,null,31028.041666666668,null,2,null,30929.6,null,1,null,30902.133333333335,null,0,null,0,null,0,null,0,null,0,null,0,null,0,null,0]
[{"$nulls":6},6,null,31888.48275862069,null,5,null,31832.875,null,4,null,31709.272727272728,null,3,null,31028.041666666668,null,2,null,30929.6,null,1,null,30902.133333333335,null,0,null,0,null,0,null,0,null,0,null,0,null,0,null,0]
[{"$nulls":6},6,null,31888.48275862069,null,5,null,31832.875,null,4,null,31709.272727272728,null,3,null,31028.041666666668,null,2,null,30929.6,null,1,null,30902.133333333335,null,0,null,0,null,0,null,0,null,0,null,0,null,0,null,0]
[{"$nulls":6},6,null,31888.48275862069,null,5,null,31832.875,null,4,null,31709.272727272728,null,3,null,31028.041666666668,null,2,null,30929.6,null,1,null,30902.133333333335,null,0,null,0,null,0,null,0,null,0,null,0,null,0,null,0]
[{"$nulls":6},6,null,31888.48275862069,null,5,null,31832.875,null,4,null,31709.272727272728,null,3,null,31028.041666666668,null,2,null,30929.6,null,1,null,30902.133333333335,null,0,null,0,null,0,null,0,null,0,null,0,null,0,null,0]
[{"$nulls":6},6,null,31888.48275862069,null,5,null,31832.875,null,4,null,31709.272727272728,null,3,null,31028.041666666668,null,2,null,30929.6,null,1,null,30902.133333333335,null,0,null,0,null,0,null,0,null,0,null,0,null,0,null,0]