{"text_format":"3","workbook":"xlsx","n_sheets":5,"sheets":["גיליון4","גיליון2","גיליון3","גיליון5","גיליון6"],"read":"whole","date_system":"1900"}

{"sheet":"גיליון4","index":0,"n_rows":6,"n_cols":10,"rows_kept":6,"merged":[[1,0,5,0]]}
[null,null,"גודל","נטית ציר הX","נטית ציר הY","X","Y","Z","סטית מרכז"," "]
[null,"עיגול גדול",12,0,10,0,{"$f":"COS(RADIANS(E2))*I$2","v":0.984807753012208},{"$f":"SIN(RADIANS(E2))*I$2","v":0.17364817766693033},1]
[null,"עיגול קטן 1",2,0,0,{"$f":"SQRT((C2/2)^2-G2^2)","v":5.918627686348167},0,0]
[null,"עיגול קטן 2",{"$f":"C3","v":2},0,0,{"$f":"-SQRT((C2/2)^2-G2^2)","v":-5.918627686348167},0,0]
[null,"עיגול קטן 3",{"$f":"C4","v":2},0,-20,0,{"$f":"COS(RADIANS(E2))*(C2/2+I2)","v":6.893654271085456},{"$f":"SIN(RADIANS(E2))*(C2/2+I2)","v":1.2155372436685123}]
[null,"עיגול קטן 4",{"$f":"C5","v":2},0,{"$f":"-E5","v":20},0,{"$f":"COS(RADIANS(E2))*(-C2/2+I2)","v":-4.92403876506104},{"$f":"SIN(RADIANS(E2))*(-C2/2+I2)","v":-0.8682408883346516}]

{"sheet":"גיליון2","index":1,"n_rows":3,"n_cols":9,"rows_kept":3,"merged":[[1,0,2,0]]}
[null,null,"גודל","נטית ציר הX","נטית ציר הY","X","Y","Z","סטית מרכז"]
[null,"עיגול גדול",{"$f":"גיליון4!C2","v":12},0,{"$f":"גיליון4!E2","v":10},0,{"$f":"COS(RADIANS(E2))*I$2","v":0.984807753012208},{"$f":"SIN(RADIANS(E2))*I$2","v":0.17364817766693033},1]
[null,"עיגול קטן",{"$f":"גיליון4!C3","v":2},15,0,0,{"$f":"COS(RADIANS(E2))*(C2/2+I$2)","v":6.893654271085456},{"$f":"SIN(RADIANS(E2))*(C2/2+I$2)","v":1.2155372436685123}]

{"sheet":"גיליון3","index":2,"n_rows":3,"n_cols":8,"rows_kept":3,"merged":[[1,0,2,0]]}
[null,null,"גודל","נטית ציר הX","נטית ציר הY","X","Y","Z"]
[null,"עיגול גדול",{"$f":"גיליון4!C2","v":12},0,{"$f":"-גיליון2!E2","v":-10},0,{"$f":"COS(RADIANS(E2))*גיליון2!I2","v":0.984807753012208},{"$f":"SIN(RADIANS(E2))*גיליון2!I2","v":-0.17364817766693033}]
[null,"עיגול קטן",{"$f":"גיליון4!C3","v":2},{"$f":"-גיליון2!D3","v":-15},0,0,{"$f":"COS(RADIANS(E2))*(-C2/2+גיליון2!I2)","v":-4.92403876506104},{"$f":"SIN(RADIANS(E2))*(-C2/2+גיליון2!I2)","v":0.8682408883346516}]

{"sheet":"גיליון5","index":3,"n_rows":4,"n_cols":8,"rows_kept":4,"merged":[[1,0,3,0]]}
[null,null,"גודל","נטית ציר הX","נטית ציר הY","X","Y","Z"]
[null,"עיגול גדול",{"$f":"גיליון2!C2","v":12},0,0,0,{"$f":"COS(RADIANS(E2))*גיליון2!I2","v":1},{"$f":"SIN(RADIANS(E2))*גיליון2!I2","v":0}]
[null,"עיגול קטן 1",{"$f":"גיליון2!C3","v":2},25,0,{"$f":"SQRT((C2/2)^2-G2^2)","v":5.916079783099616},0,0]
[null,"עיגול קטן 2",{"$f":"C3","v":2},{"$f":"D3","v":25},0,{"$f":"-SQRT((C2/2)^2-G2^2)","v":-5.916079783099616},0,0]

{"sheet":"גיליון6","index":4,"n_rows":16,"n_cols":9,"rows_kept":16,"hidden":true,"merged":[[1,0,5,0],[7,0,15,0]]}
[null,null,"גודל","נטית ציר הX","נטית ציר הY","X","Y","Z","סטית מרכז"]
["צדק, מאדים, שבתאי","עיגול גדול",12,0,10,0,{"$f":"COS(RADIANS(E2))*I$2","v":0.984807753012208},{"$f":"SIN(RADIANS(E2))*I$2","v":0.17364817766693033},1]
[null,"עיגול קטן 1",2,0,0,{"$f":"SQRT((C2/2)^2-G2^2)","v":5.918627686348167},0,0]
[null,"עיגול קטן 2",{"$f":"C3","v":2},0,0,{"$f":"-SQRT((C2/2)^2-G2^2)","v":-5.918627686348167},0,0]
[null,"עיגול קטן 3",{"$f":"C4","v":2},0,-20,0,{"$f":"COS(RADIANS(E2))*(C2/2+I2)","v":6.893654271085456},{"$f":"SIN(RADIANS(E2))*(C2/2+I2)","v":1.2155372436685123}]
[null,"עיגול קטן 4",{"$f":"C5","v":2},0,{"$f":"-E5","v":20},0,{"$f":"COS(RADIANS(E2))*(-C2/2+I2)","v":-4.92403876506104},{"$f":"SIN(RADIANS(E2))*(-C2/2+I2)","v":-0.8682408883346516}]
[]
["נוגה וכוכב חמה","עיגול גדול",{"$f":"C2","v":12},0,{"$f":"E2","v":10},0,{"$f":"COS(RADIANS(E8))*I$8","v":0.984807753012208},{"$f":"SIN(RADIANS(E8))*I$8","v":0.17364817766693033},1]
[null,"עיגול קטן 1",{"$f":"C3","v":2},15,0,0,{"$f":"COS(RADIANS(E8))*(C8/2+I$8)","v":6.893654271085456},{"$f":"SIN(RADIANS(E8))*(C8/2+I$8)","v":1.2155372436685123}]
[]
[null,"עיגול גדול",{"$f":"C8","v":12},0,{"$f":"-E8","v":-10},0,{"$f":"COS(RADIANS(E11))*I$8","v":0.984807753012208},{"$f":"SIN(RADIANS(E11))*I$8","v":-0.17364817766693033}]
[null,"עיגול קטן 2",{"$f":"C9","v":2},{"$f":"D9","v":15},0,0,{"$f":"COS(RADIANS(E11))*(-C11/2+I$8)","v":-4.92403876506104},{"$f":"SIN(RADIANS(E11))*(-C11/2+I$8)","v":0.8682408883346516}]
[]
[null,"עיגול גדול",{"$f":"C8","v":12},0,0,0,{"$f":"COS(RADIANS(E14))*I$8","v":1},{"$f":"SIN(RADIANS(E14))*I$8","v":0}]
[null,"עיגול קטן 3",{"$f":"C12","v":2},25,0,{"$f":"SQRT((C14/2)^2-G14^2)","v":5.916079783099616},0,0]
[null,"עיגול קטן 4",{"$f":"C12","v":2},{"$f":"D15","v":25},0,{"$f":"-SQRT((C14/2)^2-G14^2)","v":-5.916079783099616},0,0]